{"text_format":"1","workbook":"xlsx","n_sheets":8,"sheets":["Base Maestra","Instructivo","Resumen de Calidad","XX.ACRONIMO-2025","Notas 2025","1.Codificación Espacio Temporal","2.Catálogo CAES IE&D","3.Catálogo COG"],"not_rendered":{"charts":0,"images":1,"macros":1,"external_links":0,"defined_names":39,"comments":0,"pivot_tables":0},"unopened":[],"bounds":{"document_bytes":16777216,"sheet_cells":100000,"rows_first":2000,"rows_last":500,"rows_between":2000,"halvings":0,"cell_chars":16384,"cell_head_chars":4096},"cells_cut":0,"cells_raw":0,"read":"whole","date_system":"1900"}

{"sheet":"Base Maestra","index":0,"n_rows":535,"n_cols":15,"rows_kept":535,"cut":false,"hidden":true,"merged":[[40,0,40,2],[40,5,40,6],[2,8,2,12]]}
["Cuenta Pública 2024"]
["Miles de Pesos "]
[null,null,null,null,null,null,null,null,"Matriz de gasto 2025"]
["Cve_Ins","Institución","Descripción","A21","A26","A27","A34","Total ","A21","A26","A27","A34","Total"]
[109,"UAA","Universidad Autónoma de Aguascalientes ",4954.8600000000006,0,0,511.76,{"$f":"SUM(D5:G5)","v":5466.6200000000008},{"$f":"SUMIFS('XX.ACRONIMO-2025'!$S:$S,'XX.ACRONIMO-2025'!$D:$D,'Base Maestra'!$A5,'XX.ACRONIMO-2025'!$E:$E,'Base Maestra'!I$4)","v":0},{"$f":"SUMIFS('XX.ACRONIMO-2025'!$S:$S,'XX.ACRONIMO-2025'!$D:$D,'Base Maestra'!$A5,'XX.ACRONIMO-2025'!$E:$E,'Base Maestra'!J$4)","v":0},{"$f":"SUMIFS('XX.ACRONIMO-2025'!$S:$S,'XX.ACRONIMO-2025'!$D:$D,'Base Maestra'!$A5,'XX.ACRONIMO-2025'!$E:$E,'Base Maestra'!K$4)","v":0},{"$f":"SUMIFS('XX.ACRONIMO-2025'!$S:$S,'XX.ACRONIMO-2025'!$D:$D,'Base Maestra'!$A5,'XX.ACRONIMO-2025'!$E:$E,'Base Maestra'!L$4)","v":0},{"$f":"SUM(I5:L5)","v":0}]
[110,"UABC","Universidad Autónoma de Baja California ",0,33153.380000000005,0,0,33153.380000000005,{"$f":"SUMIFS('XX.ACRONIMO-2025'!$S:$S,'XX.ACRONIMO-2025'!$D:$D,'Base Maestra'!$A6,'XX.ACRONIMO-2025'!$E:$E,'Base Maestra'!I$4)","v":0},{"$f":"SUMIFS('XX.ACRONIMO-2025'!$S:$S,'XX.ACRONIMO-2025'!$D:$D,'Base Maestra'!$A6,'XX.ACRONIMO-2025'!$E:$E,'Base Maestra'!J$4)","v":0},{"$f":"SUMIFS('XX.ACRONIMO-2025'!$S:$S,'XX.ACRONIMO-2025'!$D:$D,'Base Maestra'!$A6,'XX.ACRONIMO-2025'!$E:$E,'Base Maestra'!K$4)","v":0},{"$f":"SUMIFS('XX.ACRONIMO-2025'!$S:$S,'XX.ACRONIMO-2025'!$D:$D,'Base Maestra'!$A6,'XX.ACRONIMO-2025'!$E:$E,'Base Maestra'!L$4)","v":0},0]
[111,"UABCS","Universidad Autónoma de Baja California Sur ",151.42000000000002,5280.3200000000006,0,4907.12,10338.86,{"$f":"SUMIFS('XX.ACRONIMO-2025'!$S:$S,'XX.ACRONIMO-2025'!$D:$D,'Base Maestra'!$A7,'XX.ACRONIMO-2025'!$E:$E,'Base Maestra'!I$4)","v":0},{"$f":"SUMIFS('XX.ACRONIMO-2025'!$S:$S,'XX.ACRONIMO-2025'!$D:$D,'Base Maestra'!$A7,'XX.ACRONIMO-2025'!$E:$E,'Base Maestra'!J$4)","v":0},{"$f":"SUMIFS('XX.ACRONIMO-2025'!$S:$S,'XX.ACRONIMO-2025'!$D:$D,'Base Maestra'!$A7,'XX.ACRONIMO-2025'!$E:$E,'Base Maestra'!K$4)","v":0},{"$f":"SUMIFS('XX.ACRONIMO-2025'!$S:$S,'XX.ACRONIMO-2025'!$D:$D,'Base Maestra'!$A7,'XX.ACRONIMO-2025'!$E:$E,'Base Maestra'!L$4)","v":0},0]
[112,"UACAM","Universidad Autónoma de Campeche ",0,5443.9699999999984,0,0,5443.9699999999984,{"$f":"SUMIFS('XX.ACRONIMO-2025'!$S:$S,'XX.ACRONIMO-2025'!$D:$D,'Base Maestra'!$A8,'XX.ACRONIMO-2025'!$E:$E,'Base Maestra'!I$4)","v":0},{"$f":"SUMIFS('XX.ACRONIMO-2025'!$S:$S,'XX.ACRONIMO-2025'!$D:$D,'Base Maestra'!$A8,'XX.ACRONIMO-2025'!$E:$E,'Base Maestra'!J$4)","v":0},{"$f":"SUMIFS('XX.ACRONIMO-2025'!$S:$S,'XX.ACRONIMO-2025'!$D:$D,'Base Maestra'!$A8,'XX.ACRONIMO-2025'!$E:$E,'Base Maestra'!K$4)","v":0},{"$f":"SUMIFS('XX.ACRONIMO-2025'!$S:$S,'XX.ACRONIMO-2025'!$D:$D,'Base Maestra'!$A8,'XX.ACRONIMO-2025'!$E:$E,'Base Maestra'!L$4)","v":0},0]
[113,"UAdeC","Universidad Autónoma de Coahuila ",0,0,0,0,0,{"$f":"SUMIFS('XX.ACRONIMO-2025'!$S:$S,'XX.ACRONIMO-2025'!$D:$D,'Base Maestra'!$A9,'XX.ACRONIMO-2025'!$E:$E,'Base Maestra'!I$4)","v":0},{"$f":"SUMIFS('XX.ACRONIMO-2025'!$S:$S,'XX.ACRONIMO-2025'!$D:$D,'Base Maestra'!$A9,'XX.ACRONIMO-2025'!$E:$E,'Base Maestra'!J$4)","v":0},{"$f":"SUMIFS('XX.ACRONIMO-2025'!$S:$S,'XX.ACRONIMO-2025'!$D:$D,'Base Maestra'!$A9,'XX.ACRONIMO-2025'!$E:$E,'Base Maestra'!K$4)","v":0},{"$f":"SUMIFS('XX.ACRONIMO-2025'!$S:$S,'XX.ACRONIMO-2025'!$D:$D,'Base Maestra'!$A9,'XX.ACRONIMO-2025'!$E:$E,'Base Maestra'!L$4)","v":0},0]
[114,"UdeC","Universidad de Colima ",0,0,0,0,0,{"$f":"SUMIFS('XX.ACRONIMO-2025'!$S:$S,'XX.ACRONIMO-2025'!$D:$D,'Base Maestra'!$A10,'XX.ACRONIMO-2025'!$E:$E,'Base Maestra'!I$4)","v":0},{"$f":"SUMIFS('XX.ACRONIMO-2025'!$S:$S,'XX.ACRONIMO-2025'!$D:$D,'Base Maestra'!$A10,'XX.ACRONIMO-2025'!$E:$E,'Base Maestra'!J$4)","v":0},{"$f":"SUMIFS('XX.ACRONIMO-2025'!$S:$S,'XX.ACRONIMO-2025'!$D:$D,'Base Maestra'!$A10,'XX.ACRONIMO-2025'!$E:$E,'Base Maestra'!K$4)","v":0},{"$f":"SUMIFS('XX.ACRONIMO-2025'!$S:$S,'XX.ACRONIMO-2025'!$D:$D,'Base Maestra'!$A10,'XX.ACRONIMO-2025'!$E:$E,'Base Maestra'!L$4)","v":0},0]
[115,"UNACH","Universidad Autónoma de Chiapas ",0,0,0,0,0,{"$f":"SUMIFS('XX.ACRONIMO-2025'!$S:$S,'XX.ACRONIMO-2025'!$D:$D,'Base Maestra'!$A11,'XX.ACRONIMO-2025'!$E:$E,'Base Maestra'!I$4)","v":0},{"$f":"SUMIFS('XX.ACRONIMO-2025'!$S:$S,'XX.ACRONIMO-2025'!$D:$D,'Base Maestra'!$A11,'XX.ACRONIMO-2025'!$E:$E,'Base Maestra'!J$4)","v":0},{"$f":"SUMIFS('XX.ACRONIMO-2025'!$S:$S,'XX.ACRONIMO-2025'!$D:$D,'Base Maestra'!$A11,'XX.ACRONIMO-2025'!$E:$E,'Base Maestra'!K$4)","v":0},{"$f":"SUMIFS('XX.ACRONIMO-2025'!$S:$S,'XX.ACRONIMO-2025'!$D:$D,'Base Maestra'!$A11,'XX.ACRONIMO-2025'!$E:$E,'Base Maestra'!L$4)","v":0},0]
[116,"UACH","Universidad Autónoma de Chihuahua ",18296.000000000015,988.9,0,0,19284.900000000016,{"$f":"SUMIFS('XX.ACRONIMO-2025'!$S:$S,'XX.ACRONIMO-2025'!$D:$D,'Base Maestra'!$A12,'XX.ACRONIMO-2025'!$E:$E,'Base Maestra'!I$4)","v":0},{"$f":"SUMIFS('XX.ACRONIMO-2025'!$S:$S,'XX.ACRONIMO-2025'!$D:$D,'Base Maestra'!$A12,'XX.ACRONIMO-2025'!$E:$E,'Base Maestra'!J$4)","v":0},{"$f":"SUMIFS('XX.ACRONIMO-2025'!$S:$S,'XX.ACRONIMO-2025'!$D:$D,'Base Maestra'!$A12,'XX.ACRONIMO-2025'!$E:$E,'Base Maestra'!K$4)","v":0},{"$f":"SUMIFS('XX.ACRONIMO-2025'!$S:$S,'XX.ACRONIMO-2025'!$D:$D,'Base Maestra'!$A12,'XX.ACRONIMO-2025'!$E:$E,'Base Maestra'!L$4)","v":0},0]
[117,"UJED","Universidad Juárez del Estado de Durango ",0,0,0,0,0,{"$f":"SUMIFS('XX.ACRONIMO-2025'!$S:$S,'XX.ACRONIMO-2025'!$D:$D,'Base Maestra'!$A13,'XX.ACRONIMO-2025'!$E:$E,'Base Maestra'!I$4)","v":0},{"$f":"SUMIFS('XX.ACRONIMO-2025'!$S:$S,'XX.ACRONIMO-2025'!$D:$D,'Base Maestra'!$A13,'XX.ACRONIMO-2025'!$E:$E,'Base Maestra'!J$4)","v":0},{"$f":"SUMIFS('XX.ACRONIMO-2025'!$S:$S,'XX.ACRONIMO-2025'!$D:$D,'Base Maestra'!$A13,'XX.ACRONIMO-2025'!$E:$E,'Base Maestra'!K$4)","v":0},{"$f":"SUMIFS('XX.ACRONIMO-2025'!$S:$S,'XX.ACRONIMO-2025'!$D:$D,'Base Maestra'!$A13,'XX.ACRONIMO-2025'!$E:$E,'Base Maestra'!L$4)","v":0},0]
[118,"UG","Universidad de Guanajuato",16056.800000000005,237770.44,0,159932.51,413759.75,{"$f":"SUMIFS('XX.ACRONIMO-2025'!$S:$S,'XX.ACRONIMO-2025'!$D:$D,'Base Maestra'!$A14,'XX.ACRONIMO-2025'!$E:$E,'Base Maestra'!I$4)","v":0},{"$f":"SUMIFS('XX.ACRONIMO-2025'!$S:$S,'XX.ACRONIMO-2025'!$D:$D,'Base Maestra'!$A14,'XX.ACRONIMO-2025'!$E:$E,'Base Maestra'!J$4)","v":0},{"$f":"SUMIFS('XX.ACRONIMO-2025'!$S:$S,'XX.ACRONIMO-2025'!$D:$D,'Base Maestra'!$A14,'XX.ACRONIMO-2025'!$E:$E,'Base Maestra'!K$4)","v":0},{"$f":"SUMIFS('XX.ACRONIMO-2025'!$S:$S,'XX.ACRONIMO-2025'!$D:$D,'Base Maestra'!$A14,'XX.ACRONIMO-2025'!$E:$E,'Base Maestra'!L$4)","v":0},0]
[119,"UAGro","Universidad Autónoma de Guerrero ",0,0,0,0,0,{"$f":"SUMIFS('XX.ACRONIMO-2025'!$S:$S,'XX.ACRONIMO-2025'!$D:$D,'Base Maestra'!$A15,'XX.ACRONIMO-2025'!$E:$E,'Base Maestra'!I$4)","v":0},{"$f":"SUMIFS('XX.ACRONIMO-2025'!$S:$S,'XX.ACRONIMO-2025'!$D:$D,'Base Maestra'!$A15,'XX.ACRONIMO-2025'!$E:$E,'Base Maestra'!J$4)","v":0},{"$f":"SUMIFS('XX.ACRONIMO-2025'!$S:$S,'XX.ACRONIMO-2025'!$D:$D,'Base Maestra'!$A15,'XX.ACRONIMO-2025'!$E:$E,'Base Maestra'!K$4)","v":0},{"$f":"SUMIFS('XX.ACRONIMO-2025'!$S:$S,'XX.ACRONIMO-2025'!$D:$D,'Base Maestra'!$A15,'XX.ACRONIMO-2025'!$E:$E,'Base Maestra'!L$4)","v":0},0]
[120,"UAEH","Universidad Autónoma del Estado de Hidalgo ",0,0,0,0,0,{"$f":"SUMIFS('XX.ACRONIMO-2025'!$S:$S,'XX.ACRONIMO-2025'!$D:$D,'Base Maestra'!$A16,'XX.ACRONIMO-2025'!$E:$E,'Base Maestra'!I$4)","v":0},{"$f":"SUMIFS('XX.ACRONIMO-2025'!$S:$S,'XX.ACRONIMO-2025'!$D:$D,'Base Maestra'!$A16,'XX.ACRONIMO-2025'!$E:$E,'Base Maestra'!J$4)","v":0},{"$f":"SUMIFS('XX.ACRONIMO-2025'!$S:$S,'XX.ACRONIMO-2025'!$D:$D,'Base Maestra'!$A16,'XX.ACRONIMO-2025'!$E:$E,'Base Maestra'!K$4)","v":0},{"$f":"SUMIFS('XX.ACRONIMO-2025'!$S:$S,'XX.ACRONIMO-2025'!$D:$D,'Base Maestra'!$A16,'XX.ACRONIMO-2025'!$E:$E,'Base Maestra'!L$4)","v":0},0]
[121,"UdeG","Universidad de Guadalajara ",0,0,0,0,0,{"$f":"SUMIFS('XX.ACRONIMO-2025'!$S:$S,'XX.ACRONIMO-2025'!$D:$D,'Base Maestra'!$A17,'XX.ACRONIMO-2025'!$E:$E,'Base Maestra'!I$4)","v":0},{"$f":"SUMIFS('XX.ACRONIMO-2025'!$S:$S,'XX.ACRONIMO-2025'!$D:$D,'Base Maestra'!$A17,'XX.ACRONIMO-2025'!$E:$E,'Base Maestra'!J$4)","v":0},{"$f":"SUMIFS('XX.ACRONIMO-2025'!$S:$S,'XX.ACRONIMO-2025'!$D:$D,'Base Maestra'!$A17,'XX.ACRONIMO-2025'!$E:$E,'Base Maestra'!K$4)","v":0},{"$f":"SUMIFS('XX.ACRONIMO-2025'!$S:$S,'XX.ACRONIMO-2025'!$D:$D,'Base Maestra'!$A17,'XX.ACRONIMO-2025'!$E:$E,'Base Maestra'!L$4)","v":0},0]
[122,"UAEMéx","Universidad Autónoma del Estado de México ",0,0,0,0,0,{"$f":"SUMIFS('XX.ACRONIMO-2025'!$S:$S,'XX.ACRONIMO-2025'!$D:$D,'Base Maestra'!$A18,'XX.ACRONIMO-2025'!$E:$E,'Base Maestra'!I$4)","v":0},{"$f":"SUMIFS('XX.ACRONIMO-2025'!$S:$S,'XX.ACRONIMO-2025'!$D:$D,'Base Maestra'!$A18,'XX.ACRONIMO-2025'!$E:$E,'Base Maestra'!J$4)","v":0},{"$f":"SUMIFS('XX.ACRONIMO-2025'!$S:$S,'XX.ACRONIMO-2025'!$D:$D,'Base Maestra'!$A18,'XX.ACRONIMO-2025'!$E:$E,'Base Maestra'!K$4)","v":0},{"$f":"SUMIFS('XX.ACRONIMO-2025'!$S:$S,'XX.ACRONIMO-2025'!$D:$D,'Base Maestra'!$A18,'XX.ACRONIMO-2025'!$E:$E,'Base Maestra'!L$4)","v":0},0]
[123,"UMSNH","Universidad Michoacana de San Nicolás de Hidalgo ",0,3461.2599999999993,0,0,3461.2599999999993,{"$f":"SUMIFS('XX.ACRONIMO-2025'!$S:$S,'XX.ACRONIMO-2025'!$D:$D,'Base Maestra'!$A19,'XX.ACRONIMO-2025'!$E:$E,'Base Maestra'!I$4)","v":0},{"$f":"SUMIFS('XX.ACRONIMO-2025'!$S:$S,'XX.ACRONIMO-2025'!$D:$D,'Base Maestra'!$A19,'XX.ACRONIMO-2025'!$E:$E,'Base Maestra'!J$4)","v":0},{"$f":"SUMIFS('XX.ACRONIMO-2025'!$S:$S,'XX.ACRONIMO-2025'!$D:$D,'Base Maestra'!$A19,'XX.ACRONIMO-2025'!$E:$E,'Base Maestra'!K$4)","v":0},{"$f":"SUMIFS('XX.ACRONIMO-2025'!$S:$S,'XX.ACRONIMO-2025'!$D:$D,'Base Maestra'!$A19,'XX.ACRONIMO-2025'!$E:$E,'Base Maestra'!L$4)","v":0},0]
[124,"UAEM","Universidad Autónoma del Estado de Morelos ",0,10688.11,0,0,10688.11,{"$f":"SUMIFS('XX.ACRONIMO-2025'!$S:$S,'XX.ACRONIMO-2025'!$D:$D,'Base Maestra'!$A20,'XX.ACRONIMO-2025'!$E:$E,'Base Maestra'!I$4)","v":0},{"$f":"SUMIFS('XX.ACRONIMO-2025'!$S:$S,'XX.ACRONIMO-2025'!$D:$D,'Base Maestra'!$A20,'XX.ACRONIMO-2025'!$E:$E,'Base Maestra'!J$4)","v":0},{"$f":"SUMIFS('XX.ACRONIMO-2025'!$S:$S,'XX.ACRONIMO-2025'!$D:$D,'Base Maestra'!$A20,'XX.ACRONIMO-2025'!$E:$E,'Base Maestra'!K$4)","v":0},{"$f":"SUMIFS('XX.ACRONIMO-2025'!$S:$S,'XX.ACRONIMO-2025'!$D:$D,'Base Maestra'!$A20,'XX.ACRONIMO-2025'!$E:$E,'Base Maestra'!L$4)","v":0},0]
[125,"UAN","Universidad Autónoma de Nayarit ",0,92323.66,0,0,92323.66,{"$f":"SUMIFS('XX.ACRONIMO-2025'!$S:$S,'XX.ACRONIMO-2025'!$D:$D,'Base Maestra'!$A21,'XX.ACRONIMO-2025'!$E:$E,'Base Maestra'!I$4)","v":0},{"$f":"SUMIFS('XX.ACRONIMO-2025'!$S:$S,'XX.ACRONIMO-2025'!$D:$D,'Base Maestra'!$A21,'XX.ACRONIMO-2025'!$E:$E,'Base Maestra'!J$4)","v":0},{"$f":"SUMIFS('XX.ACRONIMO-2025'!$S:$S,'XX.ACRONIMO-2025'!$D:$D,'Base Maestra'!$A21,'XX.ACRONIMO-2025'!$E:$E,'Base Maestra'!K$4)","v":0},{"$f":"SUMIFS('XX.ACRONIMO-2025'!$S:$S,'XX.ACRONIMO-2025'!$D:$D,'Base Maestra'!$A21,'XX.ACRONIMO-2025'!$E:$E,'Base Maestra'!L$4)","v":0},0]
[126,"UANL","Universidad Autónoma de Nuevo León ",0,0,0,0,0,{"$f":"SUMIFS('XX.ACRONIMO-2025'!$S:$S,'XX.ACRONIMO-2025'!$D:$D,'Base Maestra'!$A22,'XX.ACRONIMO-2025'!$E:$E,'Base Maestra'!I$4)","v":0},{"$f":"SUMIFS('XX.ACRONIMO-2025'!$S:$S,'XX.ACRONIMO-2025'!$D:$D,'Base Maestra'!$A22,'XX.ACRONIMO-2025'!$E:$E,'Base Maestra'!J$4)","v":0},{"$f":"SUMIFS('XX.ACRONIMO-2025'!$S:$S,'XX.ACRONIMO-2025'!$D:$D,'Base Maestra'!$A22,'XX.ACRONIMO-2025'!$E:$E,'Base Maestra'!K$4)","v":0},{"$f":"SUMIFS('XX.ACRONIMO-2025'!$S:$S,'XX.ACRONIMO-2025'!$D:$D,'Base Maestra'!$A22,'XX.ACRONIMO-2025'!$E:$E,'Base Maestra'!L$4)","v":0},0]
[127,"UABJO","Universidad Autónoma Benito Juárez de Oaxaca ",0,4108.91,0,0,4108.91,{"$f":"SUMIFS('XX.ACRONIMO-2025'!$S:$S,'XX.ACRONIMO-2025'!$D:$D,'Base Maestra'!$A23,'XX.ACRONIMO-2025'!$E:$E,'Base Maestra'!I$4)","v":0},{"$f":"SUMIFS('XX.ACRONIMO-2025'!$S:$S,'XX.ACRONIMO-2025'!$D:$D,'Base Maestra'!$A23,'XX.ACRONIMO-2025'!$E:$E,'Base Maestra'!J$4)","v":0},{"$f":"SUMIFS('XX.ACRONIMO-2025'!$S:$S,'XX.ACRONIMO-2025'!$D:$D,'Base Maestra'!$A23,'XX.ACRONIMO-2025'!$E:$E,'Base Maestra'!K$4)","v":0},{"$f":"SUMIFS('XX.ACRONIMO-2025'!$S:$S,'XX.ACRONIMO-2025'!$D:$D,'Base Maestra'!$A23,'XX.ACRONIMO-2025'!$E:$E,'Base Maestra'!L$4)","v":0},0]
[128,"BUAP","Benemérita Universidad Autónoma de Puebla ",0,0,0,0,0,{"$f":"SUMIFS('XX.ACRONIMO-2025'!$S:$S,'XX.ACRONIMO-2025'!$D:$D,'Base Maestra'!$A24,'XX.ACRONIMO-2025'!$E:$E,'Base Maestra'!I$4)","v":0},{"$f":"SUMIFS('XX.ACRONIMO-2025'!$S:$S,'XX.ACRONIMO-2025'!$D:$D,'Base Maestra'!$A24,'XX.ACRONIMO-2025'!$E:$E,'Base Maestra'!J$4)","v":0},{"$f":"SUMIFS('XX.ACRONIMO-2025'!$S:$S,'XX.ACRONIMO-2025'!$D:$D,'Base Maestra'!$A24,'XX.ACRONIMO-2025'!$E:$E,'Base Maestra'!K$4)","v":0},{"$f":"SUMIFS('XX.ACRONIMO-2025'!$S:$S,'XX.ACRONIMO-2025'!$D:$D,'Base Maestra'!$A24,'XX.ACRONIMO-2025'!$E:$E,'Base Maestra'!L$4)","v":0},0]
[129,"UAQ","Universidad Autónoma de Querétaro ",0,0,0,0,0,{"$f":"SUMIFS('XX.ACRONIMO-2025'!$S:$S,'XX.ACRONIMO-2025'!$D:$D,'Base Maestra'!$A25,'XX.ACRONIMO-2025'!$E:$E,'Base Maestra'!I$4)","v":0},{"$f":"SUMIFS('XX.ACRONIMO-2025'!$S:$S,'XX.ACRONIMO-2025'!$D:$D,'Base Maestra'!$A25,'XX.ACRONIMO-2025'!$E:$E,'Base Maestra'!J$4)","v":0},{"$f":"SUMIFS('XX.ACRONIMO-2025'!$S:$S,'XX.ACRONIMO-2025'!$D:$D,'Base Maestra'!$A25,'XX.ACRONIMO-2025'!$E:$E,'Base Maestra'!K$4)","v":0},{"$f":"SUMIFS('XX.ACRONIMO-2025'!$S:$S,'XX.ACRONIMO-2025'!$D:$D,'Base Maestra'!$A25,'XX.ACRONIMO-2025'!$E:$E,'Base Maestra'!L$4)","v":0},0]
[130,"UQROO","Universidad Autónoma del Estado de Quintana Roo",0,9427.3000000000029,0,0,9427.3000000000029,{"$f":"SUMIFS('XX.ACRONIMO-2025'!$S:$S,'XX.ACRONIMO-2025'!$D:$D,'Base Maestra'!$A26,'XX.ACRONIMO-2025'!$E:$E,'Base Maestra'!I$4)","v":0},{"$f":"SUMIFS('XX.ACRONIMO-2025'!$S:$S,'XX.ACRONIMO-2025'!$D:$D,'Base Maestra'!$A26,'XX.ACRONIMO-2025'!$E:$E,'Base Maestra'!J$4)","v":0},{"$f":"SUMIFS('XX.ACRONIMO-2025'!$S:$S,'XX.ACRONIMO-2025'!$D:$D,'Base Maestra'!$A26,'XX.ACRONIMO-2025'!$E:$E,'Base Maestra'!K$4)","v":0},{"$f":"SUMIFS('XX.ACRONIMO-2025'!$S:$S,'XX.ACRONIMO-2025'!$D:$D,'Base Maestra'!$A26,'XX.ACRONIMO-2025'!$E:$E,'Base Maestra'!L$4)","v":0},0]
[131,"UASLP","Universidad Autónoma de San Luis Potosí ",13744.88,18657.93,0,0,32402.809999999998,{"$f":"SUMIFS('XX.ACRONIMO-2025'!$S:$S,'XX.ACRONIMO-2025'!$D:$D,'Base Maestra'!$A27,'XX.ACRONIMO-2025'!$E:$E,'Base Maestra'!I$4)","v":0},{"$f":"SUMIFS('XX.ACRONIMO-2025'!$S:$S,'XX.ACRONIMO-2025'!$D:$D,'Base Maestra'!$A27,'XX.ACRONIMO-2025'!$E:$E,'Base Maestra'!J$4)","v":0},{"$f":"SUMIFS('XX.ACRONIMO-2025'!$S:$S,'XX.ACRONIMO-2025'!$D:$D,'Base Maestra'!$A27,'XX.ACRONIMO-2025'!$E:$E,'Base Maestra'!K$4)","v":0},{"$f":"SUMIFS('XX.ACRONIMO-2025'!$S:$S,'XX.ACRONIMO-2025'!$D:$D,'Base Maestra'!$A27,'XX.ACRONIMO-2025'!$E:$E,'Base Maestra'!L$4)","v":0},0]
[132,"UAS","Universidad Autónoma de Sinaloa ",0,0,0,0,0,{"$f":"SUMIFS('XX.ACRONIMO-2025'!$S:$S,'XX.ACRONIMO-2025'!$D:$D,'Base Maestra'!$A28,'XX.ACRONIMO-2025'!$E:$E,'Base Maestra'!I$4)","v":0},{"$f":"SUMIFS('XX.ACRONIMO-2025'!$S:$S,'XX.ACRONIMO-2025'!$D:$D,'Base Maestra'!$A28,'XX.ACRONIMO-2025'!$E:$E,'Base Maestra'!J$4)","v":0},{"$f":"SUMIFS('XX.ACRONIMO-2025'!$S:$S,'XX.ACRONIMO-2025'!$D:$D,'Base Maestra'!$A28,'XX.ACRONIMO-2025'!$E:$E,'Base Maestra'!K$4)","v":0},{"$f":"SUMIFS('XX.ACRONIMO-2025'!$S:$S,'XX.ACRONIMO-2025'!$D:$D,'Base Maestra'!$A28,'XX.ACRONIMO-2025'!$E:$E,'Base Maestra'!L$4)","v":0},0]
[133,"UNISON","Universidad de Sonora ",0,0,0,0,0,{"$f":"SUMIFS('XX.ACRONIMO-2025'!$S:$S,'XX.ACRONIMO-2025'!$D:$D,'Base Maestra'!$A29,'XX.ACRONIMO-2025'!$E:$E,'Base Maestra'!I$4)","v":0},{"$f":"SUMIFS('XX.ACRONIMO-2025'!$S:$S,'XX.ACRONIMO-2025'!$D:$D,'Base Maestra'!$A29,'XX.ACRONIMO-2025'!$E:$E,'Base Maestra'!J$4)","v":0},{"$f":"SUMIFS('XX.ACRONIMO-2025'!$S:$S,'XX.ACRONIMO-2025'!$D:$D,'Base Maestra'!$A29,'XX.ACRONIMO-2025'!$E:$E,'Base Maestra'!K$4)","v":0},{"$f":"SUMIFS('XX.ACRONIMO-2025'!$S:$S,'XX.ACRONIMO-2025'!$D:$D,'Base Maestra'!$A29,'XX.ACRONIMO-2025'!$E:$E,'Base Maestra'!L$4)","v":0},0]
[134,"UJAT","Universidad Juárez Autónoma de Tabasco ",0,0,0,0,0,{"$f":"SUMIFS('XX.ACRONIMO-2025'!$S:$S,'XX.ACRONIMO-2025'!$D:$D,'Base Maestra'!$A30,'XX.ACRONIMO-2025'!$E:$E,'Base Maestra'!I$4)","v":0},{"$f":"SUMIFS('XX.ACRONIMO-2025'!$S:$S,'XX.ACRONIMO-2025'!$D:$D,'Base Maestra'!$A30,'XX.ACRONIMO-2025'!$E:$E,'Base Maestra'!J$4)","v":0},{"$f":"SUMIFS('XX.ACRONIMO-2025'!$S:$S,'XX.ACRONIMO-2025'!$D:$D,'Base Maestra'!$A30,'XX.ACRONIMO-2025'!$E:$E,'Base Maestra'!K$4)","v":0},{"$f":"SUMIFS('XX.ACRONIMO-2025'!$S:$S,'XX.ACRONIMO-2025'!$D:$D,'Base Maestra'!$A30,'XX.ACRONIMO-2025'!$E:$E,'Base Maestra'!L$4)","v":0},0]
[135,"UAT","Universidad Autónoma de Tamaulipas ",0,0,0,0,0,{"$f":"SUMIFS('XX.ACRONIMO-2025'!$S:$S,'XX.ACRONIMO-2025'!$D:$D,'Base Maestra'!$A31,'XX.ACRONIMO-2025'!$E:$E,'Base Maestra'!I$4)","v":0},{"$f":"SUMIFS('XX.ACRONIMO-2025'!$S:$S,'XX.ACRONIMO-2025'!$D:$D,'Base Maestra'!$A31,'XX.ACRONIMO-2025'!$E:$E,'Base Maestra'!J$4)","v":0},{"$f":"SUMIFS('XX.ACRONIMO-2025'!$S:$S,'XX.ACRONIMO-2025'!$D:$D,'Base Maestra'!$A31,'XX.ACRONIMO-2025'!$E:$E,'Base Maestra'!K$4)","v":0},{"$f":"SUMIFS('XX.ACRONIMO-2025'!$S:$S,'XX.ACRONIMO-2025'!$D:$D,'Base Maestra'!$A31,'XX.ACRONIMO-2025'!$E:$E,'Base Maestra'!L$4)","v":0},0]
[136,"UATx","Universidad Autónoma de Tlaxcala ",0,2582.44,0,0,2582.44,{"$f":"SUMIFS('XX.ACRONIMO-2025'!$S:$S,'XX.ACRONIMO-2025'!$D:$D,'Base Maestra'!$A32,'XX.ACRONIMO-2025'!$E:$E,'Base Maestra'!I$4)","v":0},{"$f":"SUMIFS('XX.ACRONIMO-2025'!$S:$S,'XX.ACRONIMO-2025'!$D:$D,'Base Maestra'!$A32,'XX.ACRONIMO-2025'!$E:$E,'Base Maestra'!J$4)","v":0},{"$f":"SUMIFS('XX.ACRONIMO-2025'!$S:$S,'XX.ACRONIMO-2025'!$D:$D,'Base Maestra'!$A32,'XX.ACRONIMO-2025'!$E:$E,'Base Maestra'!K$4)","v":0},{"$f":"SUMIFS('XX.ACRONIMO-2025'!$S:$S,'XX.ACRONIMO-2025'!$D:$D,'Base Maestra'!$A32,'XX.ACRONIMO-2025'!$E:$E,'Base Maestra'!L$4)","v":0},0]
[137,"UV","Universidad Veracruzana ",919.36000000000013,62648.160000000033,0,0,63567.520000000033,{"$f":"SUMIFS('XX.ACRONIMO-2025'!$S:$S,'XX.ACRONIMO-2025'!$D:$D,'Base Maestra'!$A33,'XX.ACRONIMO-2025'!$E:$E,'Base Maestra'!I$4)","v":0},{"$f":"SUMIFS('XX.ACRONIMO-2025'!$S:$S,'XX.ACRONIMO-2025'!$D:$D,'Base Maestra'!$A33,'XX.ACRONIMO-2025'!$E:$E,'Base Maestra'!J$4)","v":0},{"$f":"SUMIFS('XX.ACRONIMO-2025'!$S:$S,'XX.ACRONIMO-2025'!$D:$D,'Base Maestra'!$A33,'XX.ACRONIMO-2025'!$E:$E,'Base Maestra'!K$4)","v":0},{"$f":"SUMIFS('XX.ACRONIMO-2025'!$S:$S,'XX.ACRONIMO-2025'!$D:$D,'Base Maestra'!$A33,'XX.ACRONIMO-2025'!$E:$E,'Base Maestra'!L$4)","v":0},0]
[138,"UADY","Universidad Autónoma de Yucatán ",0,0,0,0,0,{"$f":"SUMIFS('XX.ACRONIMO-2025'!$S:$S,'XX.ACRONIMO-2025'!$D:$D,'Base Maestra'!$A34,'XX.ACRONIMO-2025'!$E:$E,'Base Maestra'!I$4)","v":0},{"$f":"SUMIFS('XX.ACRONIMO-2025'!$S:$S,'XX.ACRONIMO-2025'!$D:$D,'Base Maestra'!$A34,'XX.ACRONIMO-2025'!$E:$E,'Base Maestra'!J$4)","v":0},{"$f":"SUMIFS('XX.ACRONIMO-2025'!$S:$S,'XX.ACRONIMO-2025'!$D:$D,'Base Maestra'!$A34,'XX.ACRONIMO-2025'!$E:$E,'Base Maestra'!K$4)","v":0},{"$f":"SUMIFS('XX.ACRONIMO-2025'!$S:$S,'XX.ACRONIMO-2025'!$D:$D,'Base Maestra'!$A34,'XX.ACRONIMO-2025'!$E:$E,'Base Maestra'!L$4)","v":0},0]
[139,"UAZ","Universidad Autónoma de Zacatecas \"Francisco García Salinas\" ",0,0,0,0,0,{"$f":"SUMIFS('XX.ACRONIMO-2025'!$S:$S,'XX.ACRONIMO-2025'!$D:$D,'Base Maestra'!$A35,'XX.ACRONIMO-2025'!$E:$E,'Base Maestra'!I$4)","v":0},{"$f":"SUMIFS('XX.ACRONIMO-2025'!$S:$S,'XX.ACRONIMO-2025'!$D:$D,'Base Maestra'!$A35,'XX.ACRONIMO-2025'!$E:$E,'Base Maestra'!J$4)","v":0},{"$f":"SUMIFS('XX.ACRONIMO-2025'!$S:$S,'XX.ACRONIMO-2025'!$D:$D,'Base Maestra'!$A35,'XX.ACRONIMO-2025'!$E:$E,'Base Maestra'!K$4)","v":0},{"$f":"SUMIFS('XX.ACRONIMO-2025'!$S:$S,'XX.ACRONIMO-2025'!$D:$D,'Base Maestra'!$A35,'XX.ACRONIMO-2025'!$E:$E,'Base Maestra'!L$4)","v":0},0]
[null,null,null,{"$f":"SUM(D5:D35)","v":54123.320000000014},486534.78,0,165351.39000000001,{"$f":"SUM(H5:H35)","v":706009.49},{"$f":"SUM(I5:I35)","v":0},{"$f":"SUM(J5:J35)","v":0},0,0,{"$f":"SUM(M5:M35)","v":0}]
[1,2,3,4,5,6,7,8,9,10,11,12,13]
[]
[null,null,null,null,null,null,null,null,null,null,"Penalización por días de retraso en la calificación de Oportunidad"]
[]
["Validador COG",null,null,null,null,"Validador Actividad en salud",null,null,null,null,null,"Días hábiles de retraso","Penalización","Puntaje de oportunidad","Calificación"]
["Capitulo","Concepto","Partida ",null,null,"Cve_H","Actividad Institucional","-",null,null,null,0,0,1,100]
[1000,1100,1110,null,null,"IED101","Hospital universitario","-",null,null,null,1,0.05,0.95,95]
[1000,1100,1120,null,null,"IED102","Clínica de consulta externa o consultorio universitario","-",null,null,null,2,0.1,0.9,90]
[1000,1100,1130,null,null,"IED103","Clínicas odontológicas","-",null,null,null,3,0.15,0.85,85]
[1000,1100,1140,null,null,"IED104","Clínicas psicológicas","-",null,null,null,4,0.2,0.8,80]
[1000,1200,1210,null,null,"IED105","Otro tipo de clínica","-",null,null,null,5,0.25,0.75,75]
[1000,1200,12201,null,null,"IED106","Programas prevención y promoción de la salud","-",null,null,null,6,0.3,0.7,70]
[1000,1200,12202,null,null,"IED107","Programa de vacunación","-",null,null,null,7,0.35,0.65,65]
[1000,1200,12301,null,null,"IED108","Programa de salud sexual","-",null,null,null,8,0.4,0.6,60]
[1000,1200,1240,null,null,"IED109","Infraestructura en salud","-",null,null,null,9,0.45,0.55000000000000004,55]
[1000,1300,13101,null,null,"IED110","Investigación en salud","-",null,null,null,10,0.5,0.5,50]
[1000,1300,13102,null,null,"IED111","Vinculación institucional en salud","-",null,null,null,11,0.55000000000000004,0.45,45]
[1000,1300,13103,null,null,"IED112","Administración, rectoría y evaluación de los resultados en salud","-",null,null,null,12,0.6,0.4,40]
[1000,1300,13104,null,null,null,null,null,null,null,null,13,0.65,0.35,35]
[1000,1300,13201,null,null,null,null,null,null,null,null,14,0.7,0.3,30]
[1000,1300,13202,null,null,null,null,null,null,null,null,15,0.75,0.25,25]
[1000,1300,1330,null,null,null,null,null,null,null,null,16,0.8,0.2,20]
[1000,1300,13401,null,null,null,null,null,null,null,null,17,0.85,0.15,15]
[1000,1300,13402,null,null,null,null,null,null,null,null,18,0.9,0.1,10]
[1000,1300,13403,null,null,null,null,null,null,null,null,19,0.95,0.05,5]
[1000,1300,13404,null,null,null,null,null,null,null,null,"20 o más",1,0,0]
[1000,1300,13405]
[1000,1300,13406]
[1000,1300,13407]
[1000,1300,13408]
[1000,1300,13409]
[1000,1300,13410]
[1000,1300,13411]
[1000,1300,13412]
[1000,1300,13413]
[1000,1300,13414]
[1000,1300,1350]
[1000,1300,13601]
[1000,1300,13602]
[1000,1300,13603]
[1000,1300,13604]
[1000,1300,13605]
[1000,1300,1370]
[1000,1300,1380]
[1000,1400,14101]
[1000,1400,14102]
[1000,1400,14103]
[1000,1400,14104]
[1000,1400,14105]
[1000,1400,14201]
[1000,1400,14202]
[1000,1400,14301]
[1000,1400,14302]
[1000,1400,14401]
[1000,1400,14402,null,null,null,null,null,null,null,null,null,0]
[1000,1400,14403,null,null,null,null,null,null,null,null,null,0]
[1000,1400,14404,null,null,null,null,null,null,null,null,null,0]
[1000,1400,14405,null,null,null,null,null,null,null,null,null,0]
[1000,1400,14406,null,null,null,null,null,null,null,null,null,0]
[1000,1500,15101,null,null,null,null,null,null,null,null,null,0]
[1000,1500,15102,null,null,null,null,null,null,null,null,null,0]
[1000,1500,15103,null,null,null,null,null,null,null,null,null,0]
[1000,1500,15201,null,null,null,null,null,null,null,null,null,0]
[1000,1500,15202,null,null,null,null,null,null,null,null,null,0]
[1000,1500,1530]
[1000,1500,15401,null,null,null,null,null,null,null,null,null,0]
[1000,1500,15402,null,null,null,null,null,null,null,null,null,0]
[1000,1500,15403,null,null,null,null,null,null,null,null,null,0]
[1000,1500,1550,null,null,null,null,null,null,null,null,null,0]
[1000,1500,15901,null,null,null,null,null,null,null,null,null,0]
[1000,1500,15902,null,null,null,null,null,null,null,null,null,0]
[1000,1600,16101,null,null,null,null,null,null,null,null,null,0]
[1000,1600,16102,null,null,null,null,null,null,null,null,null,0]
[1000,1600,16103,null,null,null,null,null,null,null,null,null,0]
[1000,1600,16104,null,null,null,null,null,null,null,null,null,0]
[1000,1600,16105,null,null,null,null,null,null,null,null,null,0]
[1000,1600,16106,null,null,null,null,null,null,null,null,null,0]
[1000,1600,16107,null,null,null,null,null,null,null,null,null,0]
[1000,1600,16108,null,null,null,null,null,null,null,null,null,0]
[1000,1600,16109,null,null,null,null,null,null,null,null,null,0]
[1000,1700,17101,null,null,null,null,null,null,null,null,null,0]
[1000,1700,17102,null,null,null,null,null,null,null,null,null,0]
[1000,1700,1720,null,null,null,null,null,null,null,null,null,0]
[2000,2100,2110,null,null,null,null,null,null,null,null,null,0]
[2000,2100,2120,null,null,null,null,null,null,null,null,null,0]
[2000,2100,2130,null,null,null,null,null,null,null,null,null,0]
[2000,2100,2140,null,null,null,null,null,null,null,null,null,0]
[2000,2100,21501,null,null,null,null,null,null,null,null,null,0]
[2000,2100,21502,null,null,null,null,null,null,null,null,null,0]
[2000,2100,2160,null,null,null,null,null,null,null,null,null,0]
[2000,2100,2170,null,null,null,null,null,null,null,null,null,0]
[2000,2100,2180,null,null,null,null,null,null,null,null,null,0]
[2000,2200,22101,null,null,null,null,null,null,null,null,null,0]
[2000,2200,22102,null,null,null,null,null,null,null,null,null,0]
[2000,2200,22103,null,null,null,null,null,null,null,null,null,0]
[2000,2200,22104,null,null,null,null,null,null,null,null,null,0]
[2000,2200,22105,null,null,null,null,null,null,null,null,null,0]
[2000,2200,22106,null,null,null,null,null,null,null,null,null,0]
[2000,2200,2220,null,null,null,null,null,null,null,null,null,0]
[2000,2200,2230,null,null,null,null,null,null,null,null,null,0]
[2000,2300,2310,null,null,null,null,null,null,null,null,null,0]
[2000,2300,2320,null,null,null,null,null,null,null,null,null,0]
[2000,2300,2330,null,null,null,null,null,null,null,null,null,0]
[2000,2300,2340,null,null,null,null,null,null,null,null,null,0]
[2000,2300,2350,null,null,null,null,null,null,null,null,null,0]
[2000,2300,2360,null,null,null,null,null,null,null,null,null,0]
[2000,2300,2370,null,null,null,null,null,null,null,null,null,0]
[2000,2300,2380,null,null,null,null,null,null,null,null,null,0]
[2000,2300,23901,null,null,null,null,null,null,null,null,null,0]
[2000,2300,23902,null,null,null,null,null,null,null,null,null,0]
[2000,2400,2410,null,null,null,null,null,null,null,null,null,0]
[2000,2400,2420,null,null,null,null,null,null,null,null,null,0]
[2000,2400,2430,null,null,null,null,null,null,null,null,null,0]
[2000,2400,2440,null,null,null,null,null,null,null,null,null,0]
[2000,2400,2450,null,null,null,null,null,null,null,null,null,0]
[2000,2400,2460,null,null,null,null,null,null,null,null,null,0]
[2000,2400,2470,null,null,null,null,null,null,null,null,null,0]
[2000,2400,2480,null,null,null,null,null,null,null,null,null,0]
[2000,2400,2490,null,null,null,null,null,null,null,null,null,0]
[2000,2500,2510,null,null,null,null,null,null,null,null,null,0]
[2000,2500,2520,null,null,null,null,null,null,null,null,null,0]
[2000,2500,2530,null,null,null,null,null,null,null,null,null,0]
[2000,2500,2540,null,null,null,null,null,null,null,null,null,0]
[2000,2500,2550,null,null,null,null,null,null,null,null,null,0]
[2000,2500,2560,null,null,null,null,null,null,null,null,null,0]
[2000,2500,2590,null,null,null,null,null,null,null,null,null,0]
[2000,2600,26101,null,null,null,null,null,null,null,null,null,0]
[2000,2600,26102,null,null,null,null,null,null,null,null,null,0]
[2000,2600,26103,null,null,null,null,null,null,null,null,null,0]
[2000,2600,26104,null,null,null,null,null,null,null,null,null,0]
[2000,2600,26105,null,null,null,null,null,null,null,null,null,0]
[2000,2600,26106,null,null,null,null,null,null,null,null,null,0]
[2000,2600,26107,null,null,null,null,null,null,null,null,null,0]
[2000,2600,26108,null,null,null,null,null,null,null,null,null,0]
[2000,2600,2620,null,null,null,null,null,null,null,null,null,0]
[2000,2700,2710,null,null,null,null,null,null,null,null,null,0]
[2000,2700,2720,null,null,null,null,null,null,null,null,null,0]
[2000,2700,2730,null,null,null,null,null,null,null,null,null,0]
[2000,2700,2740,null,null,null,null,null,null,null,null,null,0]
[2000,2700,2750,null,null,null,null,null,null,null,null,null,0]
[2000,2800,2810,null,null,null,null,null,null,null,null,null,0]
[2000,2800,2820,null,null,null,null,null,null,null,null,null,0]
[2000,2800,2830,null,null,null,null,null,null,null,null,null,0]
[2000,2900,2910,null,null,null,null,null,null,null,null,null,0]
[2000,2900,2920,null,null,null,null,null,null,null,null,null,0]
[2000,2900,2930,null,null,null,null,null,null,null,null,null,0]
[2000,2900,2940,null,null,null,null,null,null,null,null,null,0]
[2000,2900,2950,null,null,null,null,null,null,null,null,null,0]
[2000,2900,2960,null,null,null,null,null,null,null,null,null,0]
[2000,2900,2970,null,null,null,null,null,null,null,null,null,0]
[2000,2900,2980,null,null,null,null,null,null,null,null,null,0]
[2000,2900,2990,null,null,null,null,null,null,null,null,null,0]
[3000,3100,3110,null,null,null,null,null,null,null,null,null,0]
[3000,3100,3120,null,null,null,null,null,null,null,null,null,0]
[3000,3100,3130,null,null,null,null,null,null,null,null,null,0]
[3000,3100,3140,null,null,null,null,null,null,null,null,null,0]
[3000,3100,3150,null,null,null,null,null,null,null,null,null,0]
[3000,3100,31601,null,null,null,null,null,null,null,null,null,0]
[3000,3100,31602,null,null,null,null,null,null,null,null,null,0]
[3000,3100,31603,null,null,null,null,null,null,null,null,null,0]
[3000,3100,3170,null,null,null,null,null,null,null,null,null,0]
[3000,3100,31801,null,null,null,null,null,null,null,null,null,0]
[3000,3100,31802,null,null,null,null,null,null,null,null,null,0]
[3000,3100,31901,null,null,null,null,null,null,null,null,null,0]
[3000,3100,31902,null,null,null,null,null,null,null,null,null,0]
[3000,3100,31903,null,null,null,null,null,null,null,null,null,0]
[3000,3100,31904,null,null,null,null,null,null,null,null,null,0]
[3000,3200,3210,null,null,null,null,null,null,null,null,null,0]
[3000,3200,3220,null,null,null,null,null,null,null,null,null,0]
[3000,3200,32301,null,null,null,null,null,null,null,null,null,0]
[3000,3200,32302,null,null,null,null,null,null,null,null,null,0]
[3000,3200,32303,null,null,null,null,null,null,null,null,null,0]
[3000,3200,3240,null,null,null,null,null,null,null,null,null,0]
[3000,3200,32501,null,null,null,null,null,null,null,null,null,0]
[3000,3200,32502,null,null,null,null,null,null,null,null,null,0]
[3000,3200,32503,null,null,null,null,null,null,null,null,null,0]
[3000,3200,32504,null,null,null,null,null,null,null,null,null,0]
[3000,3200,32505,null,null,null,null,null,null,null,null,null,0]
[3000,3200,3260,null,null,null,null,null,null,null,null,null,0]
[3000,3200,3270,null,null,null,null,null,null,null,null,null,0]
[3000,3200,3280,null,null,null,null,null,null,null,null,null,0]
[3000,3200,32901,null,null,null,null,null,null,null,null,null,0]
[3000,3200,32902,null,null,null,null,null,null,null,null,null,0]
[3000,3200,32903,null,null,null,null,null,null,null,null,null,0]
[3000,3300,33101,null,null,null,null,null,null,null,null,null,0]
[3000,3300,33102,null,null,null,null,null,null,null,null,null,0]
[3000,3300,33103,null,null,null,null,null,null,null,null,null,0]
[3000,3300,33104,null,null,null,null,null,null,null,null,null,0]
[3000,3300,33105,null,null,null,null,null,null,null,null,null,0]
[3000,3300,3320,null,null,null,null,null,null,null,null,null,0]
[3000,3300,33301,null,null,null,null,null,null,null,null,null,0]
[3000,3300,33302,null,null,null,null,null,null,null,null,null,0]
[3000,3300,33303,null,null,null,null,null,null,null,null,null,0]
[3000,3300,33304,null,null,null,null,null,null,null,null,null,0]
[3000,3300,3340,null,null,null,null,null,null,null,null,null,0]
[3000,3300,3350,null,null,null,null,null,null,null,null,null,0]
[3000,3300,33601,null,null,null,null,null,null,null,null,null,0]
[3000,3300,33602,null,null,null,null,null,null,null,null,null,0]
[3000,3300,33603,null,null,null,null,null,null,null,null,null,0]
[3000,3300,33604,null,null,null,null,null,null,null,null,null,0]
[3000,3300,33605,null,null,null,null,null,null,null,null,null,0]
[3000,3300,33606,null,null,null,null,null,null,null,null,null,0]
[3000,3300,33701,null,null,null,null,null,null,null,null,null,0]
[3000,3300,33702,null,null,null,null,null,null,null,null,null,0]
[3000,3300,3380,null,null,null,null,null,null,null,null,null,0]
[3000,3300,33901,null,null,null,null,null,null,null,null,null,0]
[3000,3300,33902,null,null,null,null,null,null,null,null,null,0]
[3000,3300,33903,null,null,null,null,null,null,null,null,null,0]
[3000,3300,33904,null,null,null,null,null,null,null,null,null,0]
[3000,3300,33905,null,null,null,null,null,null,null,null,null,0]
[3000,3300,33906,null,null,null,null,null,null,null,null,null,0]
[3000,3400,3410,null,null,null,null,null,null,null,null,null,0]
[3000,3400,3420,null,null,null,null,null,null,null,null,null,0]
[3000,3400,3430,null,null,null,null,null,null,null,null,null,0]
[3000,3400,3440,null,null,null,null,null,null,null,null,null,0]
[3000,3400,3450,null,null,null,null,null,null,null,null,null,0]
[3000,3400,3460,null,null,null,null,null,null,null,null,null,0]
[3000,3400,3470,null,null,null,null,null,null,null,null,null,0]
[3000,3400,3480,null,null,null,null,null,null,null,null,null,0]
[3000,3400,3490,null,null,null,null,null,null,null,null,null,0]
[3000,3500,35101,null,null,null,null,null,null,null,null,null,0]
[3000,3500,35102,null,null,null,null,null,null,null,null,null,0]
[3000,3500,3520,null,null,null,null,null,null,null,null,null,0]
[3000,3500,3530,null,null,null,null,null,null,null,null,null,0]
[3000,3500,3540,null,null,null,null,null,null,null,null,null,0]
[3000,3500,3550,null,null,null,null,null,null,null,null,null,0]
[3000,3500,3560,null,null,null,null,null,null,null,null,null,0]
[3000,3500,35701,null,null,null,null,null,null,null,null,null,0]
[3000,3500,35702,null,null,null,null,null,null,null,null,null,0]
[3000,3500,3580,null,null,null,null,null,null,null,null,null,0]
[3000,3500,3590,null,null,null,null,null,null,null,null,null,0]
[3000,3600,3610,null,null,null,null,null,null,null,null,null,0]
[3000,3600,3620,null,null,null,null,null,null,null,null,null,0]
[3000,3600,3630,null,null,null,null,null,null,null,null,null,0]
[3000,3600,3640,null,null,null,null,null,null,null,null,null,0]
[3000,3600,3650,null,null,null,null,null,null,null,null,null,0]
[3000,3600,3660,null,null,null,null,null,null,null,null,null,0]
[3000,3600,3690,null,null,null,null,null,null,null,null,null,0]
[3000,3700,37101,null,null,null,null,null,null,null,null,null,0]
[3000,3700,37102,null,null,null,null,null,null,null,null,null,0]
[3000,3700,37103,null,null,null,null,null,null,null,null,null,0]
[3000,3700,37104,null,null,null,null,null,null,null,null,null,0]
[3000,3700,37105,null,null,null,null,null,null,null,null,null,0]
[3000,3700,37106,null,null,null,null,null,null,null,null,null,0]
[3000,3700,37201,null,null,null,null,null,null,null,null,null,0]
[3000,3700,37202,null,null,null,null,null,null,null,null,null,0]
[3000,3700,37203,null,null,null,null,null,null,null,null,null,0]
[3000,3700,37204,null,null,null,null,null,null,null,null,null,0]
[3000,3700,37205,null,null,null,null,null,null,null,null,null,0]
[3000,3700,37206,null,null,null,null,null,null,null,null,null,0]
[3000,3700,37207,null,null,null,null,null,null,null,null,null,0]
[3000,3700,37301,null,null,null,null,null,null,null,null,null,0]
[3000,3700,37302,null,null,null,null,null,null,null,null,null,0]
[3000,3700,37303,null,null,null,null,null,null,null,null,null,0]
[3000,3700,37304,null,null,null,null,null,null,null,null,null,0]
[3000,3700,3740,null,null,null,null,null,null,null,null,null,0]
[3000,3700,37501,null,null,null,null,null,null,null,null,null,0]
[3000,3700,37502,null,null,null,null,null,null,null,null,null,0]
[3000,3700,37503,null,null,null,null,null,null,null,null,null,0]
[3000,3700,37504,null,null,null,null,null,null,null,null,null,0]
[3000,3700,37601,null,null,null,null,null,null,null,null,null,0]
[3000,3700,37602,null,null,null,null,null,null,null,null,null,0]
[3000,3700,3770,null,null,null,null,null,null,null,null,null,0]
[3000,3700,37801,null,null,null,null,null,null,null,null,null,0]
[3000,3700,37802,null,null,null,null,null,null,null,null,null,0]
[3000,3700,3790,null,null,null,null,null,null,null,null,null,0]
[3000,3800,38101,null,null,null,null,null,null,null,null,null,0]
[3000,3800,38102,null,null,null,null,null,null,null,null,null,0]
[3000,3800,38103,null,null,null,null,null,null,null,null,null,0]
[3000,3800,3820,null,null,null,null,null,null,null,null,null,0]
[3000,3800,3830,null,null,null,null,null,null,null,null,null,0]
[3000,3800,3840,null,null,null,null,null,null,null,null,null,0]
[3000,3800,3850,null,null,null,null,null,null,null,null,null,0]
[3000,3900,3910,null,null,null,null,null,null,null,null,null,0]
[3000,3900,39201,null,null,null,null,null,null,null,null,null,0]
[3000,3900,39202,null,null,null,null,null,null,null,null,null,0]
[3000,3900,3930,null,null,null,null,null,null,null,null,null,0]
[3000,3900,39401,null,null,null,null,null,null,null,null,null,0]
[3000,3900,39402,null,null,null,null,null,null,null,null,null,0]
[3000,3900,39403,null,null,null,null,null,null,null,null,null,0]
[3000,3900,3950,null,null,null,null,null,null,null,null,null,0]
[3000,3900,39601,null,null,null,null,null,null,null,null,null,0]
[3000,3900,39602,null,null,null,null,null,null,null,null,null,0]
[3000,3900,3970,null,null,null,null,null,null,null,null,null,0]
[3000,3900,3980,null,null,null,null,null,null,null,null,null,0]
[3000,3900,39901,null,null,null,null,null,null,null,null,null,0]
[3000,3900,39902,null,null,null,null,null,null,null,null,null,0]
[3000,3900,39904,null,null,null,null,null,null,null,null,null,0]
[3000,3900,39905,null,null,null,null,null,null,null,null,null,0]
[3000,3900,39906,null,null,null,null,null,null,null,null,null,0]
[3000,3900,39907,null,null,null,null,null,null,null,null,null,0]
[3000,3900,39908,null,null,null,null,null,null,null,null,null,0]
[3000,3900,39909,null,null,null,null,null,null,null,null,null,0]
[3000,3900,39910,null,null,null,null,null,null,null,null,null,0]
[4000,4100,4110,null,null,null,null,null,null,null,null,null,0]
[4000,4100,4120,null,null,null,null,null,null,null,null,null,0]
[4000,4100,4130,null,null,null,null,null,null,null,null,null,0]
[4000,4100,4140,null,null,null,null,null,null,null,null,null,0]
[4000,4100,4150,null,null,null,null,null,null,null,null,null,0]
[4000,4100,4160,null,null,null,null,null,null,null,null,null,0]
[4000,4100,4170,null,null,null,null,null,null,null,null,null,0]
[4000,4100,4180,null,null,null,null,null,null,null,null,null,0]
[4000,4100,4190,null,null,null,null,null,null,null,null,null,0]
[4000,4200,4210,null,null,null,null,null,null,null,null,null,0]
[4000,4200,4220,null,null,null,null,null,null,null,null,null,0]
[4000,4200,4230,null,null,null,null,null,null,null,null,null,0]
[4000,4200,4240,null,null,null,null,null,null,null,null,null,0]
[4000,4200,4250,null,null,null,null,null,null,null,null,null,0]
[4000,4300,4310,null,null,null,null,null,null,null,null,null,0]
[4000,4300,4320,null,null,null,null,null,null,null,null,null,0]
[4000,4300,4330,null,null,null,null,null,null,null,null,null,0]
[4000,4300,4340,null,null,null,null,null,null,null,null,null,0]
[4000,4300,4350,null,null,null,null,null,null,null,null,null,0]
[4000,4300,4360,null,null,null,null,null,null,null,null,null,0]
[4000,4300,4370,null,null,null,null,null,null,null,null,null,0]
[4000,4300,4380,null,null,null,null,null,null,null,null,null,0]
[4000,4300,43901,null,null,null,null,null,null,null,null,null,0]
[4000,4300,43902,null,null,null,null,null,null,null,null,null,0]
[4000,4400,44101,null,null,null,null,null,null,null,null,null,0]
[4000,4400,44102,null,null,null,null,null,null,null,null,null,0]
[4000,4400,44103,null,null,null,null,null,null,null,null,null,0]
[4000,4400,44104,null,null,null,null,null,null,null,null,null,0]
[4000,4400,44105,null,null,null,null,null,null,null,null,null,0]
[4000,4400,44106,null,null,null,null,null,null,null,null,null,0]
[4000,4400,4420,null,null,null,null,null,null,null,null,null,0]
[4000,4400,4430,null,null,null,null,null,null,null,null,null,0]
[4000,4400,44401,null,null,null,null,null,null,null,null,null,0]
[4000,4400,44402,null,null,null,null,null,null,null,null,null,0]
[4000,4400,4450,null,null,null,null,null,null,null,null,null,0]
[4000,4400,4460,null,null,null,null,null,null,null,null,null,0]
[4000,4400,4470,null,null,null,null,null,null,null,null,null,0]
[4000,4400,4480,null,null,null,null,null,null,null,null,null,0]
[4000,4500,4510,null,null,null,null,null,null,null,null,null,0]
[4000,4500,45201,null,null,null,null,null,null,null,null,null,0]
[4000,4500,45202,null,null,null,null,null,null,null,null,null,0]
[4000,4500,45203,null,null,null,null,null,null,null,null,null,0]
[4000,4500,45901,null,null,null,null,null,null,null,null,null,0]
[4000,4500,45902,null,null,null,null,null,null,null,null,null,0]
[4000,4600,46101,null,null,null,null,null,null,null,null,null,0]
[4000,4600,46102,null,null,null,null,null,null,null,null,null,0]
[4000,4600,4620,null,null,null,null,null,null,null,null,null,0]
[4000,4600,4630,null,null,null,null,null,null,null,null,null,0]
[4000,4600,4640,null,null,null,null,null,null,null,null,null,0]
[4000,4600,4650,null,null,null,null,null,null,null,null,null,0]
[4000,4600,4660,null,null,null,null,null,null,null,null,null,0]
[4000,4600,4690,null,null,null,null,null,null,null,null,null,0]
[4000,4700,47101,null,null,null,null,null,null,null,null,null,0]
[4000,4700,47102,null,null,null,null,null,null,null,null,null,0]
[4000,4800,4810,null,null,null,null,null,null,null,null,null,0]
[4000,4800,4820,null,null,null,null,null,null,null,null,null,0]
[4000,4800,4830,null,null,null,null,null,null,null,null,null,0]
[4000,4800,4840,null,null,null,null,null,null,null,null,null,0]
[4000,4800,4850,null,null,null,null,null,null,null,null,null,0]
[4000,4900,4910,null,null,null,null,null,null,null,null,null,0]
[4000,4900,49201,null,null,null,null,null,null,null,null,null,0]
[4000,4900,49202,null,null,null,null,null,null,null,null,null,0]
[4000,4900,4930,null,null,null,null,null,null,null,null,null,0]
[7000,7100,7110,null,null,null,null,null,null,null,null,null,0]
[7000,7100,7120,null,null,null,null,null,null,null,null,null,0]
[7000,7200,7210,null,null,null,null,null,null,null,null,null,0]
[7000,7200,7220,null,null,null,null,null,null,null,null,null,0]
[7000,7200,7230,null,null,null,null,null,null,null,null,null,0]
[7000,7200,7240,null,null,null,null,null,null,null,null,null,0]
[7000,7200,7250,null,null,null,null,null,null,null,null,null,0]
[7000,7200,7260,null,null,null,null,null,null,null,null,null,0]
[7000,7200,7270,null,null,null,null,null,null,null,null,null,0]
[7000,7200,7280,null,null,null,null,null,null,null,null,null,0]
[7000,7200,7290,null,null,null,null,null,null,null,null,null,0]
[7000,7300,7310,null,null,null,null,null,null,null,null,null,0]
[7000,7300,7320,null,null,null,null,null,null,null,null,null,0]
[7000,7300,7330,null,null,null,null,null,null,null,null,null,0]
[7000,7300,7340,null,null,null,null,null,null,null,null,null,0]
[7000,7300,7350,null,null,null,null,null,null,null,null,null,0]
[7000,7300,73901,null,null,null,null,null,null,null,null,null,0]
[7000,7300,73902,null,null,null,null,null,null,null,null,null,0]
[7000,7300,73903,null,null,null,null,null,null,null,null,null,0]
[7000,7400,7410,null,null,null,null,null,null,null,null,null,0]
[7000,7400,7420,null,null,null,null,null,null,null,null,null,0]
[7000,7400,7430,null,null,null,null,null,null,null,null,null,0]
[7000,7400,7440,null,null,null,null,null,null,null,null,null,0]
[7000,7400,74501,null,null,null,null,null,null,null,null,null,0]
[7000,7400,74502,null,null,null,null,null,null,null,null,null,0]
[7000,7400,74503,null,null,null,null,null,null,null,null,null,0]
[7000,7400,74504,null,null,null,null,null,null,null,null,null,0]
[7000,7400,74505,null,null,null,null,null,null,null,null,null,0]
[7000,7400,74506,null,null,null,null,null,null,null,null,null,0]
[7000,7400,7460,null,null,null,null,null,null,null,null,null,0]
[7000,7400,7470,null,null,null,null,null,null,null,null,null,0]
[7000,7400,7480,null,null,null,null,null,null,null,null,null,0]
[7000,7400,7490,null,null,null,null,null,null,null,null,null,0]
[7000,7500,7510,null,null,null,null,null,null,null,null,null,0]
[7000,7500,7520,null,null,null,null,null,null,null,null,null,0]
[7000,7500,7530,null,null,null,null,null,null,null,null,null,0]
[7000,7500,7540,null,null,null,null,null,null,null,null,null,0]
[7000,7500,7550,null,null,null,null,null,null,null,null,null,0]
[7000,7500,75601,null,null,null,null,null,null,null,null,null,0]
[7000,7500,75602]
[7000,7500,7570]
[7000,7500,7580]
[7000,7500,7590]
[7000,7600,7610]
[7000,7600,7620]
[7000,7900,7910]
[7000,7900,7920]
[7000,7900,79901]
[7000,7900,79902]
[5000,5100,5110]
[5000,5100,5120]
[5000,5100,5130]
[5000,5100,5140]
[5000,5100,5150]
[5000,5100,51901]
[5000,5100,51902]
[5000,5200,5210]
[5000,5200,5220]
[5000,5200,5230]
[5000,5200,5290]
[5000,5300,5310]
[5000,5300,5320]
[5000,5400,54101]
[5000,5400,54102]
[5000,5400,54103]
[5000,5400,54104]
[5000,5400,54105]
[5000,5400,5420]
[5000,5400,54301]
[5000,5400,54302]
[5000,5400,54303]
[5000,5400,5440]
[5000,5400,54501]
[5000,5400,54502]
[5000,5400,54503]
[5000,5400,5490]
[5000,5500,55101]
[5000,5500,55102]
[5000,5600,5610]
[5000,5600,5620]
[5000,5600,5630]
[5000,5600,5640]
[5000,5600,5650]
[5000,5600,5660]
[5000,5600,5670]
[5000,5600,56901]
[5000,5600,56902]
[5000,5700,5710]
[5000,5700,5720]
[5000,5700,5730]
[5000,5700,5740]
[5000,5700,5750]
[5000,5700,5760]
[5000,5700,5770]
[5000,5700,5780]
[5000,5700,5790]
[5000,5800,5810]
[5000,5800,5820]
[5000,5800,5830]
[5000,5800,58901]
[5000,5800,58902]
[5000,5800,58903]
[5000,5800,58904]
[5000,5900,5910]
[5000,5900,5920]
[5000,5900,5930]
[5000,5900,5940]
[5000,5900,5950]
[5000,5900,5960]
[5000,5900,5970]
[5000,5900,5980]
[5000,5900,5990]
[6000,6100,6110]
[6000,6100,6120]
[6000,6100,6130]
[6000,6100,6140]
[6000,6100,6150]
[6000,6100,6160]
[6000,6100,6170]
[6000,6100,6190]
[6000,6200,62101]
[6000,6200,62102]
[6000,6200,62201]
[6000,6200,62202]
[6000,6200,62301]
[6000,6200,62302]
[6000,6200,62401]
[6000,6200,62402]
[6000,6200,62403]
[6000,6200,62501]
[6000,6200,62502]
[6000,6200,62601]
[6000,6200,62602]
[6000,6200,6270]
[6000,6200,62901]
[6000,6200,62902]
[6000,6200,62903]
[6000,6200,62904]
[6000,6200,62905]
[6000,6300,6310]
[6000,6300,6320]
[9000,9900,9910]

{"sheet":"Instructivo","index":1,"n_rows":101,"n_cols":10,"rows_kept":101,"cut":false,"hidden":false,"merged":[[25,1,25,14],[59,9,59,12],[60,9,60,12],[61,9,61,12],[17,2,17,14],[19,1,19,14],[21,1,21,14],[22,1,22,14],[23,1,23,14],[27,1,27,14],[29,1,29,14],[33,1,33,14],[50,1,50,14],[52,2,52,14],[31,1,31,14],[40,1,40,14],[16,2,16,14],[6,1,6,14],[10,1,10,14],[13,2,13,14],[14,2,14,14],[15,2,15,14],[100,1,100,14],[81,3,81,5],[94,3,94,5],[63,8,65,12],[55,9,55,12],[56,9,56,12],[58,9,58,12],[57,9,57,12],[78,2,78,14],[90,3,90,14],[91,3,91,14]]}
[]
[null,null,null,null,null,null,"Subsecretaria de Políticas de Salud y Bienestar Poblacional"]
[null,null,null,null,null,null,"Dirección General de Información en Salud"]
[null,null,null,null,null,null,"Subsistema de Cuentas en Salud a Nivel Federal y Estatal (SICUENTAS)"]
[null,null,null,null,null,null,"INSTRUCTIVO DE LLENADO"]
[]
[null,"Este formato tiene como objetivo recopilar información detallada sobre el gasto en salud realizado durante el Ejercicio 2025 por las Universidades Estatales. La información deberá registrarse utilizando dos clasificadores: el Clasificador por Objeto del Gasto (COG), que es un instrumento oficial de la administración pública federal, y el Clasificador de Actividad Específica en Salud (CAES), desarrollado por la Dirección General de Información en Salud (DGIS) para este propósito."]
[]
[null,"Estructura del Formato:"]
[]
[null,"1. La pestaña “Resumen de Calidad” presenta los resultados de los atributos de calidad requeridos en la información: Oportunidad, Integridad, Consistencia y Validez. En el caso de las Universidades Estatales, la evaluación de la Validez se realizará por primera vez tomando como referencia la información reportada en el ejercicio anterior.\n\nDado que el reporte del gasto público en salud debe realizarse a nivel de partida presupuestal, los indicadores de calidad permiten evaluar la información consolidada conforme a los clasificadores requeridos. Una vez completado el llenado de la matriz, el cuadro denominado “Semáforo de calidad” mostrará el desempeño del usuario en la clasificación y codificación de los datos, reflejando una calificación final."]
[]
[null,"Instrucciones generales para el llenado y evaluación:"]
[null,null,"a. Antes de proceder a la evaluación de la calidad, es indispensable llenar completamente la matriz, requisitando todas las columnas correspondientes utilizando los catálogos porporcionados en este  y conforme a las especificaciones descritas a continuación."]
[null,null,"b. Una vez concluido el llenado de la matriz, dirigirse a la pestaña \"Resumen de Calidad\" y dar clic el botón \"Evaluación\". Es necesario verificar que todos los validadores de calidad cumplan con los criterios establecidos, a saber:"]
[null,null,"\u009f Oportunidad: Sin calificación asignada ya que la DGIS complementará esta calificación con base en la fecha de recepción.","Cobertura Oportuna: debe alcanzar una calificación mínima de 50 puntos (la DGIS complementará esta calificación con base en la fecha de recepción)."]
[null,null,"\u009f Integridad y Validez: debe obtener una calificación de 100 puntos en cada una."]
[null,null,"\u009f Consistencia: se registrará inicialmente en cero; esta evaluación será incorporada por la DGIS al inicio del proceso de revisión."]
[null,"Especificaciones:"]
[null,"a) La codificación Espacio-Temporal debe completarse para toda la información incluida en la matriz.\nb) La Información Presupuestal (Presupuesto Autorizado (PA), Modificado (PM), Ejercido (PE) y Autorizado del siguiente año (PA1) se codifica en la pestaña \"Notas\". En esta misma sección, en caso de no reportar o codificar alguna categoria, explique la razón. Asimismo, indique cualquier detalle relevante que deba considerarse para el análisis y la adecuada interpretación de la información. Si no se dispone del valor Autorizado, Modificado o Autorizado del siguiente año de alguna categoria, registre ceros. En caso de no contar con observaciones o comentarios específicos, indicar expresamente: \"Sin comentarios adicionales.\"\nc) Para que la información se reciba y se registre como \"entregada\", los valores del Semáforo de Calidad deberán cumplir con las características descritas en el punto b. del presente instructivo."]
[]
[null,"2. La pestaña “XX.ACRONIMO-2025” es la matriz de gasto donde cada Universidad Estatal debe integrar la información del Ejercicio de Gasto 2025. Para conocer la metodología de codificación y clasificación, se ponen a disposición de los usuarios los Manuales para la codificación Espacio Temporal, la Clasificación por Actividad Institucional y la Clasificación por Objeto del Gasto en la siguiente dirección electrónica:"]
[null,"http://sinba.salud.gob.mx/SSASICUENTAS"]
[null,"Este archivo incluye una pestaña por cada catálogo de equivalencias necesario para completar la codificación de la matriz."]
[]
[null,"3. Para llenar las columnas A-E y la columna Q (Codificación Espacio Temporal): Consulte la pestaña \"1.Codificación Espacio Temporal\", la cual contiene los catálogos de entidades federativas, fuentes de financiamiento, grupo de proveedores y clave de institucion."]
[]
[null,"4. Para llenar las columnas H-I (Clasificador de Actividad Específica en Salud - CAES): utilice la información contenida en el catálogo ubicado en la pestaña \"2.Catálogo CAES IE&D\". Con base en las actividades orientadas a la salud que la Universidad Estatal haya desempeñado durante el ejercicio fiscal, seleccione la clave que mejor corresponda según su descripción. Coloque dicha clave en la columna H \"Cve_H\" y registre la descripción correspondiente en la columna I \"Actividad Institucional\".\nAl utilizar el formato correspondiente al grupo de proveedor, los mecanismos de validación identificarán si las claves están siendo aplicadas correctamente en estas columnas."]
[]
[null,"5. Para llenar las columnas N-P (Clasificador por Objeto del Gasto - COG): Utilice la estructura del catálogo en la pestaña \"3.Catálogo COG\". Codifique las partidas específicas cuando formen parte de un grupo que contenga más de una variable. Si una partida genérica solo tiene una desagregación específica, manténgala a nivel genérico (sin desagregar). Esto significa que en la columna P pueden coexistir claves de 4 y 5 dígitos, según corresponda. El validador considerará las claves correctas solo si también están correctamente codificados el capítulo y el concepto."]
[]
[null,"7. Para llenar la columna S (Monto del Presupuesto Ejercido 2025): Registre en esta columna los montos correspondientes al Presupuesto Ejercido durante el ejercicio fiscal 2025. Los montos deben expresarse en miles de pesos con dos decimales."]
[]
[null,"8. El nombre de la pestaña que contiene la matriz de gasto debe ser modificado según los siguientes criterios:"]
[null,null,"XX.","Número de Cve_Ins (ver pestaña 1.Codificación Espacio Temporal)"]
[null,null,"ACRONIMO","Es el acronimo de la Universidad que reporta"]
[null,null,-2025,"No se modifica, indica el año del ejercicio presupuestal que se reporta"]
[null,"Ejemplo: Universidad de Guadalajara "]
[null,null,null,"121.UdeG-2025"]
[]
[null,"9. El nombre del archivo debe modificarse según cada institución de la siguiente manera:"]
[null,null,"XX. ","Número de Cve_Ins (ver pestaña 1.Codificación Espacio Temporal)"]
[null,null,"UNIVERSIDADES","Es el acronimo de la Universidad que reporta"]
[null,null,"_IE&D-2026","No se modifica, indica grupo de proveedor y año en que se reporta"]
[null,"Ejemplo: Universidad Autónoma de Nuevo León "]
[null,null,null,"126.UANL_IE&D-2026"]
[]
[]
[null,"Criterios de evaluación"]
[]
[null,"La Norma Oficial Mexicana NOM-035-SSA3-2012, en materia de información en salud, establece la medición de criterios de calidad, los cuales son fundamentales para asegurar la utilidad y confiabilidad de los datos recopilados. Los cuatro criterios que se evalúan en este archivo, y que se enfocan en la calidad de la información plasmada en la matriz de gasto, son los siguientes:"]
[]
[null,null,"\u009f Oportunidad Este componente de calidad mide que la información financiera sea entregada a tiempo en la fecha establecida en la solicitud. Se penalizará cada día de retraso en la entrega. La calificación de este criterio será completada por la DGIS al registrar la fecha de recepción del archivo."]
[]
[null,null,"Penalización por días de retraso en la calificación de Oportunidad",null,null,null,null,null,"Fuentes de financiamiento solicitadas por grupo de proveedor (IE&D)"]
[null,null,"Días hábiles de retraso","Penalización","Puntaje de oportunidad","Calificación",null,null,"Cve_FF","Descripción"]
[null,null,0,0,1,100,null,null,"A26","Ramo 11, Educación"]
[null,null,1,0.05,0.95,95,null,null,"A27","Ramo 38, Humanidades, Ciencias, Tecnologías e Innovación"]
[null,null,2,0.1,0.9,90,null,null,"A17","Cuotas de Recuperación"]
[null,null,3,0.15,0.85,85,null,null,"A21","Recursos Propios"]
[null,null,4,0.2,0.8,80,null,null,"A22","Recursos de Terceros"]
[null,null,5,0.25,0.75,75,null,null,"AXX","Otra*"]
[null,null,6,0.3,0.7,70]
[null,null,7,0.35,0.65,65,null,null,"Nota: Cualquier otra fuente local o federal que haya financiado actividades orientadas a la salud en el periodo del ejercicio que se solicita, especificar cuál."]
[null,null,8,0.4,0.6,60]
[null,null,9,0.45,0.55000000000000004,55]
[null,null,10,0.5,0.5,50]
[null,null,11,0.55000000000000004,0.45,45]
[null,null,12,0.6,0.4,40]
[null,null,13,0.65,0.35,35]
[null,null,14,0.7,0.3,30]
[null,null,15,0.75,0.25,25]
[null,null,16,0.8,0.2,20]
[null,null,17,0.85,0.15,15]
[null,null,18,0.9,0.1,10]
[null,null,19,0.95,0.05,5]
[null,null,"20 o más",1,0,0]
[]
[null,null,"\u009f Integridad: Mide la completitud en los requerimientos de la información. Se enlistaron una serie de criterios a los que se les asignó una ponderación, los cuales deben verse reflejados en la codificación de la Matriz de Gasto."]
[]
[null,null,"Ponderaciones de integridad para el ejercicio 2025"]
[null,null,null,"Criterio",null,null,"Ponderación"]
[null,null,1,"Codificación en el formato correspondiente",null,null,10]
[null,null,2,"Información Presupuestal",null,null,20]
[null,null,3,"Notas a Fuentes de Financiamiento",null,null,20]
[null,null,4,"Clasificación por Objeto de Gasto",null,null,25]
[null,null,5,"Clasificación por Actividad en salud",null,null,25]
[]
[null,null,"\u009f Consistencia: La consistencia mide la coherencia interna entre los datos que registra y codifica cada proveedor. Se evaluarán los siguientes criterios:"]
[]
[null,null,null,"Codificación Espacio-Temporal: Las codificaciones del año del ejercicio, fuentes de financiamiento, proveedor y entidad federativa deben estar correctamente asignadas según el catálogo correspondiente (pestaña \"1.Codificación Espacio Temporal\")."]
[null,null,null,"Codificación del clasificador COG: La cuenta de Capital debe coincidir con lo reportado en la cuenta pública y en la entrega de la matriz. Las partidas Genéricas y Específicas deben corresponder al concepto y capitulo según el catálogo. La tendencia histórica debe ser estable."]
[]
[null,null,"Ponderaciones de Consistencia para el ejercicio 2025"]
[null,null,null,"Criterio",null,null,"Valoración"]
[null,null,1,"Montos valorados en Miles de pesos",null,null,20]
[null,null,2,"Codificación Espacio-Temporal",null,null,20]
[null,null,3,"Codificación del clasificador COG",null,null,30]
[null,null,4,"Clasificación por Actividad en salud",null,null,30]
[]
[null,"Dado que esta es la primera entrega de información por parte de las Universidades Estatales, los criterios de evaluación aplicables serán exclusivamente los atributos de Oportunidad, Integridad y Consistencia. Estos parámetros han sido definidos de manera específica para este grupo de proveedores de información. En caso de dudas sobre el llenado, la codificación o los criterios de calidad, favor de comunicarse con la Dirección General de Información en Salud (DGIS) para recibir la orientación correspondiente"]

{"sheet":"Resumen de Calidad","index":2,"n_rows":43,"n_cols":8,"rows_kept":43,"cut":false,"hidden":false,"merged":[]}
[]
[null,null,"Subsecretaria de Políticas de Salud y Bienestar Poblacional"]
[null,null,"Dirección General de Información en Salud"]
[null,null,"Subsistema de Cuentas en Salud a Nivel Federal y Estatal (SICUENTAS)"]
[null,null,"Universidades Estatales, Ejercicio 2025"]
[]
[null,null,"Semáforo de Calidad"]
[]
[null,"Cve_Edo_Ins","Unidad responsable","Oportunidad ","Validez","Integridad","Consistencia","Calificación"]
[null,{"$f":"IF('XX.ACRONIMO-2025'!D2=\"\",\"\",'XX.ACRONIMO-2025'!D2)","v":""},{"$f":"IFERROR(VLOOKUP($B15,'Base Maestra'!A4:C36,3,FALSE),\"\")","v":""},{"$f":"F15","v":"Evaluación DGIS"},{"$f":"F24","v":""},{"$f":"F34","v":""},{"$f":"F43","v":""},{"$f":"IFERROR(AVERAGE(D10:G10),\"\")","v":""}]
[]
[null,"1.Oportunidad "]
[]
[null,"Cve_Edo_Ins","Unidad responsable","Fecha de solicitud","Fecha de entrega","Evaluación"]
[null,{"$f":"IF('XX.ACRONIMO-2025'!D2=\"\",\"\",'XX.ACRONIMO-2025'!D2)","v":""},{"$f":"C10","v":""},"2026-07-06",{"$f":"'Notas 2025'!H8","v":"00:00:00"},{"$f":"IF(E15=0,\"Evaluación DGIS\", VLOOKUP(MIN(MAX(0, NETWORKDAYS(D15, E15) - 1), 20),'Base Maestra'!$L$41:$O$62,4, TRUE))","v":"Evaluación DGIS"}]
[]
[null,"2.Validez"]
[]
[null,"Cve_FF","Descripción","Reporte 2024","Reporte 2025","Calificación"]
[null,"A21","Recursos Propios",{"$f":"IFERROR(VLOOKUP($B$15,'Base Maestra'!$A$4:$M$35,4,FALSE),0)","v":0},{"$f":"IFERROR(VLOOKUP($B$15,'Base Maestra'!$A$4:$M$35,9,FALSE),0)","v":0},{"$f":"IF(OR(AND(D20=\"\", E20=\"\"), AND(D20=0, E20=0)), \"\",\n   ROUND(\n      IF(E20 >= D20, 100,\n         IF((D20 - E20)/D20 <= 0.03, 100,\n            IF((D20 - E20)/D20 >= 0.11, 0,\n               -12.5*(D20 - E20)/D20*100 + 137.5\n            )\n         )\n      ),\n   0)\n)","v":""}]
[null,"A26","Ramo 11, Educación",{"$f":"IFERROR(VLOOKUP($B$15,'Base Maestra'!$A$4:$M$35,5,FALSE),0)","v":0},{"$f":"IFERROR(VLOOKUP($B$15,'Base Maestra'!$A$4:$M$35,10,FALSE),0)","v":0},{"$f":"IF(OR(AND(D21=\"\", E21=\"\"), AND(D21=0, E21=0)), \"\",\n   ROUND(\n      IF(E21 >= D21, 100,\n         IF((D21 - E21)/D21 <= 0.03, 100,\n            IF((D21 - E21)/D21 >= 0.11, 0,\n               -12.5*(D21 - E21)/D21*100 + 137.5\n            )\n         )\n      ),\n   0)\n)","v":""}]
[null,"A27","Ramo 38, Humanidades, Ciencias, Tecnologías e Innovación",{"$f":"IFERROR(VLOOKUP($B$15,'Base Maestra'!$A$4:$M$35,6,FALSE),0)","v":0},{"$f":"IFERROR(VLOOKUP($B$15,'Base Maestra'!$A$4:$M$35,11,FALSE),0)","v":0},""]
[null,"A34","Otra*",{"$f":"IFERROR(USCARV($B$15,'Base Maestra'!$A$4:$M$35,7,FALSE),0)","v":0},{"$f":"IFERROR(VLOOKUP($B$15,'Base Maestra'!$A$4:$M$35,12,FALSE),0)","v":0},""]
[null,"Total",null,{"$f":"SUM(D20:D23)","v":0},{"$f":"SUM(E20:E23)","v":0},""]
[]
[null,"3.Integridad"]
[]
[null,null,"Criterio","Ponderación","Evaluación","Calificación"]
[null,1,"Codificación en el formato correspondiente",10,{"$f":"IF(C10=\"\",\"ý\",IF(C10<>\"\",\"þ\",\"ý\"))","v":"ý"},{"$f":"IF(E29=\"þ\",D29,0)","v":0}]
[null,3,"Información Presupuestal",20,{"$f":"IF(ISBLANK(B10), \"ý\", IF(OR(ISBLANK('Notas 2025'!D11), ISBLANK('Notas 2025'!E11), ISBLANK('Notas 2025'!G11)), \"ý\", \"þ\"))","v":"ý"},{"$f":"IF(E30=\"þ\",D30,0)","v":0}]
[null,4,"Notas a Fuentes de Financiamiento",20,{"$f":"IF(ISBLANK(#REF!), \"ý\", IF(ISBLANK('Notas 2025'!H11), \"ý\", \"þ\"))","v":"ý"},0]
[null,5,"Clasificación por Objeto de Gasto",25,{"$f":"IF(\n   OR(COUNTA('XX.ACRONIMO-2025'!S:S)=0, COUNTA('XX.ACRONIMO-2025'!T:T)=0),\n   \"ý\",\n   IF(\n      COUNTA('XX.ACRONIMO-2025'!S:S) = COUNTA('XX.ACRONIMO-2025'!T:T),\n      IF(COUNTIF('XX.ACRONIMO-2025'!T:T, \"Revisar Catálogo\") >= 1, \"ý\", \"þ\"),\n      \"ý\"\n   )\n)","v":"ý"},0]
[null,6,"Clasificación por Actividad en salud",25,{"$f":"IF(\n   OR(COUNTA('XX.ACRONIMO-2025'!S:S)=0, COUNTA('XX.ACRONIMO-2025'!U:U)=0),\n   \"ý\",\n   IF(\n      COUNTA('XX.ACRONIMO-2025'!S:S) = COUNTA('XX.ACRONIMO-2025'!U:U),\n      IF(COUNTIF('XX.ACRONIMO-2025'!U:U, \"Revisar Catálogo\") >= 1, \"ý\", \"þ\"),\n      \"ý\"\n   )\n)","v":"ý"},0]
[null,null,"Calificación",{"$f":"SUM(D29:D33)","v":100},null,{"$f":"(IF(SUM(F29:F33)=0,\"\",SUM(F29:F33)))","v":""}]
[]
[null,"4. Consistencia"]
[]
[null,null,"Criterio","Valoración","Evaluación","Calificación"]
[null,1,"Montos valorados en Miles de pesos",20,{"$f":"'Notas 2025'!D28","v":"þý"},{"$f":"IF(E39=\"þ\",D39,\"\")","v":""}]
[null,2,"Codificación Espacio-Temporal",20,{"$f":"'Notas 2025'!D29","v":0},{"$f":"IF(E40=\"þ\",D40,\"\")","v":""}]
[null,3,"Codificación del clasificador COG",30,{"$f":"'Notas 2025'!D30","v":0},{"$f":"IF(E41=\"þ\",D41,\"\")","v":""}]
[null,4,"Clasificación por Actividad en salud",30,{"$f":"'Notas 2025'!D31","v":0},{"$f":"IF(E42=\"þ\",D42,\"\")","v":""}]
[null,null,"Calificación",{"$f":"SUM(D39:D42)","v":100},null,{"$f":"IF(SUM(F39:F42)=0, \"\",SUM(F39:F42))","v":""}]

{"sheet":"XX.ACRONIMO-2025","index":3,"n_rows":1112,"n_cols":21,"rows_kept":1112,"cut":false,"hidden":false,"merged":[]}
["Año","Cve_Entidad Federativa","Cve_Proveedor","Cve_Ins","Cve_FF","Cve_Subfunción","Cve_AI","Cve_H","Actividad Institucional","Cve_PP","Programa Presupuestario","Cve_PI","Programa Institucional","Cve_Capítulo ","Cve_Concepto ","Cve_Partida genérica ó partida específica","CLUES/CLAVE","Nombre de unidad","Importe/Ejercido ","Estructura COG","Estructura CAI"]
[null,null,null,null,null,null,null,null,null,null,null,null,null,null,null,null,null,null,null,{"$f":"IF(S2<>\"\",(IF(COUNTIFS('Base Maestra'!$A$42:$A$535,N2,'Base Maestra'!$B$42:$B$535,O2,'Base Maestra'!$C$42:$C$535,P2)>0,\"Correcto\",\"Revisar Catálogo\")),\"\")","v":""},{"$f":"IF(S2<>\"\", IF(COUNTIFS(\n     'Base Maestra'!$F$43:$F$54,H2,\n     'Base Maestra'!$G$43:$G$54,I2)>0, \"Correcto\", \"Revisar Catálogo\"), \"\")","v":""}]
[null,null,null,null,null,null,null,null,null,null,null,null,null,null,null,null,null,null,null,{"$f":"IF(S3<>\"\",(IF(COUNTIFS('Base Maestra'!$A$42:$A$535,N3,'Base Maestra'!$B$42:$B$535,O3,'Base Maestra'!$C$42:$C$535,P3)>0,\"Correcto\",\"Revisar Catálogo\")),\"\")","v":""},{"$f":"IF(S3<>\"\", IF(COUNTIFS(\n     'Base Maestra'!$F$43:$F$54,H3,\n     'Base Maestra'!$G$43:$G$54,I3)>0, \"Correcto\", \"Revisar Catálogo\"), \"\")","v":""}]
[null,null,null,null,null,null,null,null,null,null,null,null,null,null,null,null,null,null,null,{"$f":"IF(S4<>\"\",(IF(COUNTIFS('Base Maestra'!$A$42:$A$535,N4,'Base Maestra'!$B$42:$B$535,O4,'Base Maestra'!$C$42:$C$535,P4)>0,\"Correcto\",\"Revisar Catálogo\")),\"\")","v":""},{"$f":"IF(S4<>\"\", IF(COUNTIFS(\n     'Base Maestra'!$F$43:$F$54,H4,\n     'Base Maestra'!$G$43:$G$54,I4)>0, \"Correcto\", \"Revisar Catálogo\"), \"\")","v":""}]
[null,null,null,null,null,null,null,null,null,null,null,null,null,null,null,null,null,null,null,{"$f":"IF(S5<>\"\",(IF(COUNTIFS('Base Maestra'!$A$42:$A$535,N5,'Base Maestra'!$B$42:$B$535,O5,'Base Maestra'!$C$42:$C$535,P5)>0,\"Correcto\",\"Revisar Catálogo\")),\"\")","v":""},{"$f":"IF(S5<>\"\", IF(COUNTIFS(\n     'Base Maestra'!$F$43:$F$54,H5,\n     'Base Maestra'!$G$43:$G$54,I5)>0, \"Correcto\", \"Revisar Catálogo\"), \"\")","v":""}]
[null,null,null,null,null,null,null,null,null,null,null,null,null,null,null,null,null,null,null,{"$f":"IF(S6<>\"\",(IF(COUNTIFS('Base Maestra'!$A$42:$A$535,N6,'Base Maestra'!$B$42:$B$535,O6,'Base Maestra'!$C$42:$C$535,P6)>0,\"Correcto\",\"Revisar Catálogo\")),\"\")","v":""},{"$f":"IF(S6<>\"\", IF(COUNTIFS(\n     'Base Maestra'!$F$43:$F$54,H6,\n     'Base Maestra'!$G$43:$G$54,I6)>0, \"Correcto\", \"Revisar Catálogo\"), \"\")","v":""}]
[null,null,null,null,null,null,null,null,null,null,null,null,null,null,null,null,null,null,null,{"$f":"IF(S7<>\"\",(IF(COUNTIFS('Base Maestra'!$A$42:$A$535,N7,'Base Maestra'!$B$42:$B$535,O7,'Base Maestra'!$C$42:$C$535,P7)>0,\"Correcto\",\"Revisar Catálogo\")),\"\")","v":""},{"$f":"IF(S7<>\"\", IF(COUNTIFS(\n     'Base Maestra'!$F$43:$F$54,H7,\n     'Base Maestra'!$G$43:$G$54,I7)>0, \"Correcto\", \"Revisar Catálogo\"), \"\")","v":""}]
[null,null,null,null,null,null,null,null,null,null,null,null,null,null,null,null,null,null,null,{"$f":"IF(S8<>\"\",(IF(COUNTIFS('Base Maestra'!$A$42:$A$535,N8,'Base Maestra'!$B$42:$B$535,O8,'Base Maestra'!$C$42:$C$535,P8)>0,\"Correcto\",\"Revisar Catálogo\")),\"\")","v":""},{"$f":"IF(S8<>\"\", IF(COUNTIFS(\n     'Base Maestra'!$F$43:$F$54,H8,\n     'Base Maestra'!$G$43:$G$54,I8)>0, \"Correcto\", \"Revisar Catálogo\"), \"\")","v":""}]
[null,null,null,null,null,null,null,null,null,null,null,null,null,null,null,null,null,null,null,{"$f":"IF(S9<>\"\",(IF(COUNTIFS('Base Maestra'!$A$42:$A$535,N9,'Base Maestra'!$B$42:$B$535,O9,'Base Maestra'!$C$42:$C$535,P9)>0,\"Correcto\",\"Revisar Catálogo\")),\"\")","v":""},{"$f":"IF(S9<>\"\", IF(COUNTIFS(\n     'Base Maestra'!$F$43:$F$54,H9,\n     'Base Maestra'!$G$43:$G$54,I9)>0, \"Correcto\", \"Revisar Catálogo\"), \"\")","v":""}]
[null,null,null,null,null,null,null,null,null,null,null,null,null,null,null,null,null,null,null,{"$f":"IF(S10<>\"\",(IF(COUNTIFS('Base Maestra'!$A$42:$A$535,N10,'Base Maestra'!$B$42:$B$535,O10,'Base Maestra'!$C$42:$C$535,P10)>0,\"Correcto\",\"Revisar Catálogo\")),\"\")","v":""},{"$f":"IF(S10<>\"\", IF(COUNTIFS(\n     'Base Maestra'!$F$43:$F$54,H10,\n     'Base Maestra'!$G$43:$G$54,I10)>0, \"Correcto\", \"Revisar Catálogo\"), \"\")","v":""}]
[null,null,null,null,null,null,null,null,null,null,null,null,null,null,null,null,null,null,null,{"$f":"IF(S11<>\"\",(IF(COUNTIFS('Base Maestra'!$A$42:$A$535,N11,'Base Maestra'!$B$42:$B$535,O11,'Base Maestra'!$C$42:$C$535,P11)>0,\"Correcto\",\"Revisar Catálogo\")),\"\")","v":""},{"$f":"IF(S11<>\"\", IF(COUNTIFS(\n     'Base Maestra'!$F$43:$F$54,H11,\n     'Base Maestra'!$G$43:$G$54,I11)>0, \"Correcto\", \"Revisar Catálogo\"), \"\")","v":""}]
[null,null,null,null,null,null,null,null,null,null,null,null,null,null,null,null,null,null,null,{"$f":"IF(S12<>\"\",(IF(COUNTIFS('Base Maestra'!$A$42:$A$535,N12,'Base Maestra'!$B$42:$B$535,O12,'Base Maestra'!$C$42:$C$535,P12)>0,\"Correcto\",\"Revisar Catálogo\")),\"\")","v":""},{"$f":"IF(S12<>\"\", IF(COUNTIFS(\n     'Base Maestra'!$F$43:$F$54,H12,\n     'Base Maestra'!$G$43:$G$54,I12)>0, \"Correcto\", \"Revisar Catálogo\"), \"\")","v":""}]
[null,null,null,null,null,null,null,null,null,null,null,null,null,null,null,null,null,null,null,{"$f":"IF(S13<>\"\",(IF(COUNTIFS('Base Maestra'!$A$42:$A$535,N13,'Base Maestra'!$B$42:$B$535,O13,'Base Maestra'!$C$42:$C$535,P13)>0,\"Correcto\",\"Revisar Catálogo\")),\"\")","v":""},{"$f":"IF(S13<>\"\", IF(COUNTIFS(\n     'Base Maestra'!$F$43:$F$54,H13,\n     'Base Maestra'!$G$43:$G$54,I13)>0, \"Correcto\", \"Revisar Catálogo\"), \"\")","v":""}]
[null,null,null,null,null,null,null,null,null,null,null,null,null,null,null,null,null,null,null,{"$f":"IF(S14<>\"\",(IF(COUNTIFS('Base Maestra'!$A$42:$A$535,N14,'Base Maestra'!$B$42:$B$535,O14,'Base Maestra'!$C$42:$C$535,P14)>0,\"Correcto\",\"Revisar Catálogo\")),\"\")","v":""},{"$f":"IF(S14<>\"\", IF(COUNTIFS(\n     'Base Maestra'!$F$43:$F$54,H14,\n     'Base Maestra'!$G$43:$G$54,I14)>0, \"Correcto\", \"Revisar Catálogo\"), \"\")","v":""}]
[null,null,null,null,null,null,null,null,null,null,null,null,null,null,null,null,null,null,null,{"$f":"IF(S15<>\"\",(IF(COUNTIFS('Base Maestra'!$A$42:$A$535,N15,'Base Maestra'!$B$42:$B$535,O15,'Base Maestra'!$C$42:$C$535,P15)>0,\"Correcto\",\"Revisar Catálogo\")),\"\")","v":""},{"$f":"IF(S15<>\"\", IF(COUNTIFS(\n     'Base Maestra'!$F$43:$F$54,H15,\n     'Base Maestra'!$G$43:$G$54,I15)>0, \"Correcto\", \"Revisar Catálogo\"), \"\")","v":""}]
[null,null,null,null,null,null,null,null,null,null,null,null,null,null,null,null,null,null,null,{"$f":"IF(S16<>\"\",(IF(COUNTIFS('Base Maestra'!$A$42:$A$535,N16,'Base Maestra'!$B$42:$B$535,O16,'Base Maestra'!$C$42:$C$535,P16)>0,\"Correcto\",\"Revisar Catálogo\")),\"\")","v":""},{"$f":"IF(S16<>\"\", IF(COUNTIFS(\n     'Base Maestra'!$F$43:$F$54,H16,\n     'Base Maestra'!$G$43:$G$54,I16)>0, \"Correcto\", \"Revisar Catálogo\"), \"\")","v":""}]
[null,null,null,null,null,null,null,null,null,null,null,null,null,null,null,null,null,null,null,{"$f":"IF(S17<>\"\",(IF(COUNTIFS('Base Maestra'!$A$42:$A$535,N17,'Base Maestra'!$B$42:$B$535,O17,'Base Maestra'!$C$42:$C$535,P17)>0,\"Correcto\",\"Revisar Catálogo\")),\"\")","v":""},{"$f":"IF(S17<>\"\", IF(COUNTIFS(\n     'Base Maestra'!$F$43:$F$54,H17,\n     'Base Maestra'!$G$43:$G$54,I17)>0, \"Correcto\", \"Revisar Catálogo\"), \"\")","v":""}]
[null,null,null,null,null,null,null,null,null,null,null,null,null,null,null,null,null,null,null,{"$f":"IF(S18<>\"\",(IF(COUNTIFS('Base Maestra'!$A$42:$A$535,N18,'Base Maestra'!$B$42:$B$535,O18,'Base Maestra'!$C$42:$C$535,P18)>0,\"Correcto\",\"Revisar Catálogo\")),\"\")","v":""},{"$f":"IF(S18<>\"\", IF(COUNTIFS(\n     'Base Maestra'!$F$43:$F$54,H18,\n     'Base Maestra'!$G$43:$G$54,I18)>0, \"Correcto\", \"Revisar Catálogo\"), \"\")","v":""}]
[null,null,null,null,null,null,null,null,null,null,null,null,null,null,null,null,null,null,null,{"$f":"IF(S19<>\"\",(IF(COUNTIFS('Base Maestra'!$A$42:$A$535,N19,'Base Maestra'!$B$42:$B$535,O19,'Base Maestra'!$C$42:$C$535,P19)>0,\"Correcto\",\"Revisar Catálogo\")),\"\")","v":""},{"$f":"IF(S19<>\"\", IF(COUNTIFS(\n     'Base Maestra'!$F$43:$F$54,H19,\n     'Base Maestra'!$G$43:$G$54,I19)>0, \"Correcto\", \"Revisar Catálogo\"), \"\")","v":""}]
[null,null,null,null,null,null,null,null,null,null,null,null,null,null,null,null,null,null,null,{"$f":"IF(S20<>\"\",(IF(COUNTIFS('Base Maestra'!$A$42:$A$535,N20,'Base Maestra'!$B$42:$B$535,O20,'Base Maestra'!$C$42:$C$535,P20)>0,\"Correcto\",\"Revisar Catálogo\")),\"\")","v":""},{"$f":"IF(S20<>\"\", IF(COUNTIFS(\n     'Base Maestra'!$F$43:$F$54,H20,\n     'Base Maestra'!$G$43:$G$54,I20)>0, \"Correcto\", \"Revisar Catálogo\"), \"\")","v":""}]
[null,null,null,null,null,null,null,null,null,null,null,null,null,null,null,null,null,null,null,{"$f":"IF(S21<>\"\",(IF(COUNTIFS('Base Maestra'!$A$42:$A$535,N21,'Base Maestra'!$B$42:$B$535,O21,'Base Maestra'!$C$42:$C$535,P21)>0,\"Correcto\",\"Revisar Catálogo\")),\"\")","v":""},{"$f":"IF(S21<>\"\", IF(COUNTIFS(\n     'Base Maestra'!$F$43:$F$54,H21,\n     'Base Maestra'!$G$43:$G$54,I21)>0, \"Correcto\", \"Revisar Catálogo\"), \"\")","v":""}]
[null,null,null,null,null,null,null,null,null,null,null,null,null,null,null,null,null,null,null,{"$f":"IF(S22<>\"\",(IF(COUNTIFS('Base Maestra'!$A$42:$A$535,N22,'Base Maestra'!$B$42:$B$535,O22,'Base Maestra'!$C$42:$C$535,P22)>0,\"Correcto\",\"Revisar Catálogo\")),\"\")","v":""},{"$f":"IF(S22<>\"\", IF(COUNTIFS(\n     'Base Maestra'!$F$43:$F$54,H22,\n     'Base Maestra'!$G$43:$G$54,I22)>0, \"Correcto\", \"Revisar Catálogo\"), \"\")","v":""}]
[null,null,null,null,null,null,null,null,null,null,null,null,null,null,null,null,null,null,null,{"$f":"IF(S23<>\"\",(IF(COUNTIFS('Base Maestra'!$A$42:$A$535,N23,'Base Maestra'!$B$42:$B$535,O23,'Base Maestra'!$C$42:$C$535,P23)>0,\"Correcto\",\"Revisar Catálogo\")),\"\")","v":""},{"$f":"IF(S23<>\"\", IF(COUNTIFS(\n     'Base Maestra'!$F$43:$F$54,H23,\n     'Base Maestra'!$G$43:$G$54,I23)>0, \"Correcto\", \"Revisar Catálogo\"), \"\")","v":""}]
[null,null,null,null,null,null,null,null,null,null,null,null,null,null,null,null,null,null,null,{"$f":"IF(S24<>\"\",(IF(COUNTIFS('Base Maestra'!$A$42:$A$535,N24,'Base Maestra'!$B$42:$B$535,O24,'Base Maestra'!$C$42:$C$535,P24)>0,\"Correcto\",\"Revisar Catálogo\")),\"\")","v":""},{"$f":"IF(S24<>\"\", IF(COUNTIFS(\n     'Base Maestra'!$F$43:$F$54,H24,\n     'Base Maestra'!$G$43:$G$54,I24)>0, \"Correcto\", \"Revisar Catálogo\"), \"\")","v":""}]
[null,null,null,null,null,null,null,null,null,null,null,null,null,null,null,null,null,null,null,{"$f":"IF(S25<>\"\",(IF(COUNTIFS('Base Maestra'!$A$42:$A$535,N25,'Base Maestra'!$B$42:$B$535,O25,'Base Maestra'!$C$42:$C$535,P25)>0,\"Correcto\",\"Revisar Catálogo\")),\"\")","v":""},{"$f":"IF(S25<>\"\", IF(COUNTIFS(\n     'Base Maestra'!$F$43:$F$54,H25,\n     'Base Maestra'!$G$43:$G$54,I25)>0, \"Correcto\", \"Revisar Catálogo\"), \"\")","v":""}]
[null,null,null,null,null,null,null,null,null,null,null,null,null,null,null,null,null,null,null,{"$f":"IF(S26<>\"\",(IF(COUNTIFS('Base Maestra'!$A$42:$A$535,N26,'Base Maestra'!$B$42:$B$535,O26,'Base Maestra'!$C$42:$C$535,P26)>0,\"Correcto\",\"Revisar Catálogo\")),\"\")","v":""},{"$f":"IF(S26<>\"\", IF(COUNTIFS(\n     'Base Maestra'!$F$43:$F$54,H26,\n     'Base Maestra'!$G$43:$G$54,I26)>0, \"Correcto\", \"Revisar Catálogo\"), \"\")","v":""}]
[null,null,null,null,null,null,null,null,null,null,null,null,null,null,null,null,null,null,null,{"$f":"IF(S27<>\"\",(IF(COUNTIFS('Base Maestra'!$A$42:$A$535,N27,'Base Maestra'!$B$42:$B$535,O27,'Base Maestra'!$C$42:$C$535,P27)>0,\"Correcto\",\"Revisar Catálogo\")),\"\")","v":""},{"$f":"IF(S27<>\"\", IF(COUNTIFS(\n     'Base Maestra'!$F$43:$F$54,H27,\n     'Base Maestra'!$G$43:$G$54,I27)>0, \"Correcto\", \"Revisar Catálogo\"), \"\")","v":""}]
[null,null,null,null,null,null,null,null,null,null,null,null,null,null,null,null,null,null,null,{"$f":"IF(S28<>\"\",(IF(COUNTIFS('Base Maestra'!$A$42:$A$535,N28,'Base Maestra'!$B$42:$B$535,O28,'Base Maestra'!$C$42:$C$535,P28)>0,\"Correcto\",\"Revisar Catálogo\")),\"\")","v":""},{"$f":"IF(S28<>\"\", IF(COUNTIFS(\n     'Base Maestra'!$F$43:$F$54,H28,\n     'Base Maestra'!$G$43:$G$54,I28)>0, \"Correcto\", \"Revisar Catálogo\"), \"\")","v":""}]
[null,null,null,null,null,null,null,null,null,null,null,null,null,null,null,null,null,null,null,{"$f":"IF(S29<>\"\",(IF(COUNTIFS('Base Maestra'!$A$42:$A$535,N29,'Base Maestra'!$B$42:$B$535,O29,'Base Maestra'!$C$42:$C$535,P29)>0,\"Correcto\",\"Revisar Catálogo\")),\"\")","v":""},{"$f":"IF(S29<>\"\", IF(COUNTIFS(\n     'Base Maestra'!$F$43:$F$54,H29,\n     'Base Maestra'!$G$43:$G$54,I29)>0, \"Correcto\", \"Revisar Catálogo\"), \"\")","v":""}]
[null,null,null,null,null,null,null,null,null,null,null,null,null,null,null,null,null,null,null,{"$f":"IF(S30<>\"\",(IF(COUNTIFS('Base Maestra'!$A$42:$A$535,N30,'Base Maestra'!$B$42:$B$535,O30,'Base Maestra'!$C$42:$C$535,P30)>0,\"Correcto\",\"Revisar Catálogo\")),\"\")","v":""},{"$f":"IF(S30<>\"\", IF(COUNTIFS(\n     'Base Maestra'!$F$43:$F$54,H30,\n     'Base Maestra'!$G$43:$G$54,I30)>0, \"Correcto\", \"Revisar Catálogo\"), \"\")","v":""}]
[null,null,null,null,null,null,null,null,null,null,null,null,null,null,null,null,null,null,null,{"$f":"IF(S31<>\"\",(IF(COUNTIFS('Base Maestra'!$A$42:$A$535,N31,'Base Maestra'!$B$42:$B$535,O31,'Base Maestra'!$C$42:$C$535,P31)>0,\"Correcto\",\"Revisar Catálogo\")),\"\")","v":""},{"$f":"IF(S31<>\"\", IF(COUNTIFS(\n     'Base Maestra'!$F$43:$F$54,H31,\n     'Base Maestra'!$G$43:$G$54,I31)>0, \"Correcto\", \"Revisar Catálogo\"), \"\")","v":""}]
[null,null,null,null,null,null,null,null,null,null,null,null,null,null,null,null,null,null,null,{"$f":"IF(S32<>\"\",(IF(COUNTIFS('Base Maestra'!$A$42:$A$535,N32,'Base Maestra'!$B$42:$B$535,O32,'Base Maestra'!$C$42:$C$535,P32)>0,\"Correcto\",\"Revisar Catálogo\")),\"\")","v":""},{"$f":"IF(S32<>\"\", IF(COUNTIFS(\n     'Base Maestra'!$F$43:$F$54,H32,\n     'Base Maestra'!$G$43:$G$54,I32)>0, \"Correcto\", \"Revisar Catálogo\"), \"\")","v":""}]
[null,null,null,null,null,null,null,null,null,null,null,null,null,null,null,null,null,null,null,{"$f":"IF(S33<>\"\",(IF(COUNTIFS('Base Maestra'!$A$42:$A$535,N33,'Base Maestra'!$B$42:$B$535,O33,'Base Maestra'!$C$42:$C$535,P33)>0,\"Correcto\",\"Revisar Catálogo\")),\"\")","v":""},{"$f":"IF(S33<>\"\", IF(COUNTIFS(\n     'Base Maestra'!$F$43:$F$54,H33,\n     'Base Maestra'!$G$43:$G$54,I33)>0, \"Correcto\", \"Revisar Catálogo\"), \"\")","v":""}]
[null,null,null,null,null,null,null,null,null,null,null,null,null,null,null,null,null,null,null,{"$f":"IF(S34<>\"\",(IF(COUNTIFS('Base Maestra'!$A$42:$A$535,N34,'Base Maestra'!$B$42:$B$535,O34,'Base Maestra'!$C$42:$C$535,P34)>0,\"Correcto\",\"Revisar Catálogo\")),\"\")","v":""},{"$f":"IF(S34<>\"\", IF(COUNTIFS(\n     'Base Maestra'!$F$43:$F$54,H34,\n     'Base Maestra'!$G$43:$G$54,I34)>0, \"Correcto\", \"Revisar Catálogo\"), \"\")","v":""}]
[null,null,null,null,null,null,null,null,null,null,null,null,null,null,null,null,null,null,null,{"$f":"IF(S35<>\"\",(IF(COUNTIFS('Base Maestra'!$A$42:$A$535,N35,'Base Maestra'!$B$42:$B$535,O35,'Base Maestra'!$C$42:$C$535,P35)>0,\"Correcto\",\"Revisar Catálogo\")),\"\")","v":""},{"$f":"IF(S35<>\"\", IF(COUNTIFS(\n     'Base Maestra'!$F$43:$F$54,H35,\n     'Base Maestra'!$G$43:$G$54,I35)>0, \"Correcto\", \"Revisar Catálogo\"), \"\")","v":""}]
[null,null,null,null,null,null,null,null,null,null,null,null,null,null,null,null,null,null,null,{"$f":"IF(S36<>\"\",(IF(COUNTIFS('Base Maestra'!$A$42:$A$535,N36,'Base Maestra'!$B$42:$B$535,O36,'Base Maestra'!$C$42:$C$535,P36)>0,\"Correcto\",\"Revisar Catálogo\")),\"\")","v":""},{"$f":"IF(S36<>\"\", IF(COUNTIFS(\n     'Base Maestra'!$F$43:$F$54,H36,\n     'Base Maestra'!$G$43:$G$54,I36)>0, \"Correcto\", \"Revisar Catálogo\"), \"\")","v":""}]
[null,null,null,null,null,null,null,null,null,null,null,null,null,null,null,null,null,null,null,{"$f":"IF(S37<>\"\",(IF(COUNTIFS('Base Maestra'!$A$42:$A$535,N37,'Base Maestra'!$B$42:$B$535,O37,'Base Maestra'!$C$42:$C$535,P37)>0,\"Correcto\",\"Revisar Catálogo\")),\"\")","v":""},{"$f":"IF(S37<>\"\", IF(COUNTIFS(\n     'Base Maestra'!$F$43:$F$54,H37,\n     'Base Maestra'!$G$43:$G$54,I37)>0, \"Correcto\", \"Revisar Catálogo\"), \"\")","v":""}]
[null,null,null,null,null,null,null,null,null,null,null,null,null,null,null,null,null,null,null,{"$f":"IF(S38<>\"\",(IF(COUNTIFS('Base Maestra'!$A$42:$A$535,N38,'Base Maestra'!$B$42:$B$535,O38,'Base Maestra'!$C$42:$C$535,P38)>0,\"Correcto\",\"Revisar Catálogo\")),\"\")","v":""},{"$f":"IF(S38<>\"\", IF(COUNTIFS(\n     'Base Maestra'!$F$43:$F$54,H38,\n     'Base Maestra'!$G$43:$G$54,I38)>0, \"Correcto\", \"Revisar Catálogo\"), \"\")","v":""}]
[null,null,null,null,null,null,null,null,null,null,null,null,null,null,null,null,null,null,null,{"$f":"IF(S39<>\"\",(IF(COUNTIFS('Base Maestra'!$A$42:$A$535,N39,'Base Maestra'!$B$42:$B$535,O39,'Base Maestra'!$C$42:$C$535,P39)>0,\"Correcto\",\"Revisar Catálogo\")),\"\")","v":""},{"$f":"IF(S39<>\"\", IF(COUNTIFS(\n     'Base Maestra'!$F$43:$F$54,H39,\n     'Base Maestra'!$G$43:$G$54,I39)>0, \"Correcto\", \"Revisar Catálogo\"), \"\")","v":""}]
[null,null,null,null,null,null,null,null,null,null,null,null,null,null,null,null,null,null,null,{"$f":"IF(S40<>\"\",(IF(COUNTIFS('Base Maestra'!$A$42:$A$535,N40,'Base Maestra'!$B$42:$B$535,O40,'Base Maestra'!$C$42:$C$535,P40)>0,\"Correcto\",\"Revisar Catálogo\")),\"\")","v":""},{"$f":"IF(S40<>\"\", IF(COUNTIFS(\n     'Base Maestra'!$F$43:$F$54,H40,\n     'Base Maestra'!$G$43:$G$54,I40)>0, \"Correcto\", \"Revisar Catálogo\"), \"\")","v":""}]
[null,null,null,null,null,null,null,null,null,null,null,null,null,null,null,null,null,null,null,{"$f":"IF(S41<>\"\",(IF(COUNTIFS('Base Maestra'!$A$42:$A$535,N41,'Base Maestra'!$B$42:$B$535,O41,'Base Maestra'!$C$42:$C$535,P41)>0,\"Correcto\",\"Revisar Catálogo\")),\"\")","v":""},{"$f":"IF(S41<>\"\", IF(COUNTIFS(\n     'Base Maestra'!$F$43:$F$54,H41,\n     'Base Maestra'!$G$43:$G$54,I41)>0, \"Correcto\", \"Revisar Catálogo\"), \"\")","v":""}]
[null,null,null,null,null,null,null,null,null,null,null,null,null,null,null,null,null,null,null,{"$f":"IF(S42<>\"\",(IF(COUNTIFS('Base Maestra'!$A$42:$A$535,N42,'Base Maestra'!$B$42:$B$535,O42,'Base Maestra'!$C$42:$C$535,P42)>0,\"Correcto\",\"Revisar Catálogo\")),\"\")","v":""},{"$f":"IF(S42<>\"\", IF(COUNTIFS(\n     'Base Maestra'!$F$43:$F$54,H42,\n     'Base Maestra'!$G$43:$G$54,I42)>0, \"Correcto\", \"Revisar Catálogo\"), \"\")","v":""}]
[null,null,null,null,null,null,null,null,null,null,null,null,null,null,null,null,null,null,null,{"$f":"IF(S43<>\"\",(IF(COUNTIFS('Base Maestra'!$A$42:$A$535,N43,'Base Maestra'!$B$42:$B$535,O43,'Base Maestra'!$C$42:$C$535,P43)>0,\"Correcto\",\"Revisar Catálogo\")),\"\")","v":""},{"$f":"IF(S43<>\"\", IF(COUNTIFS(\n     'Base Maestra'!$F$43:$F$54,H43,\n     'Base Maestra'!$G$43:$G$54,I43)>0, \"Correcto\", \"Revisar Catálogo\"), \"\")","v":""}]
[null,null,null,null,null,null,null,null,null,null,null,null,null,null,null,null,null,null,null,{"$f":"IF(S44<>\"\",(IF(COUNTIFS('Base Maestra'!$A$42:$A$535,N44,'Base Maestra'!$B$42:$B$535,O44,'Base Maestra'!$C$42:$C$535,P44)>0,\"Correcto\",\"Revisar Catálogo\")),\"\")","v":""},{"$f":"IF(S44<>\"\", IF(COUNTIFS(\n     'Base Maestra'!$F$43:$F$54,H44,\n     'Base Maestra'!$G$43:$G$54,I44)>0, \"Correcto\", \"Revisar Catálogo\"), \"\")","v":""}]
[null,null,null,null,null,null,null,null,null,null,null,null,null,null,null,null,null,null,null,{"$f":"IF(S45<>\"\",(IF(COUNTIFS('Base Maestra'!$A$42:$A$535,N45,'Base Maestra'!$B$42:$B$535,O45,'Base Maestra'!$C$42:$C$535,P45)>0,\"Correcto\",\"Revisar Catálogo\")),\"\")","v":""},{"$f":"IF(S45<>\"\", IF(COUNTIFS(\n     'Base Maestra'!$F$43:$F$54,H45,\n     'Base Maestra'!$G$43:$G$54,I45)>0, \"Correcto\", \"Revisar Catálogo\"), \"\")","v":""}]
[null,null,null,null,null,null,null,null,null,null,null,null,null,null,null,null,null,null,null,{"$f":"IF(S46<>\"\",(IF(COUNTIFS('Base Maestra'!$A$42:$A$535,N46,'Base Maestra'!$B$42:$B$535,O46,'Base Maestra'!$C$42:$C$535,P46)>0,\"Correcto\",\"Revisar Catálogo\")),\"\")","v":""},{"$f":"IF(S46<>\"\", IF(COUNTIFS(\n     'Base Maestra'!$F$43:$F$54,H46,\n     'Base Maestra'!$G$43:$G$54,I46)>0, \"Correcto\", \"Revisar Catálogo\"), \"\")","v":""}]
[null,null,null,null,null,null,null,null,null,null,null,null,null,null,null,null,null,null,null,{"$f":"IF(S47<>\"\",(IF(COUNTIFS('Base Maestra'!$A$42:$A$535,N47,'Base Maestra'!$B$42:$B$535,O47,'Base Maestra'!$C$42:$C$535,P47)>0,\"Correcto\",\"Revisar Catálogo\")),\"\")","v":""},{"$f":"IF(S47<>\"\", IF(COUNTIFS(\n     'Base Maestra'!$F$43:$F$54,H47,\n     'Base Maestra'!$G$43:$G$54,I47)>0, \"Correcto\", \"Revisar Catálogo\"), \"\")","v":""}]
[null,null,null,null,null,null,null,null,null,null,null,null,null,null,null,null,null,null,null,{"$f":"IF(S48<>\"\",(IF(COUNTIFS('Base Maestra'!$A$42:$A$535,N48,'Base Maestra'!$B$42:$B$535,O48,'Base Maestra'!$C$42:$C$535,P48)>0,\"Correcto\",\"Revisar Catálogo\")),\"\")","v":""},{"$f":"IF(S48<>\"\", IF(COUNTIFS(\n     'Base Maestra'!$F$43:$F$54,H48,\n     'Base Maestra'!$G$43:$G$54,I48)>0, \"Correcto\", \"Revisar Catálogo\"), \"\")","v":""}]
[null,null,null,null,null,null,null,null,null,null,null,null,null,null,null,null,null,null,null,{"$f":"IF(S49<>\"\",(IF(COUNTIFS('Base Maestra'!$A$42:$A$535,N49,'Base Maestra'!$B$42:$B$535,O49,'Base Maestra'!$C$42:$C$535,P49)>0,\"Correcto\",\"Revisar Catálogo\")),\"\")","v":""},{"$f":"IF(S49<>\"\", IF(COUNTIFS(\n     'Base Maestra'!$F$43:$F$54,H49,\n     'Base Maestra'!$G$43:$G$54,I49)>0, \"Correcto\", \"Revisar Catálogo\"), \"\")","v":""}]
[null,null,null,null,null,null,null,null,null,null,null,null,null,null,null,null,null,null,null,{"$f":"IF(S50<>\"\",(IF(COUNTIFS('Base Maestra'!$A$42:$A$535,N50,'Base Maestra'!$B$42:$B$535,O50,'Base Maestra'!$C$42:$C$535,P50)>0,\"Correcto\",\"Revisar Catálogo\")),\"\")","v":""},{"$f":"IF(S50<>\"\", IF(COUNTIFS(\n     'Base Maestra'!$F$43:$F$54,H50,\n     'Base Maestra'!$G$43:$G$54,I50)>0, \"Correcto\", \"Revisar Catálogo\"), \"\")","v":""}]
[null,null,null,null,null,null,null,null,null,null,null,null,null,null,null,null,null,null,null,{"$f":"IF(S51<>\"\",(IF(COUNTIFS('Base Maestra'!$A$42:$A$535,N51,'Base Maestra'!$B$42:$B$535,O51,'Base Maestra'!$C$42:$C$535,P51)>0,\"Correcto\",\"Revisar Catálogo\")),\"\")","v":""},{"$f":"IF(S51<>\"\", IF(COUNTIFS(\n     'Base Maestra'!$F$43:$F$54,H51,\n     'Base Maestra'!$G$43:$G$54,I51)>0, \"Correcto\", \"Revisar Catálogo\"), \"\")","v":""}]
[null,null,null,null,null,null,null,null,null,null,null,null,null,null,null,null,null,null,null,{"$f":"IF(S52<>\"\",(IF(COUNTIFS('Base Maestra'!$A$42:$A$535,N52,'Base Maestra'!$B$42:$B$535,O52,'Base Maestra'!$C$42:$C$535,P52)>0,\"Correcto\",\"Revisar Catálogo\")),\"\")","v":""},{"$f":"IF(S52<>\"\", IF(COUNTIFS(\n     'Base Maestra'!$F$43:$F$54,H52,\n     'Base Maestra'!$G$43:$G$54,I52)>0, \"Correcto\", \"Revisar Catálogo\"), \"\")","v":""}]
[null,null,null,null,null,null,null,null,null,null,null,null,null,null,null,null,null,null,null,{"$f":"IF(S53<>\"\",(IF(COUNTIFS('Base Maestra'!$A$42:$A$535,N53,'Base Maestra'!$B$42:$B$535,O53,'Base Maestra'!$C$42:$C$535,P53)>0,\"Correcto\",\"Revisar Catálogo\")),\"\")","v":""},{"$f":"IF(S53<>\"\", IF(COUNTIFS(\n     'Base Maestra'!$F$43:$F$54,H53,\n     'Base Maestra'!$G$43:$G$54,I53)>0, \"Correcto\", \"Revisar Catálogo\"), \"\")","v":""}]
[null,null,null,null,null,null,null,null,null,null,null,null,null,null,null,null,null,null,null,{"$f":"IF(S54<>\"\",(IF(COUNTIFS('Base Maestra'!$A$42:$A$535,N54,'Base Maestra'!$B$42:$B$535,O54,'Base Maestra'!$C$42:$C$535,P54)>0,\"Correcto\",\"Revisar Catálogo\")),\"\")","v":""},{"$f":"IF(S54<>\"\", IF(COUNTIFS(\n     'Base Maestra'!$F$43:$F$54,H54,\n     'Base Maestra'!$G$43:$G$54,I54)>0, \"Correcto\", \"Revisar Catálogo\"), \"\")","v":""}]
[null,null,null,null,null,null,null,null,null,null,null,null,null,null,null,null,null,null,null,{"$f":"IF(S55<>\"\",(IF(COUNTIFS('Base Maestra'!$A$42:$A$535,N55,'Base Maestra'!$B$42:$B$535,O55,'Base Maestra'!$C$42:$C$535,P55)>0,\"Correcto\",\"Revisar Catálogo\")),\"\")","v":""},{"$f":"IF(S55<>\"\", IF(COUNTIFS(\n     'Base Maestra'!$F$43:$F$54,H55,\n     'Base Maestra'!$G$43:$G$54,I55)>0, \"Correcto\", \"Revisar Catálogo\"), \"\")","v":""}]
[null,null,null,null,null,null,null,null,null,null,null,null,null,null,null,null,null,null,null,{"$f":"IF(S56<>\"\",(IF(COUNTIFS('Base Maestra'!$A$42:$A$535,N56,'Base Maestra'!$B$42:$B$535,O56,'Base Maestra'!$C$42:$C$535,P56)>0,\"Correcto\",\"Revisar Catálogo\")),\"\")","v":""},{"$f":"IF(S56<>\"\", IF(COUNTIFS(\n     'Base Maestra'!$F$43:$F$54,H56,\n     'Base Maestra'!$G$43:$G$54,I56)>0, \"Correcto\", \"Revisar Catálogo\"), \"\")","v":""}]
[null,null,null,null,null,null,null,null,null,null,null,null,null,null,null,null,null,null,null,{"$f":"IF(S57<>\"\",(IF(COUNTIFS('Base Maestra'!$A$42:$A$535,N57,'Base Maestra'!$B$42:$B$535,O57,'Base Maestra'!$C$42:$C$535,P57)>0,\"Correcto\",\"Revisar Catálogo\")),\"\")","v":""},{"$f":"IF(S57<>\"\", IF(COUNTIFS(\n     'Base Maestra'!$F$43:$F$54,H57,\n     'Base Maestra'!$G$43:$G$54,I57)>0, \"Correcto\", \"Revisar Catálogo\"), \"\")","v":""}]
[null,null,null,null,null,null,null,null,null,null,null,null,null,null,null,null,null,null,null,{"$f":"IF(S58<>\"\",(IF(COUNTIFS('Base Maestra'!$A$42:$A$535,N58,'Base Maestra'!$B$42:$B$535,O58,'Base Maestra'!$C$42:$C$535,P58)>0,\"Correcto\",\"Revisar Catálogo\")),\"\")","v":""},{"$f":"IF(S58<>\"\", IF(COUNTIFS(\n     'Base Maestra'!$F$43:$F$54,H58,\n     'Base Maestra'!$G$43:$G$54,I58)>0, \"Correcto\", \"Revisar Catálogo\"), \"\")","v":""}]
[null,null,null,null,null,null,null,null,null,null,null,null,null,null,null,null,null,null,null,{"$f":"IF(S59<>\"\",(IF(COUNTIFS('Base Maestra'!$A$42:$A$535,N59,'Base Maestra'!$B$42:$B$535,O59,'Base Maestra'!$C$42:$C$535,P59)>0,\"Correcto\",\"Revisar Catálogo\")),\"\")","v":""},{"$f":"IF(S59<>\"\", IF(COUNTIFS(\n     'Base Maestra'!$F$43:$F$54,H59,\n     'Base Maestra'!$G$43:$G$54,I59)>0, \"Correcto\", \"Revisar Catálogo\"), \"\")","v":""}]
[null,null,null,null,null,null,null,null,null,null,null,null,null,null,null,null,null,null,null,{"$f":"IF(S60<>\"\",(IF(COUNTIFS('Base Maestra'!$A$42:$A$535,N60,'Base Maestra'!$B$42:$B$535,O60,'Base Maestra'!$C$42:$C$535,P60)>0,\"Correcto\",\"Revisar Catálogo\")),\"\")","v":""},{"$f":"IF(S60<>\"\", IF(COUNTIFS(\n     'Base Maestra'!$F$43:$F$54,H60,\n     'Base Maestra'!$G$43:$G$54,I60)>0, \"Correcto\", \"Revisar Catálogo\"), \"\")","v":""}]
[null,null,null,null,null,null,null,null,null,null,null,null,null,null,null,null,null,null,null,{"$f":"IF(S61<>\"\",(IF(COUNTIFS('Base Maestra'!$A$42:$A$535,N61,'Base Maestra'!$B$42:$B$535,O61,'Base Maestra'!$C$42:$C$535,P61)>0,\"Correcto\",\"Revisar Catálogo\")),\"\")","v":""},{"$f":"IF(S61<>\"\", IF(COUNTIFS(\n     'Base Maestra'!$F$43:$F$54,H61,\n     'Base Maestra'!$G$43:$G$54,I61)>0, \"Correcto\", \"Revisar Catálogo\"), \"\")","v":""}]
[null,null,null,null,null,null,null,null,null,null,null,null,null,null,null,null,null,null,null,{"$f":"IF(S62<>\"\",(IF(COUNTIFS('Base Maestra'!$A$42:$A$535,N62,'Base Maestra'!$B$42:$B$535,O62,'Base Maestra'!$C$42:$C$535,P62)>0,\"Correcto\",\"Revisar Catálogo\")),\"\")","v":""},{"$f":"IF(S62<>\"\", IF(COUNTIFS(\n     'Base Maestra'!$F$43:$F$54,H62,\n     'Base Maestra'!$G$43:$G$54,I62)>0, \"Correcto\", \"Revisar Catálogo\"), \"\")","v":""}]
[null,null,null,null,null,null,null,null,null,null,null,null,null,null,null,null,null,null,null,{"$f":"IF(S63<>\"\",(IF(COUNTIFS('Base Maestra'!$A$42:$A$535,N63,'Base Maestra'!$B$42:$B$535,O63,'Base Maestra'!$C$42:$C$535,P63)>0,\"Correcto\",\"Revisar Catálogo\")),\"\")","v":""},{"$f":"IF(S63<>\"\", IF(COUNTIFS(\n     'Base Maestra'!$F$43:$F$54,H63,\n     'Base Maestra'!$G$43:$G$54,I63)>0, \"Correcto\", \"Revisar Catálogo\"), \"\")","v":""}]
[null,null,null,null,null,null,null,null,null,null,null,null,null,null,null,null,null,null,null,{"$f":"IF(S64<>\"\",(IF(COUNTIFS('Base Maestra'!$A$42:$A$535,N64,'Base Maestra'!$B$42:$B$535,O64,'Base Maestra'!$C$42:$C$535,P64)>0,\"Correcto\",\"Revisar Catálogo\")),\"\")","v":""},{"$f":"IF(S64<>\"\", IF(COUNTIFS(\n     'Base Maestra'!$F$43:$F$54,H64,\n     'Base Maestra'!$G$43:$G$54,I64)>0, \"Correcto\", \"Revisar Catálogo\"), \"\")","v":""}]
[null,null,null,null,null,null,null,null,null,null,null,null,null,null,null,null,null,null,null,{"$f":"IF(S65<>\"\",(IF(COUNTIFS('Base Maestra'!$A$42:$A$535,N65,'Base Maestra'!$B$42:$B$535,O65,'Base Maestra'!$C$42:$C$535,P65)>0,\"Correcto\",\"Revisar Catálogo\")),\"\")","v":""},{"$f":"IF(S65<>\"\", IF(COUNTIFS(\n     'Base Maestra'!$F$43:$F$54,H65,\n     'Base Maestra'!$G$43:$G$54,I65)>0, \"Correcto\", \"Revisar Catálogo\"), \"\")","v":""}]
[null,null,null,null,null,null,null,null,null,null,null,null,null,null,null,null,null,null,null,{"$f":"IF(S66<>\"\",(IF(COUNTIFS('Base Maestra'!$A$42:$A$535,N66,'Base Maestra'!$B$42:$B$535,O66,'Base Maestra'!$C$42:$C$535,P66)>0,\"Correcto\",\"Revisar Catálogo\")),\"\")","v":""},{"$f":"IF(S66<>\"\", IF(COUNTIFS(\n     'Base Maestra'!$F$43:$F$54,H66,\n     'Base Maestra'!$G$43:$G$54,I66)>0, \"Correcto\", \"Revisar Catálogo\"), \"\")","v":""}]
[null,null,null,null,null,null,null,null,null,null,null,null,null,null,null,null,null,null,null,{"$f":"IF(S67<>\"\",(IF(COUNTIFS('Base Maestra'!$A$42:$A$535,N67,'Base Maestra'!$B$42:$B$535,O67,'Base Maestra'!$C$42:$C$535,P67)>0,\"Correcto\",\"Revisar Catálogo\")),\"\")","v":""},{"$f":"IF(S67<>\"\", IF(COUNTIFS(\n     'Base Maestra'!$F$43:$F$54,H67,\n     'Base Maestra'!$G$43:$G$54,I67)>0, \"Correcto\", \"Revisar Catálogo\"), \"\")","v":""}]
[null,null,null,null,null,null,null,null,null,null,null,null,null,null,null,null,null,null,null,{"$f":"IF(S68<>\"\",(IF(COUNTIFS('Base Maestra'!$A$42:$A$535,N68,'Base Maestra'!$B$42:$B$535,O68,'Base Maestra'!$C$42:$C$535,P68)>0,\"Correcto\",\"Revisar Catálogo\")),\"\")","v":""},{"$f":"IF(S68<>\"\", IF(COUNTIFS(\n     'Base Maestra'!$F$43:$F$54,H68,\n     'Base Maestra'!$G$43:$G$54,I68)>0, \"Correcto\", \"Revisar Catálogo\"), \"\")","v":""}]
[null,null,null,null,null,null,null,null,null,null,null,null,null,null,null,null,null,null,null,{"$f":"IF(S69<>\"\",(IF(COUNTIFS('Base Maestra'!$A$42:$A$535,N69,'Base Maestra'!$B$42:$B$535,O69,'Base Maestra'!$C$42:$C$535,P69)>0,\"Correcto\",\"Revisar Catálogo\")),\"\")","v":""},{"$f":"IF(S69<>\"\", IF(COUNTIFS(\n     'Base Maestra'!$F$43:$F$54,H69,\n     'Base Maestra'!$G$43:$G$54,I69)>0, \"Correcto\", \"Revisar Catálogo\"), \"\")","v":""}]
[null,null,null,null,null,null,null,null,null,null,null,null,null,null,null,null,null,null,null,{"$f":"IF(S70<>\"\",(IF(COUNTIFS('Base Maestra'!$A$42:$A$535,N70,'Base Maestra'!$B$42:$B$535,O70,'Base Maestra'!$C$42:$C$535,P70)>0,\"Correcto\",\"Revisar Catálogo\")),\"\")","v":""},{"$f":"IF(S70<>\"\", IF(COUNTIFS(\n     'Base Maestra'!$F$43:$F$54,H70,\n     'Base Maestra'!$G$43:$G$54,I70)>0, \"Correcto\", \"Revisar Catálogo\"), \"\")","v":""}]
[null,null,null,null,null,null,null,null,null,null,null,null,null,null,null,null,null,null,null,{"$f":"IF(S71<>\"\",(IF(COUNTIFS('Base Maestra'!$A$42:$A$535,N71,'Base Maestra'!$B$42:$B$535,O71,'Base Maestra'!$C$42:$C$535,P71)>0,\"Correcto\",\"Revisar Catálogo\")),\"\")","v":""},{"$f":"IF(S71<>\"\", IF(COUNTIFS(\n     'Base Maestra'!$F$43:$F$54,H71,\n     'Base Maestra'!$G$43:$G$54,I71)>0, \"Correcto\", \"Revisar Catálogo\"), \"\")","v":""}]
[null,null,null,null,null,null,null,null,null,null,null,null,null,null,null,null,null,null,null,{"$f":"IF(S72<>\"\",(IF(COUNTIFS('Base Maestra'!$A$42:$A$535,N72,'Base Maestra'!$B$42:$B$535,O72,'Base Maestra'!$C$42:$C$535,P72)>0,\"Correcto\",\"Revisar Catálogo\")),\"\")","v":""},{"$f":"IF(S72<>\"\", IF(COUNTIFS(\n     'Base Maestra'!$F$43:$F$54,H72,\n     'Base Maestra'!$G$43:$G$54,I72)>0, \"Correcto\", \"Revisar Catálogo\"), \"\")","v":""}]
[null,null,null,null,null,null,null,null,null,null,null,null,null,null,null,null,null,null,null,{"$f":"IF(S73<>\"\",(IF(COUNTIFS('Base Maestra'!$A$42:$A$535,N73,'Base Maestra'!$B$42:$B$535,O73,'Base Maestra'!$C$42:$C$535,P73)>0,\"Correcto\",\"Revisar Catálogo\")),\"\")","v":""},{"$f":"IF(S73<>\"\", IF(COUNTIFS(\n     'Base Maestra'!$F$43:$F$54,H73,\n     'Base Maestra'!$G$43:$G$54,I73)>0, \"Correcto\", \"Revisar Catálogo\"), \"\")","v":""}]
[null,null,null,null,null,null,null,null,null,null,null,null,null,null,null,null,null,null,null,{"$f":"IF(S74<>\"\",(IF(COUNTIFS('Base Maestra'!$A$42:$A$535,N74,'Base Maestra'!$B$42:$B$535,O74,'Base Maestra'!$C$42:$C$535,P74)>0,\"Correcto\",\"Revisar Catálogo\")),\"\")","v":""},{"$f":"IF(S74<>\"\", IF(COUNTIFS(\n     'Base Maestra'!$F$43:$F$54,H74,\n     'Base Maestra'!$G$43:$G$54,I74)>0, \"Correcto\", \"Revisar Catálogo\"), \"\")","v":""}]
[null,null,null,null,null,null,null,null,null,null,null,null,null,null,null,null,null,null,null,{"$f":"IF(S75<>\"\",(IF(COUNTIFS('Base Maestra'!$A$42:$A$535,N75,'Base Maestra'!$B$42:$B$535,O75,'Base Maestra'!$C$42:$C$535,P75)>0,\"Correcto\",\"Revisar Catálogo\")),\"\")","v":""},{"$f":"IF(S75<>\"\", IF(COUNTIFS(\n     'Base Maestra'!$F$43:$F$54,H75,\n     'Base Maestra'!$G$43:$G$54,I75)>0, \"Correcto\", \"Revisar Catálogo\"), \"\")","v":""}]
[null,null,null,null,null,null,null,null,null,null,null,null,null,null,null,null,null,null,null,{"$f":"IF(S76<>\"\",(IF(COUNTIFS('Base Maestra'!$A$42:$A$535,N76,'Base Maestra'!$B$42:$B$535,O76,'Base Maestra'!$C$42:$C$535,P76)>0,\"Correcto\",\"Revisar Catálogo\")),\"\")","v":""},{"$f":"IF(S76<>\"\", IF(COUNTIFS(\n     'Base Maestra'!$F$43:$F$54,H76,\n     'Base Maestra'!$G$43:$G$54,I76)>0, \"Correcto\", \"Revisar Catálogo\"), \"\")","v":""}]
[null,null,null,null,null,null,null,null,null,null,null,null,null,null,null,null,null,null,null,{"$f":"IF(S77<>\"\",(IF(COUNTIFS('Base Maestra'!$A$42:$A$535,N77,'Base Maestra'!$B$42:$B$535,O77,'Base Maestra'!$C$42:$C$535,P77)>0,\"Correcto\",\"Revisar Catálogo\")),\"\")","v":""},{"$f":"IF(S77<>\"\", IF(COUNTIFS(\n     'Base Maestra'!$F$43:$F$54,H77,\n     'Base Maestra'!$G$43:$G$54,I77)>0, \"Correcto\", \"Revisar Catálogo\"), \"\")","v":""}]
[null,null,null,null,null,null,null,null,null,null,null,null,null,null,null,null,null,null,null,{"$f":"IF(S78<>\"\",(IF(COUNTIFS('Base Maestra'!$A$42:$A$535,N78,'Base Maestra'!$B$42:$B$535,O78,'Base Maestra'!$C$42:$C$535,P78)>0,\"Correcto\",\"Revisar Catálogo\")),\"\")","v":""},{"$f":"IF(S78<>\"\", IF(COUNTIFS(\n     'Base Maestra'!$F$43:$F$54,H78,\n     'Base Maestra'!$G$43:$G$54,I78)>0, \"Correcto\", \"Revisar Catálogo\"), \"\")","v":""}]
[null,null,null,null,null,null,null,null,null,null,null,null,null,null,null,null,null,null,null,{"$f":"IF(S79<>\"\",(IF(COUNTIFS('Base Maestra'!$A$42:$A$535,N79,'Base Maestra'!$B$42:$B$535,O79,'Base Maestra'!$C$42:$C$535,P79)>0,\"Correcto\",\"Revisar Catálogo\")),\"\")","v":""},{"$f":"IF(S79<>\"\", IF(COUNTIFS(\n     'Base Maestra'!$F$43:$F$54,H79,\n     'Base Maestra'!$G$43:$G$54,I79)>0, \"Correcto\", \"Revisar Catálogo\"), \"\")","v":""}]
[null,null,null,null,null,null,null,null,null,null,null,null,null,null,null,null,null,null,null,{"$f":"IF(S80<>\"\",(IF(COUNTIFS('Base Maestra'!$A$42:$A$535,N80,'Base Maestra'!$B$42:$B$535,O80,'Base Maestra'!$C$42:$C$535,P80)>0,\"Correcto\",\"Revisar Catálogo\")),\"\")","v":""},{"$f":"IF(S80<>\"\", IF(COUNTIFS(\n     'Base Maestra'!$F$43:$F$54,H80,\n     'Base Maestra'!$G$43:$G$54,I80)>0, \"Correcto\", \"Revisar Catálogo\"), \"\")","v":""}]
[null,null,null,null,null,null,null,null,null,null,null,null,null,null,null,null,null,null,null,{"$f":"IF(S81<>\"\",(IF(COUNTIFS('Base Maestra'!$A$42:$A$535,N81,'Base Maestra'!$B$42:$B$535,O81,'Base Maestra'!$C$42:$C$535,P81)>0,\"Correcto\",\"Revisar Catálogo\")),\"\")","v":""},{"$f":"IF(S81<>\"\", IF(COUNTIFS(\n     'Base Maestra'!$F$43:$F$54,H81,\n     'Base Maestra'!$G$43:$G$54,I81)>0, \"Correcto\", \"Revisar Catálogo\"), \"\")","v":""}]
[null,null,null,null,null,null,null,null,null,null,null,null,null,null,null,null,null,null,null,{"$f":"IF(S82<>\"\",(IF(COUNTIFS('Base Maestra'!$A$42:$A$535,N82,'Base Maestra'!$B$42:$B$535,O82,'Base Maestra'!$C$42:$C$535,P82)>0,\"Correcto\",\"Revisar Catálogo\")),\"\")","v":""},{"$f":"IF(S82<>\"\", IF(COUNTIFS(\n     'Base Maestra'!$F$43:$F$54,H82,\n     'Base Maestra'!$G$43:$G$54,I82)>0, \"Correcto\", \"Revisar Catálogo\"), \"\")","v":""}]
[null,null,null,null,null,null,null,null,null,null,null,null,null,null,null,null,null,null,null,{"$f":"IF(S83<>\"\",(IF(COUNTIFS('Base Maestra'!$A$42:$A$535,N83,'Base Maestra'!$B$42:$B$535,O83,'Base Maestra'!$C$42:$C$535,P83)>0,\"Correcto\",\"Revisar Catálogo\")),\"\")","v":""},{"$f":"IF(S83<>\"\", IF(COUNTIFS(\n     'Base Maestra'!$F$43:$F$54,H83,\n     'Base Maestra'!$G$43:$G$54,I83)>0, \"Correcto\", \"Revisar Catálogo\"), \"\")","v":""}]
[null,null,null,null,null,null,null,null,null,null,null,null,null,null,null,null,null,null,null,{"$f":"IF(S84<>\"\",(IF(COUNTIFS('Base Maestra'!$A$42:$A$535,N84,'Base Maestra'!$B$42:$B$535,O84,'Base Maestra'!$C$42:$C$535,P84)>0,\"Correcto\",\"Revisar Catálogo\")),\"\")","v":""},{"$f":"IF(S84<>\"\", IF(COUNTIFS(\n     'Base Maestra'!$F$43:$F$54,H84,\n     'Base Maestra'!$G$43:$G$54,I84)>0, \"Correcto\", \"Revisar Catálogo\"), \"\")","v":""}]
[null,null,null,null,null,null,null,null,null,null,null,null,null,null,null,null,null,null,null,{"$f":"IF(S85<>\"\",(IF(COUNTIFS('Base Maestra'!$A$42:$A$535,N85,'Base Maestra'!$B$42:$B$535,O85,'Base Maestra'!$C$42:$C$535,P85)>0,\"Correcto\",\"Revisar Catálogo\")),\"\")","v":""},{"$f":"IF(S85<>\"\", IF(COUNTIFS(\n     'Base Maestra'!$F$43:$F$54,H85,\n     'Base Maestra'!$G$43:$G$54,I85)>0, \"Correcto\", \"Revisar Catálogo\"), \"\")","v":""}]
[null,null,null,null,null,null,null,null,null,null,null,null,null,null,null,null,null,null,null,{"$f":"IF(S86<>\"\",(IF(COUNTIFS('Base Maestra'!$A$42:$A$535,N86,'Base Maestra'!$B$42:$B$535,O86,'Base Maestra'!$C$42:$C$535,P86)>0,\"Correcto\",\"Revisar Catálogo\")),\"\")","v":""},{"$f":"IF(S86<>\"\", IF(COUNTIFS(\n     'Base Maestra'!$F$43:$F$54,H86,\n     'Base Maestra'!$G$43:$G$54,I86)>0, \"Correcto\", \"Revisar Catálogo\"), \"\")","v":""}]
[null,null,null,null,null,null,null,null,null,null,null,null,null,null,null,null,null,null,null,{"$f":"IF(S87<>\"\",(IF(COUNTIFS('Base Maestra'!$A$42:$A$535,N87,'Base Maestra'!$B$42:$B$535,O87,'Base Maestra'!$C$42:$C$535,P87)>0,\"Correcto\",\"Revisar Catálogo\")),\"\")","v":""},{"$f":"IF(S87<>\"\", IF(COUNTIFS(\n     'Base Maestra'!$F$43:$F$54,H87,\n     'Base Maestra'!$G$43:$G$54,I87)>0, \"Correcto\", \"Revisar Catálogo\"), \"\")","v":""}]
[null,null,null,null,null,null,null,null,null,null,null,null,null,null,null,null,null,null,null,{"$f":"IF(S88<>\"\",(IF(COUNTIFS('Base Maestra'!$A$42:$A$535,N88,'Base Maestra'!$B$42:$B$535,O88,'Base Maestra'!$C$42:$C$535,P88)>0,\"Correcto\",\"Revisar Catálogo\")),\"\")","v":""},{"$f":"IF(S88<>\"\", IF(COUNTIFS(\n     'Base Maestra'!$F$43:$F$54,H88,\n     'Base Maestra'!$G$43:$G$54,I88)>0, \"Correcto\", \"Revisar Catálogo\"), \"\")","v":""}]
[null,null,null,null,null,null,null,null,null,null,null,null,null,null,null,null,null,null,null,{"$f":"IF(S89<>\"\",(IF(COUNTIFS('Base Maestra'!$A$42:$A$535,N89,'Base Maestra'!$B$42:$B$535,O89,'Base Maestra'!$C$42:$C$535,P89)>0,\"Correcto\",\"Revisar Catálogo\")),\"\")","v":""},{"$f":"IF(S89<>\"\", IF(COUNTIFS(\n     'Base Maestra'!$F$43:$F$54,H89,\n     'Base Maestra'!$G$43:$G$54,I89)>0, \"Correcto\", \"Revisar Catálogo\"), \"\")","v":""}]
[null,null,null,null,null,null,null,null,null,null,null,null,null,null,null,null,null,null,null,{"$f":"IF(S90<>\"\",(IF(COUNTIFS('Base Maestra'!$A$42:$A$535,N90,'Base Maestra'!$B$42:$B$535,O90,'Base Maestra'!$C$42:$C$535,P90)>0,\"Correcto\",\"Revisar Catálogo\")),\"\")","v":""},{"$f":"IF(S90<>\"\", IF(COUNTIFS(\n     'Base Maestra'!$F$43:$F$54,H90,\n     'Base Maestra'!$G$43:$G$54,I90)>0, \"Correcto\", \"Revisar Catálogo\"), \"\")","v":""}]
[null,null,null,null,null,null,null,null,null,null,null,null,null,null,null,null,null,null,null,{"$f":"IF(S91<>\"\",(IF(COUNTIFS('Base Maestra'!$A$42:$A$535,N91,'Base Maestra'!$B$42:$B$535,O91,'Base Maestra'!$C$42:$C$535,P91)>0,\"Correcto\",\"Revisar Catálogo\")),\"\")","v":""},{"$f":"IF(S91<>\"\", IF(COUNTIFS(\n     'Base Maestra'!$F$43:$F$54,H91,\n     'Base Maestra'!$G$43:$G$54,I91)>0, \"Correcto\", \"Revisar Catálogo\"), \"\")","v":""}]
[null,null,null,null,null,null,null,null,null,null,null,null,null,null,null,null,null,null,null,{"$f":"IF(S92<>\"\",(IF(COUNTIFS('Base Maestra'!$A$42:$A$535,N92,'Base Maestra'!$B$42:$B$535,O92,'Base Maestra'!$C$42:$C$535,P92)>0,\"Correcto\",\"Revisar Catálogo\")),\"\")","v":""},{"$f":"IF(S92<>\"\", IF(COUNTIFS(\n     'Base Maestra'!$F$43:$F$54,H92,\n     'Base Maestra'!$G$43:$G$54,I92)>0, \"Correcto\", \"Revisar Catálogo\"), \"\")","v":""}]
[null,null,null,null,null,null,null,null,null,null,null,null,null,null,null,null,null,null,null,{"$f":"IF(S93<>\"\",(IF(COUNTIFS('Base Maestra'!$A$42:$A$535,N93,'Base Maestra'!$B$42:$B$535,O93,'Base Maestra'!$C$42:$C$535,P93)>0,\"Correcto\",\"Revisar Catálogo\")),\"\")","v":""},{"$f":"IF(S93<>\"\", IF(COUNTIFS(\n     'Base Maestra'!$F$43:$F$54,H93,\n     'Base Maestra'!$G$43:$G$54,I93)>0, \"Correcto\", \"Revisar Catálogo\"), \"\")","v":""}]
[null,null,null,null,null,null,null,null,null,null,null,null,null,null,null,null,null,null,null,{"$f":"IF(S94<>\"\",(IF(COUNTIFS('Base Maestra'!$A$42:$A$535,N94,'Base Maestra'!$B$42:$B$535,O94,'Base Maestra'!$C$42:$C$535,P94)>0,\"Correcto\",\"Revisar Catálogo\")),\"\")","v":""},{"$f":"IF(S94<>\"\", IF(COUNTIFS(\n     'Base Maestra'!$F$43:$F$54,H94,\n     'Base Maestra'!$G$43:$G$54,I94)>0, \"Correcto\", \"Revisar Catálogo\"), \"\")","v":""}]
[null,null,null,null,null,null,null,null,null,null,null,null,null,null,null,null,null,null,null,{"$f":"IF(S95<>\"\",(IF(COUNTIFS('Base Maestra'!$A$42:$A$535,N95,'Base Maestra'!$B$42:$B$535,O95,'Base Maestra'!$C$42:$C$535,P95)>0,\"Correcto\",\"Revisar Catálogo\")),\"\")","v":""},{"$f":"IF(S95<>\"\", IF(COUNTIFS(\n     'Base Maestra'!$F$43:$F$54,H95,\n     'Base Maestra'!$G$43:$G$54,I95)>0, \"Correcto\", \"Revisar Catálogo\"), \"\")","v":""}]
[null,null,null,null,null,null,null,null,null,null,null,null,null,null,null,null,null,null,null,{"$f":"IF(S96<>\"\",(IF(COUNTIFS('Base Maestra'!$A$42:$A$535,N96,'Base Maestra'!$B$42:$B$535,O96,'Base Maestra'!$C$42:$C$535,P96)>0,\"Correcto\",\"Revisar Catálogo\")),\"\")","v":""},{"$f":"IF(S96<>\"\", IF(COUNTIFS(\n     'Base Maestra'!$F$43:$F$54,H96,\n     'Base Maestra'!$G$43:$G$54,I96)>0, \"Correcto\", \"Revisar Catálogo\"), \"\")","v":""}]
[null,null,null,null,null,null,null,null,null,null,null,null,null,null,null,null,null,null,null,{"$f":"IF(S97<>\"\",(IF(COUNTIFS('Base Maestra'!$A$42:$A$535,N97,'Base Maestra'!$B$42:$B$535,O97,'Base Maestra'!$C$42:$C$535,P97)>0,\"Correcto\",\"Revisar Catálogo\")),\"\")","v":""},{"$f":"IF(S97<>\"\", IF(COUNTIFS(\n     'Base Maestra'!$F$43:$F$54,H97,\n     'Base Maestra'!$G$43:$G$54,I97)>0, \"Correcto\", \"Revisar Catálogo\"), \"\")","v":""}]
[null,null,null,null,null,null,null,null,null,null,null,null,null,null,null,null,null,null,null,{"$f":"IF(S98<>\"\",(IF(COUNTIFS('Base Maestra'!$A$42:$A$535,N98,'Base Maestra'!$B$42:$B$535,O98,'Base Maestra'!$C$42:$C$535,P98)>0,\"Correcto\",\"Revisar Catálogo\")),\"\")","v":""},{"$f":"IF(S98<>\"\", IF(COUNTIFS(\n     'Base Maestra'!$F$43:$F$54,H98,\n     'Base Maestra'!$G$43:$G$54,I98)>0, \"Correcto\", \"Revisar Catálogo\"), \"\")","v":""}]
[null,null,null,null,null,null,null,null,null,null,null,null,null,null,null,null,null,null,null,{"$f":"IF(S99<>\"\",(IF(COUNTIFS('Base Maestra'!$A$42:$A$535,N99,'Base Maestra'!$B$42:$B$535,O99,'Base Maestra'!$C$42:$C$535,P99)>0,\"Correcto\",\"Revisar Catálogo\")),\"\")","v":""},{"$f":"IF(S99<>\"\", IF(COUNTIFS(\n     'Base Maestra'!$F$43:$F$54,H99,\n     'Base Maestra'!$G$43:$G$54,I99)>0, \"Correcto\", \"Revisar Catálogo\"), \"\")","v":""}]
[null,null,null,null,null,null,null,null,null,null,null,null,null,null,null,null,null,null,null,{"$f":"IF(S100<>\"\",(IF(COUNTIFS('Base Maestra'!$A$42:$A$535,N100,'Base Maestra'!$B$42:$B$535,O100,'Base Maestra'!$C$42:$C$535,P100)>0,\"Correcto\",\"Revisar Catálogo\")),\"\")","v":""},{"$f":"IF(S100<>\"\", IF(COUNTIFS(\n     'Base Maestra'!$F$43:$F$54,H100,\n     'Base Maestra'!$G$43:$G$54,I100)>0, \"Correcto\", \"Revisar Catálogo\"), \"\")","v":""}]
[null,null,null,null,null,null,null,null,null,null,null,null,null,null,null,null,null,null,null,{"$f":"IF(S101<>\"\",(IF(COUNTIFS('Base Maestra'!$A$42:$A$535,N101,'Base Maestra'!$B$42:$B$535,O101,'Base Maestra'!$C$42:$C$535,P101)>0,\"Correcto\",\"Revisar Catálogo\")),\"\")","v":""},{"$f":"IF(S101<>\"\", IF(COUNTIFS(\n     'Base Maestra'!$F$43:$F$54,H101,\n     'Base Maestra'!$G$43:$G$54,I101)>0, \"Correcto\", \"Revisar Catálogo\"), \"\")","v":""}]
[null,null,null,null,null,null,null,null,null,null,null,null,null,null,null,null,null,null,null,{"$f":"IF(S102<>\"\",(IF(COUNTIFS('Base Maestra'!$A$42:$A$535,N102,'Base Maestra'!$B$42:$B$535,O102,'Base Maestra'!$C$42:$C$535,P102)>0,\"Correcto\",\"Revisar Catálogo\")),\"\")","v":""},{"$f":"IF(S102<>\"\", IF(COUNTIFS(\n     'Base Maestra'!$F$43:$F$54,H102,\n     'Base Maestra'!$G$43:$G$54,I102)>0, \"Correcto\", \"Revisar Catálogo\"), \"\")","v":""}]
[null,null,null,null,null,null,null,null,null,null,null,null,null,null,null,null,null,null,null,{"$f":"IF(S103<>\"\",(IF(COUNTIFS('Base Maestra'!$A$42:$A$535,N103,'Base Maestra'!$B$42:$B$535,O103,'Base Maestra'!$C$42:$C$535,P103)>0,\"Correcto\",\"Revisar Catálogo\")),\"\")","v":""},{"$f":"IF(S103<>\"\", IF(COUNTIFS(\n     'Base Maestra'!$F$43:$F$54,H103,\n     'Base Maestra'!$G$43:$G$54,I103)>0, \"Correcto\", \"Revisar Catálogo\"), \"\")","v":""}]
[null,null,null,null,null,null,null,null,null,null,null,null,null,null,null,null,null,null,null,{"$f":"IF(S104<>\"\",(IF(COUNTIFS('Base Maestra'!$A$42:$A$535,N104,'Base Maestra'!$B$42:$B$535,O104,'Base Maestra'!$C$42:$C$535,P104)>0,\"Correcto\",\"Revisar Catálogo\")),\"\")","v":""},{"$f":"IF(S104<>\"\", IF(COUNTIFS(\n     'Base Maestra'!$F$43:$F$54,H104,\n     'Base Maestra'!$G$43:$G$54,I104)>0, \"Correcto\", \"Revisar Catálogo\"), \"\")","v":""}]
[null,null,null,null,null,null,null,null,null,null,null,null,null,null,null,null,null,null,null,{"$f":"IF(S105<>\"\",(IF(COUNTIFS('Base Maestra'!$A$42:$A$535,N105,'Base Maestra'!$B$42:$B$535,O105,'Base Maestra'!$C$42:$C$535,P105)>0,\"Correcto\",\"Revisar Catálogo\")),\"\")","v":""},{"$f":"IF(S105<>\"\", IF(COUNTIFS(\n     'Base Maestra'!$F$43:$F$54,H105,\n     'Base Maestra'!$G$43:$G$54,I105)>0, \"Correcto\", \"Revisar Catálogo\"), \"\")","v":""}]
[null,null,null,null,null,null,null,null,null,null,null,null,null,null,null,null,null,null,null,{"$f":"IF(S106<>\"\",(IF(COUNTIFS('Base Maestra'!$A$42:$A$535,N106,'Base Maestra'!$B$42:$B$535,O106,'Base Maestra'!$C$42:$C$535,P106)>0,\"Correcto\",\"Revisar Catálogo\")),\"\")","v":""},{"$f":"IF(S106<>\"\", IF(COUNTIFS(\n     'Base Maestra'!$F$43:$F$54,H106,\n     'Base Maestra'!$G$43:$G$54,I106)>0, \"Correcto\", \"Revisar Catálogo\"), \"\")","v":""}]
[null,null,null,null,null,null,null,null,null,null,null,null,null,null,null,null,null,null,null,{"$f":"IF(S107<>\"\",(IF(COUNTIFS('Base Maestra'!$A$42:$A$535,N107,'Base Maestra'!$B$42:$B$535,O107,'Base Maestra'!$C$42:$C$535,P107)>0,\"Correcto\",\"Revisar Catálogo\")),\"\")","v":""},{"$f":"IF(S107<>\"\", IF(COUNTIFS(\n     'Base Maestra'!$F$43:$F$54,H107,\n     'Base Maestra'!$G$43:$G$54,I107)>0, \"Correcto\", \"Revisar Catálogo\"), \"\")","v":""}]
[null,null,null,null,null,null,null,null,null,null,null,null,null,null,null,null,null,null,null,{"$f":"IF(S108<>\"\",(IF(COUNTIFS('Base Maestra'!$A$42:$A$535,N108,'Base Maestra'!$B$42:$B$535,O108,'Base Maestra'!$C$42:$C$535,P108)>0,\"Correcto\",\"Revisar Catálogo\")),\"\")","v":""},{"$f":"IF(S108<>\"\", IF(COUNTIFS(\n     'Base Maestra'!$F$43:$F$54,H108,\n     'Base Maestra'!$G$43:$G$54,I108)>0, \"Correcto\", \"Revisar Catálogo\"), \"\")","v":""}]
[null,null,null,null,null,null,null,null,null,null,null,null,null,null,null,null,null,null,null,{"$f":"IF(S109<>\"\",(IF(COUNTIFS('Base Maestra'!$A$42:$A$535,N109,'Base Maestra'!$B$42:$B$535,O109,'Base Maestra'!$C$42:$C$535,P109)>0,\"Correcto\",\"Revisar Catálogo\")),\"\")","v":""},{"$f":"IF(S109<>\"\", IF(COUNTIFS(\n     'Base Maestra'!$F$43:$F$54,H109,\n     'Base Maestra'!$G$43:$G$54,I109)>0, \"Correcto\", \"Revisar Catálogo\"), \"\")","v":""}]
[null,null,null,null,null,null,null,null,null,null,null,null,null,null,null,null,null,null,null,{"$f":"IF(S110<>\"\",(IF(COUNTIFS('Base Maestra'!$A$42:$A$535,N110,'Base Maestra'!$B$42:$B$535,O110,'Base Maestra'!$C$42:$C$535,P110)>0,\"Correcto\",\"Revisar Catálogo\")),\"\")","v":""},{"$f":"IF(S110<>\"\", IF(COUNTIFS(\n     'Base Maestra'!$F$43:$F$54,H110,\n     'Base Maestra'!$G$43:$G$54,I110)>0, \"Correcto\", \"Revisar Catálogo\"), \"\")","v":""}]
[null,null,null,null,null,null,null,null,null,null,null,null,null,null,null,null,null,null,null,{"$f":"IF(S111<>\"\",(IF(COUNTIFS('Base Maestra'!$A$42:$A$535,N111,'Base Maestra'!$B$42:$B$535,O111,'Base Maestra'!$C$42:$C$535,P111)>0,\"Correcto\",\"Revisar Catálogo\")),\"\")","v":""},{"$f":"IF(S111<>\"\", IF(COUNTIFS(\n     'Base Maestra'!$F$43:$F$54,H111,\n     'Base Maestra'!$G$43:$G$54,I111)>0, \"Correcto\", \"Revisar Catálogo\"), \"\")","v":""}]
[null,null,null,null,null,null,null,null,null,null,null,null,null,null,null,null,null,null,null,{"$f":"IF(S112<>\"\",(IF(COUNTIFS('Base Maestra'!$A$42:$A$535,N112,'Base Maestra'!$B$42:$B$535,O112,'Base Maestra'!$C$42:$C$535,P112)>0,\"Correcto\",\"Revisar Catálogo\")),\"\")","v":""},{"$f":"IF(S112<>\"\", IF(COUNTIFS(\n     'Base Maestra'!$F$43:$F$54,H112,\n     'Base Maestra'!$G$43:$G$54,I112)>0, \"Correcto\", \"Revisar Catálogo\"), \"\")","v":""}]
[null,null,null,null,null,null,null,null,null,null,null,null,null,null,null,null,null,null,null,{"$f":"IF(S113<>\"\",(IF(COUNTIFS('Base Maestra'!$A$42:$A$535,N113,'Base Maestra'!$B$42:$B$535,O113,'Base Maestra'!$C$42:$C$535,P113)>0,\"Correcto\",\"Revisar Catálogo\")),\"\")","v":""},{"$f":"IF(S113<>\"\", IF(COUNTIFS(\n     'Base Maestra'!$F$43:$F$54,H113,\n     'Base Maestra'!$G$43:$G$54,I113)>0, \"Correcto\", \"Revisar Catálogo\"), \"\")","v":""}]
[null,null,null,null,null,null,null,null,null,null,null,null,null,null,null,null,null,null,null,{"$f":"IF(S114<>\"\",(IF(COUNTIFS('Base Maestra'!$A$42:$A$535,N114,'Base Maestra'!$B$42:$B$535,O114,'Base Maestra'!$C$42:$C$535,P114)>0,\"Correcto\",\"Revisar Catálogo\")),\"\")","v":""},{"$f":"IF(S114<>\"\", IF(COUNTIFS(\n     'Base Maestra'!$F$43:$F$54,H114,\n     'Base Maestra'!$G$43:$G$54,I114)>0, \"Correcto\", \"Revisar Catálogo\"), \"\")","v":""}]
[null,null,null,null,null,null,null,null,null,null,null,null,null,null,null,null,null,null,null,{"$f":"IF(S115<>\"\",(IF(COUNTIFS('Base Maestra'!$A$42:$A$535,N115,'Base Maestra'!$B$42:$B$535,O115,'Base Maestra'!$C$42:$C$535,P115)>0,\"Correcto\",\"Revisar Catálogo\")),\"\")","v":""},{"$f":"IF(S115<>\"\", IF(COUNTIFS(\n     'Base Maestra'!$F$43:$F$54,H115,\n     'Base Maestra'!$G$43:$G$54,I115)>0, \"Correcto\", \"Revisar Catálogo\"), \"\")","v":""}]
[null,null,null,null,null,null,null,null,null,null,null,null,null,null,null,null,null,null,null,{"$f":"IF(S116<>\"\",(IF(COUNTIFS('Base Maestra'!$A$42:$A$535,N116,'Base Maestra'!$B$42:$B$535,O116,'Base Maestra'!$C$42:$C$535,P116)>0,\"Correcto\",\"Revisar Catálogo\")),\"\")","v":""},{"$f":"IF(S116<>\"\", IF(COUNTIFS(\n     'Base Maestra'!$F$43:$F$54,H116,\n     'Base Maestra'!$G$43:$G$54,I116)>0, \"Correcto\", \"Revisar Catálogo\"), \"\")","v":""}]
[null,null,null,null,null,null,null,null,null,null,null,null,null,null,null,null,null,null,null,{"$f":"IF(S117<>\"\",(IF(COUNTIFS('Base Maestra'!$A$42:$A$535,N117,'Base Maestra'!$B$42:$B$535,O117,'Base Maestra'!$C$42:$C$535,P117)>0,\"Correcto\",\"Revisar Catálogo\")),\"\")","v":""},{"$f":"IF(S117<>\"\", IF(COUNTIFS(\n     'Base Maestra'!$F$43:$F$54,H117,\n     'Base Maestra'!$G$43:$G$54,I117)>0, \"Correcto\", \"Revisar Catálogo\"), \"\")","v":""}]
[null,null,null,null,null,null,null,null,null,null,null,null,null,null,null,null,null,null,null,{"$f":"IF(S118<>\"\",(IF(COUNTIFS('Base Maestra'!$A$42:$A$535,N118,'Base Maestra'!$B$42:$B$535,O118,'Base Maestra'!$C$42:$C$535,P118)>0,\"Correcto\",\"Revisar Catálogo\")),\"\")","v":""},{"$f":"IF(S118<>\"\", IF(COUNTIFS(\n     'Base Maestra'!$F$43:$F$54,H118,\n     'Base Maestra'!$G$43:$G$54,I118)>0, \"Correcto\", \"Revisar Catálogo\"), \"\")","v":""}]
[null,null,null,null,null,null,null,null,null,null,null,null,null,null,null,null,null,null,null,{"$f":"IF(S119<>\"\",(IF(COUNTIFS('Base Maestra'!$A$42:$A$535,N119,'Base Maestra'!$B$42:$B$535,O119,'Base Maestra'!$C$42:$C$535,P119)>0,\"Correcto\",\"Revisar Catálogo\")),\"\")","v":""},{"$f":"IF(S119<>\"\", IF(COUNTIFS(\n     'Base Maestra'!$F$43:$F$54,H119,\n     'Base Maestra'!$G$43:$G$54,I119)>0, \"Correcto\", \"Revisar Catálogo\"), \"\")","v":""}]
[null,null,null,null,null,null,null,null,null,null,null,null,null,null,null,null,null,null,null,{"$f":"IF(S120<>\"\",(IF(COUNTIFS('Base Maestra'!$A$42:$A$535,N120,'Base Maestra'!$B$42:$B$535,O120,'Base Maestra'!$C$42:$C$535,P120)>0,\"Correcto\",\"Revisar Catálogo\")),\"\")","v":""},{"$f":"IF(S120<>\"\", IF(COUNTIFS(\n     'Base Maestra'!$F$43:$F$54,H120,\n     'Base Maestra'!$G$43:$G$54,I120)>0, \"Correcto\", \"Revisar Catálogo\"), \"\")","v":""}]
[null,null,null,null,null,null,null,null,null,null,null,null,null,null,null,null,null,null,null,{"$f":"IF(S121<>\"\",(IF(COUNTIFS('Base Maestra'!$A$42:$A$535,N121,'Base Maestra'!$B$42:$B$535,O121,'Base Maestra'!$C$42:$C$535,P121)>0,\"Correcto\",\"Revisar Catálogo\")),\"\")","v":""},{"$f":"IF(S121<>\"\", IF(COUNTIFS(\n     'Base Maestra'!$F$43:$F$54,H121,\n     'Base Maestra'!$G$43:$G$54,I121)>0, \"Correcto\", \"Revisar Catálogo\"), \"\")","v":""}]
[null,null,null,null,null,null,null,null,null,null,null,null,null,null,null,null,null,null,null,{"$f":"IF(S122<>\"\",(IF(COUNTIFS('Base Maestra'!$A$42:$A$535,N122,'Base Maestra'!$B$42:$B$535,O122,'Base Maestra'!$C$42:$C$535,P122)>0,\"Correcto\",\"Revisar Catálogo\")),\"\")","v":""},{"$f":"IF(S122<>\"\", IF(COUNTIFS(\n     'Base Maestra'!$F$43:$F$54,H122,\n     'Base Maestra'!$G$43:$G$54,I122)>0, \"Correcto\", \"Revisar Catálogo\"), \"\")","v":""}]
[null,null,null,null,null,null,null,null,null,null,null,null,null,null,null,null,null,null,null,{"$f":"IF(S123<>\"\",(IF(COUNTIFS('Base Maestra'!$A$42:$A$535,N123,'Base Maestra'!$B$42:$B$535,O123,'Base Maestra'!$C$42:$C$535,P123)>0,\"Correcto\",\"Revisar Catálogo\")),\"\")","v":""},{"$f":"IF(S123<>\"\", IF(COUNTIFS(\n     'Base Maestra'!$F$43:$F$54,H123,\n     'Base Maestra'!$G$43:$G$54,I123)>0, \"Correcto\", \"Revisar Catálogo\"), \"\")","v":""}]
[null,null,null,null,null,null,null,null,null,null,null,null,null,null,null,null,null,null,null,{"$f":"IF(S124<>\"\",(IF(COUNTIFS('Base Maestra'!$A$42:$A$535,N124,'Base Maestra'!$B$42:$B$535,O124,'Base Maestra'!$C$42:$C$535,P124)>0,\"Correcto\",\"Revisar Catálogo\")),\"\")","v":""},{"$f":"IF(S124<>\"\", IF(COUNTIFS(\n     'Base Maestra'!$F$43:$F$54,H124,\n     'Base Maestra'!$G$43:$G$54,I124)>0, \"Correcto\", \"Revisar Catálogo\"), \"\")","v":""}]
[null,null,null,null,null,null,null,null,null,null,null,null,null,null,null,null,null,null,null,{"$f":"IF(S125<>\"\",(IF(COUNTIFS('Base Maestra'!$A$42:$A$535,N125,'Base Maestra'!$B$42:$B$535,O125,'Base Maestra'!$C$42:$C$535,P125)>0,\"Correcto\",\"Revisar Catálogo\")),\"\")","v":""},{"$f":"IF(S125<>\"\", IF(COUNTIFS(\n     'Base Maestra'!$F$43:$F$54,H125,\n     'Base Maestra'!$G$43:$G$54,I125)>0, \"Correcto\", \"Revisar Catálogo\"), \"\")","v":""}]
[null,null,null,null,null,null,null,null,null,null,null,null,null,null,null,null,null,null,null,{"$f":"IF(S126<>\"\",(IF(COUNTIFS('Base Maestra'!$A$42:$A$535,N126,'Base Maestra'!$B$42:$B$535,O126,'Base Maestra'!$C$42:$C$535,P126)>0,\"Correcto\",\"Revisar Catálogo\")),\"\")","v":""},{"$f":"IF(S126<>\"\", IF(COUNTIFS(\n     'Base Maestra'!$F$43:$F$54,H126,\n     'Base Maestra'!$G$43:$G$54,I126)>0, \"Correcto\", \"Revisar Catálogo\"), \"\")","v":""}]
[null,null,null,null,null,null,null,null,null,null,null,null,null,null,null,null,null,null,null,{"$f":"IF(S127<>\"\",(IF(COUNTIFS('Base Maestra'!$A$42:$A$535,N127,'Base Maestra'!$B$42:$B$535,O127,'Base Maestra'!$C$42:$C$535,P127)>0,\"Correcto\",\"Revisar Catálogo\")),\"\")","v":""},{"$f":"IF(S127<>\"\", IF(COUNTIFS(\n     'Base Maestra'!$F$43:$F$54,H127,\n     'Base Maestra'!$G$43:$G$54,I127)>0, \"Correcto\", \"Revisar Catálogo\"), \"\")","v":""}]
[null,null,null,null,null,null,null,null,null,null,null,null,null,null,null,null,null,null,null,{"$f":"IF(S128<>\"\",(IF(COUNTIFS('Base Maestra'!$A$42:$A$535,N128,'Base Maestra'!$B$42:$B$535,O128,'Base Maestra'!$C$42:$C$535,P128)>0,\"Correcto\",\"Revisar Catálogo\")),\"\")","v":""},{"$f":"IF(S128<>\"\", IF(COUNTIFS(\n     'Base Maestra'!$F$43:$F$54,H128,\n     'Base Maestra'!$G$43:$G$54,I128)>0, \"Correcto\", \"Revisar Catálogo\"), \"\")","v":""}]
[null,null,null,null,null,null,null,null,null,null,null,null,null,null,null,null,null,null,null,{"$f":"IF(S129<>\"\",(IF(COUNTIFS('Base Maestra'!$A$42:$A$535,N129,'Base Maestra'!$B$42:$B$535,O129,'Base Maestra'!$C$42:$C$535,P129)>0,\"Correcto\",\"Revisar Catálogo\")),\"\")","v":""},{"$f":"IF(S129<>\"\", IF(COUNTIFS(\n     'Base Maestra'!$F$43:$F$54,H129,\n     'Base Maestra'!$G$43:$G$54,I129)>0, \"Correcto\", \"Revisar Catálogo\"), \"\")","v":""}]
[null,null,null,null,null,null,null,null,null,null,null,null,null,null,null,null,null,null,null,{"$f":"IF(S130<>\"\",(IF(COUNTIFS('Base Maestra'!$A$42:$A$535,N130,'Base Maestra'!$B$42:$B$535,O130,'Base Maestra'!$C$42:$C$535,P130)>0,\"Correcto\",\"Revisar Catálogo\")),\"\")","v":""},{"$f":"IF(S130<>\"\", IF(COUNTIFS(\n     'Base Maestra'!$F$43:$F$54,H130,\n     'Base Maestra'!$G$43:$G$54,I130)>0, \"Correcto\", \"Revisar Catálogo\"), \"\")","v":""}]
[null,null,null,null,null,null,null,null,null,null,null,null,null,null,null,null,null,null,null,{"$f":"IF(S131<>\"\",(IF(COUNTIFS('Base Maestra'!$A$42:$A$535,N131,'Base Maestra'!$B$42:$B$535,O131,'Base Maestra'!$C$42:$C$535,P131)>0,\"Correcto\",\"Revisar Catálogo\")),\"\")","v":""},{"$f":"IF(S131<>\"\", IF(COUNTIFS(\n     'Base Maestra'!$F$43:$F$54,H131,\n     'Base Maestra'!$G$43:$G$54,I131)>0, \"Correcto\", \"Revisar Catálogo\"), \"\")","v":""}]
[null,null,null,null,null,null,null,null,null,null,null,null,null,null,null,null,null,null,null,{"$f":"IF(S132<>\"\",(IF(COUNTIFS('Base Maestra'!$A$42:$A$535,N132,'Base Maestra'!$B$42:$B$535,O132,'Base Maestra'!$C$42:$C$535,P132)>0,\"Correcto\",\"Revisar Catálogo\")),\"\")","v":""},{"$f":"IF(S132<>\"\", IF(COUNTIFS(\n     'Base Maestra'!$F$43:$F$54,H132,\n     'Base Maestra'!$G$43:$G$54,I132)>0, \"Correcto\", \"Revisar Catálogo\"), \"\")","v":""}]
[null,null,null,null,null,null,null,null,null,null,null,null,null,null,null,null,null,null,null,{"$f":"IF(S133<>\"\",(IF(COUNTIFS('Base Maestra'!$A$42:$A$535,N133,'Base Maestra'!$B$42:$B$535,O133,'Base Maestra'!$C$42:$C$535,P133)>0,\"Correcto\",\"Revisar Catálogo\")),\"\")","v":""},{"$f":"IF(S133<>\"\", IF(COUNTIFS(\n     'Base Maestra'!$F$43:$F$54,H133,\n     'Base Maestra'!$G$43:$G$54,I133)>0, \"Correcto\", \"Revisar Catálogo\"), \"\")","v":""}]
[null,null,null,null,null,null,null,null,null,null,null,null,null,null,null,null,null,null,null,{"$f":"IF(S134<>\"\",(IF(COUNTIFS('Base Maestra'!$A$42:$A$535,N134,'Base Maestra'!$B$42:$B$535,O134,'Base Maestra'!$C$42:$C$535,P134)>0,\"Correcto\",\"Revisar Catálogo\")),\"\")","v":""},{"$f":"IF(S134<>\"\", IF(COUNTIFS(\n     'Base Maestra'!$F$43:$F$54,H134,\n     'Base Maestra'!$G$43:$G$54,I134)>0, \"Correcto\", \"Revisar Catálogo\"), \"\")","v":""}]
[null,null,null,null,null,null,null,null,null,null,null,null,null,null,null,null,null,null,null,{"$f":"IF(S135<>\"\",(IF(COUNTIFS('Base Maestra'!$A$42:$A$535,N135,'Base Maestra'!$B$42:$B$535,O135,'Base Maestra'!$C$42:$C$535,P135)>0,\"Correcto\",\"Revisar Catálogo\")),\"\")","v":""},{"$f":"IF(S135<>\"\", IF(COUNTIFS(\n     'Base Maestra'!$F$43:$F$54,H135,\n     'Base Maestra'!$G$43:$G$54,I135)>0, \"Correcto\", \"Revisar Catálogo\"), \"\")","v":""}]
[null,null,null,null,null,null,null,null,null,null,null,null,null,null,null,null,null,null,null,{"$f":"IF(S136<>\"\",(IF(COUNTIFS('Base Maestra'!$A$42:$A$535,N136,'Base Maestra'!$B$42:$B$535,O136,'Base Maestra'!$C$42:$C$535,P136)>0,\"Correcto\",\"Revisar Catálogo\")),\"\")","v":""},{"$f":"IF(S136<>\"\", IF(COUNTIFS(\n     'Base Maestra'!$F$43:$F$54,H136,\n     'Base Maestra'!$G$43:$G$54,I136)>0, \"Correcto\", \"Revisar Catálogo\"), \"\")","v":""}]
[null,null,null,null,null,null,null,null,null,null,null,null,null,null,null,null,null,null,null,{"$f":"IF(S137<>\"\",(IF(COUNTIFS('Base Maestra'!$A$42:$A$535,N137,'Base Maestra'!$B$42:$B$535,O137,'Base Maestra'!$C$42:$C$535,P137)>0,\"Correcto\",\"Revisar Catálogo\")),\"\")","v":""},{"$f":"IF(S137<>\"\", IF(COUNTIFS(\n     'Base Maestra'!$F$43:$F$54,H137,\n     'Base Maestra'!$G$43:$G$54,I137)>0, \"Correcto\", \"Revisar Catálogo\"), \"\")","v":""}]
[null,null,null,null,null,null,null,null,null,null,null,null,null,null,null,null,null,null,null,{"$f":"IF(S138<>\"\",(IF(COUNTIFS('Base Maestra'!$A$42:$A$535,N138,'Base Maestra'!$B$42:$B$535,O138,'Base Maestra'!$C$42:$C$535,P138)>0,\"Correcto\",\"Revisar Catálogo\")),\"\")","v":""},{"$f":"IF(S138<>\"\", IF(COUNTIFS(\n     'Base Maestra'!$F$43:$F$54,H138,\n     'Base Maestra'!$G$43:$G$54,I138)>0, \"Correcto\", \"Revisar Catálogo\"), \"\")","v":""}]
[null,null,null,null,null,null,null,null,null,null,null,null,null,null,null,null,null,null,null,{"$f":"IF(S139<>\"\",(IF(COUNTIFS('Base Maestra'!$A$42:$A$535,N139,'Base Maestra'!$B$42:$B$535,O139,'Base Maestra'!$C$42:$C$535,P139)>0,\"Correcto\",\"Revisar Catálogo\")),\"\")","v":""},{"$f":"IF(S139<>\"\", IF(COUNTIFS(\n     'Base Maestra'!$F$43:$F$54,H139,\n     'Base Maestra'!$G$43:$G$54,I139)>0, \"Correcto\", \"Revisar Catálogo\"), \"\")","v":""}]
[null,null,null,null,null,null,null,null,null,null,null,null,null,null,null,null,null,null,null,{"$f":"IF(S140<>\"\",(IF(COUNTIFS('Base Maestra'!$A$42:$A$535,N140,'Base Maestra'!$B$42:$B$535,O140,'Base Maestra'!$C$42:$C$535,P140)>0,\"Correcto\",\"Revisar Catálogo\")),\"\")","v":""},{"$f":"IF(S140<>\"\", IF(COUNTIFS(\n     'Base Maestra'!$F$43:$F$54,H140,\n     'Base Maestra'!$G$43:$G$54,I140)>0, \"Correcto\", \"Revisar Catálogo\"), \"\")","v":""}]
[null,null,null,null,null,null,null,null,null,null,null,null,null,null,null,null,null,null,null,{"$f":"IF(S141<>\"\",(IF(COUNTIFS('Base Maestra'!$A$42:$A$535,N141,'Base Maestra'!$B$42:$B$535,O141,'Base Maestra'!$C$42:$C$535,P141)>0,\"Correcto\",\"Revisar Catálogo\")),\"\")","v":""},{"$f":"IF(S141<>\"\", IF(COUNTIFS(\n     'Base Maestra'!$F$43:$F$54,H141,\n     'Base Maestra'!$G$43:$G$54,I141)>0, \"Correcto\", \"Revisar Catálogo\"), \"\")","v":""}]
[null,null,null,null,null,null,null,null,null,null,null,null,null,null,null,null,null,null,null,{"$f":"IF(S142<>\"\",(IF(COUNTIFS('Base Maestra'!$A$42:$A$535,N142,'Base Maestra'!$B$42:$B$535,O142,'Base Maestra'!$C$42:$C$535,P142)>0,\"Correcto\",\"Revisar Catálogo\")),\"\")","v":""},{"$f":"IF(S142<>\"\", IF(COUNTIFS(\n     'Base Maestra'!$F$43:$F$54,H142,\n     'Base Maestra'!$G$43:$G$54,I142)>0, \"Correcto\", \"Revisar Catálogo\"), \"\")","v":""}]
[null,null,null,null,null,null,null,null,null,null,null,null,null,null,null,null,null,null,null,{"$f":"IF(S143<>\"\",(IF(COUNTIFS('Base Maestra'!$A$42:$A$535,N143,'Base Maestra'!$B$42:$B$535,O143,'Base Maestra'!$C$42:$C$535,P143)>0,\"Correcto\",\"Revisar Catálogo\")),\"\")","v":""},{"$f":"IF(S143<>\"\", IF(COUNTIFS(\n     'Base Maestra'!$F$43:$F$54,H143,\n     'Base Maestra'!$G$43:$G$54,I143)>0, \"Correcto\", \"Revisar Catálogo\"), \"\")","v":""}]
[null,null,null,null,null,null,null,null,null,null,null,null,null,null,null,null,null,null,null,{"$f":"IF(S144<>\"\",(IF(COUNTIFS('Base Maestra'!$A$42:$A$535,N144,'Base Maestra'!$B$42:$B$535,O144,'Base Maestra'!$C$42:$C$535,P144)>0,\"Correcto\",\"Revisar Catálogo\")),\"\")","v":""},{"$f":"IF(S144<>\"\", IF(COUNTIFS(\n     'Base Maestra'!$F$43:$F$54,H144,\n     'Base Maestra'!$G$43:$G$54,I144)>0, \"Correcto\", \"Revisar Catálogo\"), \"\")","v":""}]
[null,null,null,null,null,null,null,null,null,null,null,null,null,null,null,null,null,null,null,{"$f":"IF(S145<>\"\",(IF(COUNTIFS('Base Maestra'!$A$42:$A$535,N145,'Base Maestra'!$B$42:$B$535,O145,'Base Maestra'!$C$42:$C$535,P145)>0,\"Correcto\",\"Revisar Catálogo\")),\"\")","v":""},{"$f":"IF(S145<>\"\", IF(COUNTIFS(\n     'Base Maestra'!$F$43:$F$54,H145,\n     'Base Maestra'!$G$43:$G$54,I145)>0, \"Correcto\", \"Revisar Catálogo\"), \"\")","v":""}]
[null,null,null,null,null,null,null,null,null,null,null,null,null,null,null,null,null,null,null,{"$f":"IF(S146<>\"\",(IF(COUNTIFS('Base Maestra'!$A$42:$A$535,N146,'Base Maestra'!$B$42:$B$535,O146,'Base Maestra'!$C$42:$C$535,P146)>0,\"Correcto\",\"Revisar Catálogo\")),\"\")","v":""},{"$f":"IF(S146<>\"\", IF(COUNTIFS(\n     'Base Maestra'!$F$43:$F$54,H146,\n     'Base Maestra'!$G$43:$G$54,I146)>0, \"Correcto\", \"Revisar Catálogo\"), \"\")","v":""}]
[null,null,null,null,null,null,null,null,null,null,null,null,null,null,null,null,null,null,null,{"$f":"IF(S147<>\"\",(IF(COUNTIFS('Base Maestra'!$A$42:$A$535,N147,'Base Maestra'!$B$42:$B$535,O147,'Base Maestra'!$C$42:$C$535,P147)>0,\"Correcto\",\"Revisar Catálogo\")),\"\")","v":""},{"$f":"IF(S147<>\"\", IF(COUNTIFS(\n     'Base Maestra'!$F$43:$F$54,H147,\n     'Base Maestra'!$G$43:$G$54,I147)>0, \"Correcto\", \"Revisar Catálogo\"), \"\")","v":""}]
[null,null,null,null,null,null,null,null,null,null,null,null,null,null,null,null,null,null,null,{"$f":"IF(S148<>\"\",(IF(COUNTIFS('Base Maestra'!$A$42:$A$535,N148,'Base Maestra'!$B$42:$B$535,O148,'Base Maestra'!$C$42:$C$535,P148)>0,\"Correcto\",\"Revisar Catálogo\")),\"\")","v":""},{"$f":"IF(S148<>\"\", IF(COUNTIFS(\n     'Base Maestra'!$F$43:$F$54,H148,\n     'Base Maestra'!$G$43:$G$54,I148)>0, \"Correcto\", \"Revisar Catálogo\"), \"\")","v":""}]
[null,null,null,null,null,null,null,null,null,null,null,null,null,null,null,null,null,null,null,{"$f":"IF(S149<>\"\",(IF(COUNTIFS('Base Maestra'!$A$42:$A$535,N149,'Base Maestra'!$B$42:$B$535,O149,'Base Maestra'!$C$42:$C$535,P149)>0,\"Correcto\",\"Revisar Catálogo\")),\"\")","v":""},{"$f":"IF(S149<>\"\", IF(COUNTIFS(\n     'Base Maestra'!$F$43:$F$54,H149,\n     'Base Maestra'!$G$43:$G$54,I149)>0, \"Correcto\", \"Revisar Catálogo\"), \"\")","v":""}]
[null,null,null,null,null,null,null,null,null,null,null,null,null,null,null,null,null,null,null,{"$f":"IF(S150<>\"\",(IF(COUNTIFS('Base Maestra'!$A$42:$A$535,N150,'Base Maestra'!$B$42:$B$535,O150,'Base Maestra'!$C$42:$C$535,P150)>0,\"Correcto\",\"Revisar Catálogo\")),\"\")","v":""},{"$f":"IF(S150<>\"\", IF(COUNTIFS(\n     'Base Maestra'!$F$43:$F$54,H150,\n     'Base Maestra'!$G$43:$G$54,I150)>0, \"Correcto\", \"Revisar Catálogo\"), \"\")","v":""}]
[null,null,null,null,null,null,null,null,null,null,null,null,null,null,null,null,null,null,null,{"$f":"IF(S151<>\"\",(IF(COUNTIFS('Base Maestra'!$A$42:$A$535,N151,'Base Maestra'!$B$42:$B$535,O151,'Base Maestra'!$C$42:$C$535,P151)>0,\"Correcto\",\"Revisar Catálogo\")),\"\")","v":""},{"$f":"IF(S151<>\"\", IF(COUNTIFS(\n     'Base Maestra'!$F$43:$F$54,H151,\n     'Base Maestra'!$G$43:$G$54,I151)>0, \"Correcto\", \"Revisar Catálogo\"), \"\")","v":""}]
[null,null,null,null,null,null,null,null,null,null,null,null,null,null,null,null,null,null,null,{"$f":"IF(S152<>\"\",(IF(COUNTIFS('Base Maestra'!$A$42:$A$535,N152,'Base Maestra'!$B$42:$B$535,O152,'Base Maestra'!$C$42:$C$535,P152)>0,\"Correcto\",\"Revisar Catálogo\")),\"\")","v":""},{"$f":"IF(S152<>\"\", IF(COUNTIFS(\n     'Base Maestra'!$F$43:$F$54,H152,\n     'Base Maestra'!$G$43:$G$54,I152)>0, \"Correcto\", \"Revisar Catálogo\"), \"\")","v":""}]
[null,null,null,null,null,null,null,null,null,null,null,null,null,null,null,null,null,null,null,{"$f":"IF(S153<>\"\",(IF(COUNTIFS('Base Maestra'!$A$42:$A$535,N153,'Base Maestra'!$B$42:$B$535,O153,'Base Maestra'!$C$42:$C$535,P153)>0,\"Correcto\",\"Revisar Catálogo\")),\"\")","v":""},{"$f":"IF(S153<>\"\", IF(COUNTIFS(\n     'Base Maestra'!$F$43:$F$54,H153,\n     'Base Maestra'!$G$43:$G$54,I153)>0, \"Correcto\", \"Revisar Catálogo\"), \"\")","v":""}]
[null,null,null,null,null,null,null,null,null,null,null,null,null,null,null,null,null,null,null,{"$f":"IF(S154<>\"\",(IF(COUNTIFS('Base Maestra'!$A$42:$A$535,N154,'Base Maestra'!$B$42:$B$535,O154,'Base Maestra'!$C$42:$C$535,P154)>0,\"Correcto\",\"Revisar Catálogo\")),\"\")","v":""},{"$f":"IF(S154<>\"\", IF(COUNTIFS(\n     'Base Maestra'!$F$43:$F$54,H154,\n     'Base Maestra'!$G$43:$G$54,I154)>0, \"Correcto\", \"Revisar Catálogo\"), \"\")","v":""}]
[null,null,null,null,null,null,null,null,null,null,null,null,null,null,null,null,null,null,null,{"$f":"IF(S155<>\"\",(IF(COUNTIFS('Base Maestra'!$A$42:$A$535,N155,'Base Maestra'!$B$42:$B$535,O155,'Base Maestra'!$C$42:$C$535,P155)>0,\"Correcto\",\"Revisar Catálogo\")),\"\")","v":""},{"$f":"IF(S155<>\"\", IF(COUNTIFS(\n     'Base Maestra'!$F$43:$F$54,H155,\n     'Base Maestra'!$G$43:$G$54,I155)>0, \"Correcto\", \"Revisar Catálogo\"), \"\")","v":""}]
[null,null,null,null,null,null,null,null,null,null,null,null,null,null,null,null,null,null,null,{"$f":"IF(S156<>\"\",(IF(COUNTIFS('Base Maestra'!$A$42:$A$535,N156,'Base Maestra'!$B$42:$B$535,O156,'Base Maestra'!$C$42:$C$535,P156)>0,\"Correcto\",\"Revisar Catálogo\")),\"\")","v":""},{"$f":"IF(S156<>\"\", IF(COUNTIFS(\n     'Base Maestra'!$F$43:$F$54,H156,\n     'Base Maestra'!$G$43:$G$54,I156)>0, \"Correcto\", \"Revisar Catálogo\"), \"\")","v":""}]
[null,null,null,null,null,null,null,null,null,null,null,null,null,null,null,null,null,null,null,{"$f":"IF(S157<>\"\",(IF(COUNTIFS('Base Maestra'!$A$42:$A$535,N157,'Base Maestra'!$B$42:$B$535,O157,'Base Maestra'!$C$42:$C$535,P157)>0,\"Correcto\",\"Revisar Catálogo\")),\"\")","v":""},{"$f":"IF(S157<>\"\", IF(COUNTIFS(\n     'Base Maestra'!$F$43:$F$54,H157,\n     'Base Maestra'!$G$43:$G$54,I157)>0, \"Correcto\", \"Revisar Catálogo\"), \"\")","v":""}]
[null,null,null,null,null,null,null,null,null,null,null,null,null,null,null,null,null,null,null,{"$f":"IF(S158<>\"\",(IF(COUNTIFS('Base Maestra'!$A$42:$A$535,N158,'Base Maestra'!$B$42:$B$535,O158,'Base Maestra'!$C$42:$C$535,P158)>0,\"Correcto\",\"Revisar Catálogo\")),\"\")","v":""},{"$f":"IF(S158<>\"\", IF(COUNTIFS(\n     'Base Maestra'!$F$43:$F$54,H158,\n     'Base Maestra'!$G$43:$G$54,I158)>0, \"Correcto\", \"Revisar Catálogo\"), \"\")","v":""}]
[null,null,null,null,null,null,null,null,null,null,null,null,null,null,null,null,null,null,null,{"$f":"IF(S159<>\"\",(IF(COUNTIFS('Base Maestra'!$A$42:$A$535,N159,'Base Maestra'!$B$42:$B$535,O159,'Base Maestra'!$C$42:$C$535,P159)>0,\"Correcto\",\"Revisar Catálogo\")),\"\")","v":""},{"$f":"IF(S159<>\"\", IF(COUNTIFS(\n     'Base Maestra'!$F$43:$F$54,H159,\n     'Base Maestra'!$G$43:$G$54,I159)>0, \"Correcto\", \"Revisar Catálogo\"), \"\")","v":""}]
[null,null,null,null,null,null,null,null,null,null,null,null,null,null,null,null,null,null,null,{"$f":"IF(S160<>\"\",(IF(COUNTIFS('Base Maestra'!$A$42:$A$535,N160,'Base Maestra'!$B$42:$B$535,O160,'Base Maestra'!$C$42:$C$535,P160)>0,\"Correcto\",\"Revisar Catálogo\")),\"\")","v":""},{"$f":"IF(S160<>\"\", IF(COUNTIFS(\n     'Base Maestra'!$F$43:$F$54,H160,\n     'Base Maestra'!$G$43:$G$54,I160)>0, \"Correcto\", \"Revisar Catálogo\"), \"\")","v":""}]
[null,null,null,null,null,null,null,null,null,null,null,null,null,null,null,null,null,null,null,{"$f":"IF(S161<>\"\",(IF(COUNTIFS('Base Maestra'!$A$42:$A$535,N161,'Base Maestra'!$B$42:$B$535,O161,'Base Maestra'!$C$42:$C$535,P161)>0,\"Correcto\",\"Revisar Catálogo\")),\"\")","v":""},{"$f":"IF(S161<>\"\", IF(COUNTIFS(\n     'Base Maestra'!$F$43:$F$54,H161,\n     'Base Maestra'!$G$43:$G$54,I161)>0, \"Correcto\", \"Revisar Catálogo\"), \"\")","v":""}]
[null,null,null,null,null,null,null,null,null,null,null,null,null,null,null,null,null,null,null,{"$f":"IF(S162<>\"\",(IF(COUNTIFS('Base Maestra'!$A$42:$A$535,N162,'Base Maestra'!$B$42:$B$535,O162,'Base Maestra'!$C$42:$C$535,P162)>0,\"Correcto\",\"Revisar Catálogo\")),\"\")","v":""},{"$f":"IF(S162<>\"\", IF(COUNTIFS(\n     'Base Maestra'!$F$43:$F$54,H162,\n     'Base Maestra'!$G$43:$G$54,I162)>0, \"Correcto\", \"Revisar Catálogo\"), \"\")","v":""}]
[null,null,null,null,null,null,null,null,null,null,null,null,null,null,null,null,null,null,null,{"$f":"IF(S163<>\"\",(IF(COUNTIFS('Base Maestra'!$A$42:$A$535,N163,'Base Maestra'!$B$42:$B$535,O163,'Base Maestra'!$C$42:$C$535,P163)>0,\"Correcto\",\"Revisar Catálogo\")),\"\")","v":""},{"$f":"IF(S163<>\"\", IF(COUNTIFS(\n     'Base Maestra'!$F$43:$F$54,H163,\n     'Base Maestra'!$G$43:$G$54,I163)>0, \"Correcto\", \"Revisar Catálogo\"), \"\")","v":""}]
[null,null,null,null,null,null,null,null,null,null,null,null,null,null,null,null,null,null,null,{"$f":"IF(S164<>\"\",(IF(COUNTIFS('Base Maestra'!$A$42:$A$535,N164,'Base Maestra'!$B$42:$B$535,O164,'Base Maestra'!$C$42:$C$535,P164)>0,\"Correcto\",\"Revisar Catálogo\")),\"\")","v":""},{"$f":"IF(S164<>\"\", IF(COUNTIFS(\n     'Base Maestra'!$F$43:$F$54,H164,\n     'Base Maestra'!$G$43:$G$54,I164)>0, \"Correcto\", \"Revisar Catálogo\"), \"\")","v":""}]
[null,null,null,null,null,null,null,null,null,null,null,null,null,null,null,null,null,null,null,{"$f":"IF(S165<>\"\",(IF(COUNTIFS('Base Maestra'!$A$42:$A$535,N165,'Base Maestra'!$B$42:$B$535,O165,'Base Maestra'!$C$42:$C$535,P165)>0,\"Correcto\",\"Revisar Catálogo\")),\"\")","v":""},{"$f":"IF(S165<>\"\", IF(COUNTIFS(\n     'Base Maestra'!$F$43:$F$54,H165,\n     'Base Maestra'!$G$43:$G$54,I165)>0, \"Correcto\", \"Revisar Catálogo\"), \"\")","v":""}]
[null,null,null,null,null,null,null,null,null,null,null,null,null,null,null,null,null,null,null,{"$f":"IF(S166<>\"\",(IF(COUNTIFS('Base Maestra'!$A$42:$A$535,N166,'Base Maestra'!$B$42:$B$535,O166,'Base Maestra'!$C$42:$C$535,P166)>0,\"Correcto\",\"Revisar Catálogo\")),\"\")","v":""},{"$f":"IF(S166<>\"\", IF(COUNTIFS(\n     'Base Maestra'!$F$43:$F$54,H166,\n     'Base Maestra'!$G$43:$G$54,I166)>0, \"Correcto\", \"Revisar Catálogo\"), \"\")","v":""}]
[null,null,null,null,null,null,null,null,null,null,null,null,null,null,null,null,null,null,null,{"$f":"IF(S167<>\"\",(IF(COUNTIFS('Base Maestra'!$A$42:$A$535,N167,'Base Maestra'!$B$42:$B$535,O167,'Base Maestra'!$C$42:$C$535,P167)>0,\"Correcto\",\"Revisar Catálogo\")),\"\")","v":""},{"$f":"IF(S167<>\"\", IF(COUNTIFS(\n     'Base Maestra'!$F$43:$F$54,H167,\n     'Base Maestra'!$G$43:$G$54,I167)>0, \"Correcto\", \"Revisar Catálogo\"), \"\")","v":""}]
[null,null,null,null,null,null,null,null,null,null,null,null,null,null,null,null,null,null,null,{"$f":"IF(S168<>\"\",(IF(COUNTIFS('Base Maestra'!$A$42:$A$535,N168,'Base Maestra'!$B$42:$B$535,O168,'Base Maestra'!$C$42:$C$535,P168)>0,\"Correcto\",\"Revisar Catálogo\")),\"\")","v":""},{"$f":"IF(S168<>\"\", IF(COUNTIFS(\n     'Base Maestra'!$F$43:$F$54,H168,\n     'Base Maestra'!$G$43:$G$54,I168)>0, \"Correcto\", \"Revisar Catálogo\"), \"\")","v":""}]
[null,null,null,null,null,null,null,null,null,null,null,null,null,null,null,null,null,null,null,{"$f":"IF(S169<>\"\",(IF(COUNTIFS('Base Maestra'!$A$42:$A$535,N169,'Base Maestra'!$B$42:$B$535,O169,'Base Maestra'!$C$42:$C$535,P169)>0,\"Correcto\",\"Revisar Catálogo\")),\"\")","v":""},{"$f":"IF(S169<>\"\", IF(COUNTIFS(\n     'Base Maestra'!$F$43:$F$54,H169,\n     'Base Maestra'!$G$43:$G$54,I169)>0, \"Correcto\", \"Revisar Catálogo\"), \"\")","v":""}]
[null,null,null,null,null,null,null,null,null,null,null,null,null,null,null,null,null,null,null,{"$f":"IF(S170<>\"\",(IF(COUNTIFS('Base Maestra'!$A$42:$A$535,N170,'Base Maestra'!$B$42:$B$535,O170,'Base Maestra'!$C$42:$C$535,P170)>0,\"Correcto\",\"Revisar Catálogo\")),\"\")","v":""},{"$f":"IF(S170<>\"\", IF(COUNTIFS(\n     'Base Maestra'!$F$43:$F$54,H170,\n     'Base Maestra'!$G$43:$G$54,I170)>0, \"Correcto\", \"Revisar Catálogo\"), \"\")","v":""}]
[null,null,null,null,null,null,null,null,null,null,null,null,null,null,null,null,null,null,null,{"$f":"IF(S171<>\"\",(IF(COUNTIFS('Base Maestra'!$A$42:$A$535,N171,'Base Maestra'!$B$42:$B$535,O171,'Base Maestra'!$C$42:$C$535,P171)>0,\"Correcto\",\"Revisar Catálogo\")),\"\")","v":""},{"$f":"IF(S171<>\"\", IF(COUNTIFS(\n     'Base Maestra'!$F$43:$F$54,H171,\n     'Base Maestra'!$G$43:$G$54,I171)>0, \"Correcto\", \"Revisar Catálogo\"), \"\")","v":""}]
[null,null,null,null,null,null,null,null,null,null,null,null,null,null,null,null,null,null,null,{"$f":"IF(S172<>\"\",(IF(COUNTIFS('Base Maestra'!$A$42:$A$535,N172,'Base Maestra'!$B$42:$B$535,O172,'Base Maestra'!$C$42:$C$535,P172)>0,\"Correcto\",\"Revisar Catálogo\")),\"\")","v":""},{"$f":"IF(S172<>\"\", IF(COUNTIFS(\n     'Base Maestra'!$F$43:$F$54,H172,\n     'Base Maestra'!$G$43:$G$54,I172)>0, \"Correcto\", \"Revisar Catálogo\"), \"\")","v":""}]
[null,null,null,null,null,null,null,null,null,null,null,null,null,null,null,null,null,null,null,{"$f":"IF(S173<>\"\",(IF(COUNTIFS('Base Maestra'!$A$42:$A$535,N173,'Base Maestra'!$B$42:$B$535,O173,'Base Maestra'!$C$42:$C$535,P173)>0,\"Correcto\",\"Revisar Catálogo\")),\"\")","v":""},{"$f":"IF(S173<>\"\", IF(COUNTIFS(\n     'Base Maestra'!$F$43:$F$54,H173,\n     'Base Maestra'!$G$43:$G$54,I173)>0, \"Correcto\", \"Revisar Catálogo\"), \"\")","v":""}]
[null,null,null,null,null,null,null,null,null,null,null,null,null,null,null,null,null,null,null,{"$f":"IF(S174<>\"\",(IF(COUNTIFS('Base Maestra'!$A$42:$A$535,N174,'Base Maestra'!$B$42:$B$535,O174,'Base Maestra'!$C$42:$C$535,P174)>0,\"Correcto\",\"Revisar Catálogo\")),\"\")","v":""},{"$f":"IF(S174<>\"\", IF(COUNTIFS(\n     'Base Maestra'!$F$43:$F$54,H174,\n     'Base Maestra'!$G$43:$G$54,I174)>0, \"Correcto\", \"Revisar Catálogo\"), \"\")","v":""}]
[null,null,null,null,null,null,null,null,null,null,null,null,null,null,null,null,null,null,null,{"$f":"IF(S175<>\"\",(IF(COUNTIFS('Base Maestra'!$A$42:$A$535,N175,'Base Maestra'!$B$42:$B$535,O175,'Base Maestra'!$C$42:$C$535,P175)>0,\"Correcto\",\"Revisar Catálogo\")),\"\")","v":""},{"$f":"IF(S175<>\"\", IF(COUNTIFS(\n     'Base Maestra'!$F$43:$F$54,H175,\n     'Base Maestra'!$G$43:$G$54,I175)>0, \"Correcto\", \"Revisar Catálogo\"), \"\")","v":""}]
[null,null,null,null,null,null,null,null,null,null,null,null,null,null,null,null,null,null,null,{"$f":"IF(S176<>\"\",(IF(COUNTIFS('Base Maestra'!$A$42:$A$535,N176,'Base Maestra'!$B$42:$B$535,O176,'Base Maestra'!$C$42:$C$535,P176)>0,\"Correcto\",\"Revisar Catálogo\")),\"\")","v":""},{"$f":"IF(S176<>\"\", IF(COUNTIFS(\n     'Base Maestra'!$F$43:$F$54,H176,\n     'Base Maestra'!$G$43:$G$54,I176)>0, \"Correcto\", \"Revisar Catálogo\"), \"\")","v":""}]
[null,null,null,null,null,null,null,null,null,null,null,null,null,null,null,null,null,null,null,{"$f":"IF(S177<>\"\",(IF(COUNTIFS('Base Maestra'!$A$42:$A$535,N177,'Base Maestra'!$B$42:$B$535,O177,'Base Maestra'!$C$42:$C$535,P177)>0,\"Correcto\",\"Revisar Catálogo\")),\"\")","v":""},{"$f":"IF(S177<>\"\", IF(COUNTIFS(\n     'Base Maestra'!$F$43:$F$54,H177,\n     'Base Maestra'!$G$43:$G$54,I177)>0, \"Correcto\", \"Revisar Catálogo\"), \"\")","v":""}]
[null,null,null,null,null,null,null,null,null,null,null,null,null,null,null,null,null,null,null,{"$f":"IF(S178<>\"\",(IF(COUNTIFS('Base Maestra'!$A$42:$A$535,N178,'Base Maestra'!$B$42:$B$535,O178,'Base Maestra'!$C$42:$C$535,P178)>0,\"Correcto\",\"Revisar Catálogo\")),\"\")","v":""},{"$f":"IF(S178<>\"\", IF(COUNTIFS(\n     'Base Maestra'!$F$43:$F$54,H178,\n     'Base Maestra'!$G$43:$G$54,I178)>0, \"Correcto\", \"Revisar Catálogo\"), \"\")","v":""}]
[null,null,null,null,null,null,null,null,null,null,null,null,null,null,null,null,null,null,null,{"$f":"IF(S179<>\"\",(IF(COUNTIFS('Base Maestra'!$A$42:$A$535,N179,'Base Maestra'!$B$42:$B$535,O179,'Base Maestra'!$C$42:$C$535,P179)>0,\"Correcto\",\"Revisar Catálogo\")),\"\")","v":""},{"$f":"IF(S179<>\"\", IF(COUNTIFS(\n     'Base Maestra'!$F$43:$F$54,H179,\n     'Base Maestra'!$G$43:$G$54,I179)>0, \"Correcto\", \"Revisar Catálogo\"), \"\")","v":""}]
[null,null,null,null,null,null,null,null,null,null,null,null,null,null,null,null,null,null,null,{"$f":"IF(S180<>\"\",(IF(COUNTIFS('Base Maestra'!$A$42:$A$535,N180,'Base Maestra'!$B$42:$B$535,O180,'Base Maestra'!$C$42:$C$535,P180)>0,\"Correcto\",\"Revisar Catálogo\")),\"\")","v":""},{"$f":"IF(S180<>\"\", IF(COUNTIFS(\n     'Base Maestra'!$F$43:$F$54,H180,\n     'Base Maestra'!$G$43:$G$54,I180)>0, \"Correcto\", \"Revisar Catálogo\"), \"\")","v":""}]
[null,null,null,null,null,null,null,null,null,null,null,null,null,null,null,null,null,null,null,{"$f":"IF(S181<>\"\",(IF(COUNTIFS('Base Maestra'!$A$42:$A$535,N181,'Base Maestra'!$B$42:$B$535,O181,'Base Maestra'!$C$42:$C$535,P181)>0,\"Correcto\",\"Revisar Catálogo\")),\"\")","v":""},{"$f":"IF(S181<>\"\", IF(COUNTIFS(\n     'Base Maestra'!$F$43:$F$54,H181,\n     'Base Maestra'!$G$43:$G$54,I181)>0, \"Correcto\", \"Revisar Catálogo\"), \"\")","v":""}]
[null,null,null,null,null,null,null,null,null,null,null,null,null,null,null,null,null,null,null,{"$f":"IF(S182<>\"\",(IF(COUNTIFS('Base Maestra'!$A$42:$A$535,N182,'Base Maestra'!$B$42:$B$535,O182,'Base Maestra'!$C$42:$C$535,P182)>0,\"Correcto\",\"Revisar Catálogo\")),\"\")","v":""},{"$f":"IF(S182<>\"\", IF(COUNTIFS(\n     'Base Maestra'!$F$43:$F$54,H182,\n     'Base Maestra'!$G$43:$G$54,I182)>0, \"Correcto\", \"Revisar Catálogo\"), \"\")","v":""}]
[null,null,null,null,null,null,null,null,null,null,null,null,null,null,null,null,null,null,null,{"$f":"IF(S183<>\"\",(IF(COUNTIFS('Base Maestra'!$A$42:$A$535,N183,'Base Maestra'!$B$42:$B$535,O183,'Base Maestra'!$C$42:$C$535,P183)>0,\"Correcto\",\"Revisar Catálogo\")),\"\")","v":""},{"$f":"IF(S183<>\"\", IF(COUNTIFS(\n     'Base Maestra'!$F$43:$F$54,H183,\n     'Base Maestra'!$G$43:$G$54,I183)>0, \"Correcto\", \"Revisar Catálogo\"), \"\")","v":""}]
[null,null,null,null,null,null,null,null,null,null,null,null,null,null,null,null,null,null,null,{"$f":"IF(S184<>\"\",(IF(COUNTIFS('Base Maestra'!$A$42:$A$535,N184,'Base Maestra'!$B$42:$B$535,O184,'Base Maestra'!$C$42:$C$535,P184)>0,\"Correcto\",\"Revisar Catálogo\")),\"\")","v":""},{"$f":"IF(S184<>\"\", IF(COUNTIFS(\n     'Base Maestra'!$F$43:$F$54,H184,\n     'Base Maestra'!$G$43:$G$54,I184)>0, \"Correcto\", \"Revisar Catálogo\"), \"\")","v":""}]
[null,null,null,null,null,null,null,null,null,null,null,null,null,null,null,null,null,null,null,{"$f":"IF(S185<>\"\",(IF(COUNTIFS('Base Maestra'!$A$42:$A$535,N185,'Base Maestra'!$B$42:$B$535,O185,'Base Maestra'!$C$42:$C$535,P185)>0,\"Correcto\",\"Revisar Catálogo\")),\"\")","v":""},{"$f":"IF(S185<>\"\", IF(COUNTIFS(\n     'Base Maestra'!$F$43:$F$54,H185,\n     'Base Maestra'!$G$43:$G$54,I185)>0, \"Correcto\", \"Revisar Catálogo\"), \"\")","v":""}]
[null,null,null,null,null,null,null,null,null,null,null,null,null,null,null,null,null,null,null,{"$f":"IF(S186<>\"\",(IF(COUNTIFS('Base Maestra'!$A$42:$A$535,N186,'Base Maestra'!$B$42:$B$535,O186,'Base Maestra'!$C$42:$C$535,P186)>0,\"Correcto\",\"Revisar Catálogo\")),\"\")","v":""},{"$f":"IF(S186<>\"\", IF(COUNTIFS(\n     'Base Maestra'!$F$43:$F$54,H186,\n     'Base Maestra'!$G$43:$G$54,I186)>0, \"Correcto\", \"Revisar Catálogo\"), \"\")","v":""}]
[null,null,null,null,null,null,null,null,null,null,null,null,null,null,null,null,null,null,null,{"$f":"IF(S187<>\"\",(IF(COUNTIFS('Base Maestra'!$A$42:$A$535,N187,'Base Maestra'!$B$42:$B$535,O187,'Base Maestra'!$C$42:$C$535,P187)>0,\"Correcto\",\"Revisar Catálogo\")),\"\")","v":""},{"$f":"IF(S187<>\"\", IF(COUNTIFS(\n     'Base Maestra'!$F$43:$F$54,H187,\n     'Base Maestra'!$G$43:$G$54,I187)>0, \"Correcto\", \"Revisar Catálogo\"), \"\")","v":""}]
[null,null,null,null,null,null,null,null,null,null,null,null,null,null,null,null,null,null,null,{"$f":"IF(S188<>\"\",(IF(COUNTIFS('Base Maestra'!$A$42:$A$535,N188,'Base Maestra'!$B$42:$B$535,O188,'Base Maestra'!$C$42:$C$535,P188)>0,\"Correcto\",\"Revisar Catálogo\")),\"\")","v":""},{"$f":"IF(S188<>\"\", IF(COUNTIFS(\n     'Base Maestra'!$F$43:$F$54,H188,\n     'Base Maestra'!$G$43:$G$54,I188)>0, \"Correcto\", \"Revisar Catálogo\"), \"\")","v":""}]
[null,null,null,null,null,null,null,null,null,null,null,null,null,null,null,null,null,null,null,{"$f":"IF(S189<>\"\",(IF(COUNTIFS('Base Maestra'!$A$42:$A$535,N189,'Base Maestra'!$B$42:$B$535,O189,'Base Maestra'!$C$42:$C$535,P189)>0,\"Correcto\",\"Revisar Catálogo\")),\"\")","v":""},{"$f":"IF(S189<>\"\", IF(COUNTIFS(\n     'Base Maestra'!$F$43:$F$54,H189,\n     'Base Maestra'!$G$43:$G$54,I189)>0, \"Correcto\", \"Revisar Catálogo\"), \"\")","v":""}]
[null,null,null,null,null,null,null,null,null,null,null,null,null,null,null,null,null,null,null,{"$f":"IF(S190<>\"\",(IF(COUNTIFS('Base Maestra'!$A$42:$A$535,N190,'Base Maestra'!$B$42:$B$535,O190,'Base Maestra'!$C$42:$C$535,P190)>0,\"Correcto\",\"Revisar Catálogo\")),\"\")","v":""},{"$f":"IF(S190<>\"\", IF(COUNTIFS(\n     'Base Maestra'!$F$43:$F$54,H190,\n     'Base Maestra'!$G$43:$G$54,I190)>0, \"Correcto\", \"Revisar Catálogo\"), \"\")","v":""}]
[null,null,null,null,null,null,null,null,null,null,null,null,null,null,null,null,null,null,null,{"$f":"IF(S191<>\"\",(IF(COUNTIFS('Base Maestra'!$A$42:$A$535,N191,'Base Maestra'!$B$42:$B$535,O191,'Base Maestra'!$C$42:$C$535,P191)>0,\"Correcto\",\"Revisar Catálogo\")),\"\")","v":""},{"$f":"IF(S191<>\"\", IF(COUNTIFS(\n     'Base Maestra'!$F$43:$F$54,H191,\n     'Base Maestra'!$G$43:$G$54,I191)>0, \"Correcto\", \"Revisar Catálogo\"), \"\")","v":""}]
[null,null,null,null,null,null,null,null,null,null,null,null,null,null,null,null,null,null,null,{"$f":"IF(S192<>\"\",(IF(COUNTIFS('Base Maestra'!$A$42:$A$535,N192,'Base Maestra'!$B$42:$B$535,O192,'Base Maestra'!$C$42:$C$535,P192)>0,\"Correcto\",\"Revisar Catálogo\")),\"\")","v":""},{"$f":"IF(S192<>\"\", IF(COUNTIFS(\n     'Base Maestra'!$F$43:$F$54,H192,\n     'Base Maestra'!$G$43:$G$54,I192)>0, \"Correcto\", \"Revisar Catálogo\"), \"\")","v":""}]
[null,null,null,null,null,null,null,null,null,null,null,null,null,null,null,null,null,null,null,{"$f":"IF(S193<>\"\",(IF(COUNTIFS('Base Maestra'!$A$42:$A$535,N193,'Base Maestra'!$B$42:$B$535,O193,'Base Maestra'!$C$42:$C$535,P193)>0,\"Correcto\",\"Revisar Catálogo\")),\"\")","v":""},{"$f":"IF(S193<>\"\", IF(COUNTIFS(\n     'Base Maestra'!$F$43:$F$54,H193,\n     'Base Maestra'!$G$43:$G$54,I193)>0, \"Correcto\", \"Revisar Catálogo\"), \"\")","v":""}]
[null,null,null,null,null,null,null,null,null,null,null,null,null,null,null,null,null,null,null,{"$f":"IF(S194<>\"\",(IF(COUNTIFS('Base Maestra'!$A$42:$A$535,N194,'Base Maestra'!$B$42:$B$535,O194,'Base Maestra'!$C$42:$C$535,P194)>0,\"Correcto\",\"Revisar Catálogo\")),\"\")","v":""},{"$f":"IF(S194<>\"\", IF(COUNTIFS(\n     'Base Maestra'!$F$43:$F$54,H194,\n     'Base Maestra'!$G$43:$G$54,I194)>0, \"Correcto\", \"Revisar Catálogo\"), \"\")","v":""}]
[null,null,null,null,null,null,null,null,null,null,null,null,null,null,null,null,null,null,null,{"$f":"IF(S195<>\"\",(IF(COUNTIFS('Base Maestra'!$A$42:$A$535,N195,'Base Maestra'!$B$42:$B$535,O195,'Base Maestra'!$C$42:$C$535,P195)>0,\"Correcto\",\"Revisar Catálogo\")),\"\")","v":""},{"$f":"IF(S195<>\"\", IF(COUNTIFS(\n     'Base Maestra'!$F$43:$F$54,H195,\n     'Base Maestra'!$G$43:$G$54,I195)>0, \"Correcto\", \"Revisar Catálogo\"), \"\")","v":""}]
[null,null,null,null,null,null,null,null,null,null,null,null,null,null,null,null,null,null,null,{"$f":"IF(S196<>\"\",(IF(COUNTIFS('Base Maestra'!$A$42:$A$535,N196,'Base Maestra'!$B$42:$B$535,O196,'Base Maestra'!$C$42:$C$535,P196)>0,\"Correcto\",\"Revisar Catálogo\")),\"\")","v":""},{"$f":"IF(S196<>\"\", IF(COUNTIFS(\n     'Base Maestra'!$F$43:$F$54,H196,\n     'Base Maestra'!$G$43:$G$54,I196)>0, \"Correcto\", \"Revisar Catálogo\"), \"\")","v":""}]
[null,null,null,null,null,null,null,null,null,null,null,null,null,null,null,null,null,null,null,{"$f":"IF(S197<>\"\",(IF(COUNTIFS('Base Maestra'!$A$42:$A$535,N197,'Base Maestra'!$B$42:$B$535,O197,'Base Maestra'!$C$42:$C$535,P197)>0,\"Correcto\",\"Revisar Catálogo\")),\"\")","v":""},{"$f":"IF(S197<>\"\", IF(COUNTIFS(\n     'Base Maestra'!$F$43:$F$54,H197,\n     'Base Maestra'!$G$43:$G$54,I197)>0, \"Correcto\", \"Revisar Catálogo\"), \"\")","v":""}]
[null,null,null,null,null,null,null,null,null,null,null,null,null,null,null,null,null,null,null,{"$f":"IF(S198<>\"\",(IF(COUNTIFS('Base Maestra'!$A$42:$A$535,N198,'Base Maestra'!$B$42:$B$535,O198,'Base Maestra'!$C$42:$C$535,P198)>0,\"Correcto\",\"Revisar Catálogo\")),\"\")","v":""},{"$f":"IF(S198<>\"\", IF(COUNTIFS(\n     'Base Maestra'!$F$43:$F$54,H198,\n     'Base Maestra'!$G$43:$G$54,I198)>0, \"Correcto\", \"Revisar Catálogo\"), \"\")","v":""}]
[null,null,null,null,null,null,null,null,null,null,null,null,null,null,null,null,null,null,null,{"$f":"IF(S199<>\"\",(IF(COUNTIFS('Base Maestra'!$A$42:$A$535,N199,'Base Maestra'!$B$42:$B$535,O199,'Base Maestra'!$C$42:$C$535,P199)>0,\"Correcto\",\"Revisar Catálogo\")),\"\")","v":""},{"$f":"IF(S199<>\"\", IF(COUNTIFS(\n     'Base Maestra'!$F$43:$F$54,H199,\n     'Base Maestra'!$G$43:$G$54,I199)>0, \"Correcto\", \"Revisar Catálogo\"), \"\")","v":""}]
[null,null,null,null,null,null,null,null,null,null,null,null,null,null,null,null,null,null,null,{"$f":"IF(S200<>\"\",(IF(COUNTIFS('Base Maestra'!$A$42:$A$535,N200,'Base Maestra'!$B$42:$B$535,O200,'Base Maestra'!$C$42:$C$535,P200)>0,\"Correcto\",\"Revisar Catálogo\")),\"\")","v":""},{"$f":"IF(S200<>\"\", IF(COUNTIFS(\n     'Base Maestra'!$F$43:$F$54,H200,\n     'Base Maestra'!$G$43:$G$54,I200)>0, \"Correcto\", \"Revisar Catálogo\"), \"\")","v":""}]
[null,null,null,null,null,null,null,null,null,null,null,null,null,null,null,null,null,null,null,{"$f":"IF(S201<>\"\",(IF(COUNTIFS('Base Maestra'!$A$42:$A$535,N201,'Base Maestra'!$B$42:$B$535,O201,'Base Maestra'!$C$42:$C$535,P201)>0,\"Correcto\",\"Revisar Catálogo\")),\"\")","v":""},{"$f":"IF(S201<>\"\", IF(COUNTIFS(\n     'Base Maestra'!$F$43:$F$54,H201,\n     'Base Maestra'!$G$43:$G$54,I201)>0, \"Correcto\", \"Revisar Catálogo\"), \"\")","v":""}]
[null,null,null,null,null,null,null,null,null,null,null,null,null,null,null,null,null,null,null,{"$f":"IF(S202<>\"\",(IF(COUNTIFS('Base Maestra'!$A$42:$A$535,N202,'Base Maestra'!$B$42:$B$535,O202,'Base Maestra'!$C$42:$C$535,P202)>0,\"Correcto\",\"Revisar Catálogo\")),\"\")","v":""},{"$f":"IF(S202<>\"\", IF(COUNTIFS(\n     'Base Maestra'!$F$43:$F$54,H202,\n     'Base Maestra'!$G$43:$G$54,I202)>0, \"Correcto\", \"Revisar Catálogo\"), \"\")","v":""}]
[null,null,null,null,null,null,null,null,null,null,null,null,null,null,null,null,null,null,null,{"$f":"IF(S203<>\"\",(IF(COUNTIFS('Base Maestra'!$A$42:$A$535,N203,'Base Maestra'!$B$42:$B$535,O203,'Base Maestra'!$C$42:$C$535,P203)>0,\"Correcto\",\"Revisar Catálogo\")),\"\")","v":""},{"$f":"IF(S203<>\"\", IF(COUNTIFS(\n     'Base Maestra'!$F$43:$F$54,H203,\n     'Base Maestra'!$G$43:$G$54,I203)>0, \"Correcto\", \"Revisar Catálogo\"), \"\")","v":""}]
[null,null,null,null,null,null,null,null,null,null,null,null,null,null,null,null,null,null,null,{"$f":"IF(S204<>\"\",(IF(COUNTIFS('Base Maestra'!$A$42:$A$535,N204,'Base Maestra'!$B$42:$B$535,O204,'Base Maestra'!$C$42:$C$535,P204)>0,\"Correcto\",\"Revisar Catálogo\")),\"\")","v":""},{"$f":"IF(S204<>\"\", IF(COUNTIFS(\n     'Base Maestra'!$F$43:$F$54,H204,\n     'Base Maestra'!$G$43:$G$54,I204)>0, \"Correcto\", \"Revisar Catálogo\"), \"\")","v":""}]
[null,null,null,null,null,null,null,null,null,null,null,null,null,null,null,null,null,null,null,{"$f":"IF(S205<>\"\",(IF(COUNTIFS('Base Maestra'!$A$42:$A$535,N205,'Base Maestra'!$B$42:$B$535,O205,'Base Maestra'!$C$42:$C$535,P205)>0,\"Correcto\",\"Revisar Catálogo\")),\"\")","v":""},{"$f":"IF(S205<>\"\", IF(COUNTIFS(\n     'Base Maestra'!$F$43:$F$54,H205,\n     'Base Maestra'!$G$43:$G$54,I205)>0, \"Correcto\", \"Revisar Catálogo\"), \"\")","v":""}]
[null,null,null,null,null,null,null,null,null,null,null,null,null,null,null,null,null,null,null,{"$f":"IF(S206<>\"\",(IF(COUNTIFS('Base Maestra'!$A$42:$A$535,N206,'Base Maestra'!$B$42:$B$535,O206,'Base Maestra'!$C$42:$C$535,P206)>0,\"Correcto\",\"Revisar Catálogo\")),\"\")","v":""},{"$f":"IF(S206<>\"\", IF(COUNTIFS(\n     'Base Maestra'!$F$43:$F$54,H206,\n     'Base Maestra'!$G$43:$G$54,I206)>0, \"Correcto\", \"Revisar Catálogo\"), \"\")","v":""}]
[null,null,null,null,null,null,null,null,null,null,null,null,null,null,null,null,null,null,null,{"$f":"IF(S207<>\"\",(IF(COUNTIFS('Base Maestra'!$A$42:$A$535,N207,'Base Maestra'!$B$42:$B$535,O207,'Base Maestra'!$C$42:$C$535,P207)>0,\"Correcto\",\"Revisar Catálogo\")),\"\")","v":""},{"$f":"IF(S207<>\"\", IF(COUNTIFS(\n     'Base Maestra'!$F$43:$F$54,H207,\n     'Base Maestra'!$G$43:$G$54,I207)>0, \"Correcto\", \"Revisar Catálogo\"), \"\")","v":""}]
[null,null,null,null,null,null,null,null,null,null,null,null,null,null,null,null,null,null,null,{"$f":"IF(S208<>\"\",(IF(COUNTIFS('Base Maestra'!$A$42:$A$535,N208,'Base Maestra'!$B$42:$B$535,O208,'Base Maestra'!$C$42:$C$535,P208)>0,\"Correcto\",\"Revisar Catálogo\")),\"\")","v":""},{"$f":"IF(S208<>\"\", IF(COUNTIFS(\n     'Base Maestra'!$F$43:$F$54,H208,\n     'Base Maestra'!$G$43:$G$54,I208)>0, \"Correcto\", \"Revisar Catálogo\"), \"\")","v":""}]
[null,null,null,null,null,null,null,null,null,null,null,null,null,null,null,null,null,null,null,{"$f":"IF(S209<>\"\",(IF(COUNTIFS('Base Maestra'!$A$42:$A$535,N209,'Base Maestra'!$B$42:$B$535,O209,'Base Maestra'!$C$42:$C$535,P209)>0,\"Correcto\",\"Revisar Catálogo\")),\"\")","v":""},{"$f":"IF(S209<>\"\", IF(COUNTIFS(\n     'Base Maestra'!$F$43:$F$54,H209,\n     'Base Maestra'!$G$43:$G$54,I209)>0, \"Correcto\", \"Revisar Catálogo\"), \"\")","v":""}]
[null,null,null,null,null,null,null,null,null,null,null,null,null,null,null,null,null,null,null,{"$f":"IF(S210<>\"\",(IF(COUNTIFS('Base Maestra'!$A$42:$A$535,N210,'Base Maestra'!$B$42:$B$535,O210,'Base Maestra'!$C$42:$C$535,P210)>0,\"Correcto\",\"Revisar Catálogo\")),\"\")","v":""},{"$f":"IF(S210<>\"\", IF(COUNTIFS(\n     'Base Maestra'!$F$43:$F$54,H210,\n     'Base Maestra'!$G$43:$G$54,I210)>0, \"Correcto\", \"Revisar Catálogo\"), \"\")","v":""}]
[null,null,null,null,null,null,null,null,null,null,null,null,null,null,null,null,null,null,null,{"$f":"IF(S211<>\"\",(IF(COUNTIFS('Base Maestra'!$A$42:$A$535,N211,'Base Maestra'!$B$42:$B$535,O211,'Base Maestra'!$C$42:$C$535,P211)>0,\"Correcto\",\"Revisar Catálogo\")),\"\")","v":""},{"$f":"IF(S211<>\"\", IF(COUNTIFS(\n     'Base Maestra'!$F$43:$F$54,H211,\n     'Base Maestra'!$G$43:$G$54,I211)>0, \"Correcto\", \"Revisar Catálogo\"), \"\")","v":""}]
[null,null,null,null,null,null,null,null,null,null,null,null,null,null,null,null,null,null,null,{"$f":"IF(S212<>\"\",(IF(COUNTIFS('Base Maestra'!$A$42:$A$535,N212,'Base Maestra'!$B$42:$B$535,O212,'Base Maestra'!$C$42:$C$535,P212)>0,\"Correcto\",\"Revisar Catálogo\")),\"\")","v":""},{"$f":"IF(S212<>\"\", IF(COUNTIFS(\n     'Base Maestra'!$F$43:$F$54,H212,\n     'Base Maestra'!$G$43:$G$54,I212)>0, \"Correcto\", \"Revisar Catálogo\"), \"\")","v":""}]
[null,null,null,null,null,null,null,null,null,null,null,null,null,null,null,null,null,null,null,{"$f":"IF(S213<>\"\",(IF(COUNTIFS('Base Maestra'!$A$42:$A$535,N213,'Base Maestra'!$B$42:$B$535,O213,'Base Maestra'!$C$42:$C$535,P213)>0,\"Correcto\",\"Revisar Catálogo\")),\"\")","v":""},{"$f":"IF(S213<>\"\", IF(COUNTIFS(\n     'Base Maestra'!$F$43:$F$54,H213,\n     'Base Maestra'!$G$43:$G$54,I213)>0, \"Correcto\", \"Revisar Catálogo\"), \"\")","v":""}]
[null,null,null,null,null,null,null,null,null,null,null,null,null,null,null,null,null,null,null,{"$f":"IF(S214<>\"\",(IF(COUNTIFS('Base Maestra'!$A$42:$A$535,N214,'Base Maestra'!$B$42:$B$535,O214,'Base Maestra'!$C$42:$C$535,P214)>0,\"Correcto\",\"Revisar Catálogo\")),\"\")","v":""},{"$f":"IF(S214<>\"\", IF(COUNTIFS(\n     'Base Maestra'!$F$43:$F$54,H214,\n     'Base Maestra'!$G$43:$G$54,I214)>0, \"Correcto\", \"Revisar Catálogo\"), \"\")","v":""}]
[null,null,null,null,null,null,null,null,null,null,null,null,null,null,null,null,null,null,null,{"$f":"IF(S215<>\"\",(IF(COUNTIFS('Base Maestra'!$A$42:$A$535,N215,'Base Maestra'!$B$42:$B$535,O215,'Base Maestra'!$C$42:$C$535,P215)>0,\"Correcto\",\"Revisar Catálogo\")),\"\")","v":""},{"$f":"IF(S215<>\"\", IF(COUNTIFS(\n     'Base Maestra'!$F$43:$F$54,H215,\n     'Base Maestra'!$G$43:$G$54,I215)>0, \"Correcto\", \"Revisar Catálogo\"), \"\")","v":""}]
[null,null,null,null,null,null,null,null,null,null,null,null,null,null,null,null,null,null,null,{"$f":"IF(S216<>\"\",(IF(COUNTIFS('Base Maestra'!$A$42:$A$535,N216,'Base Maestra'!$B$42:$B$535,O216,'Base Maestra'!$C$42:$C$535,P216)>0,\"Correcto\",\"Revisar Catálogo\")),\"\")","v":""},{"$f":"IF(S216<>\"\", IF(COUNTIFS(\n     'Base Maestra'!$F$43:$F$54,H216,\n     'Base Maestra'!$G$43:$G$54,I216)>0, \"Correcto\", \"Revisar Catálogo\"), \"\")","v":""}]
[null,null,null,null,null,null,null,null,null,null,null,null,null,null,null,null,null,null,null,{"$f":"IF(S217<>\"\",(IF(COUNTIFS('Base Maestra'!$A$42:$A$535,N217,'Base Maestra'!$B$42:$B$535,O217,'Base Maestra'!$C$42:$C$535,P217)>0,\"Correcto\",\"Revisar Catálogo\")),\"\")","v":""},{"$f":"IF(S217<>\"\", IF(COUNTIFS(\n     'Base Maestra'!$F$43:$F$54,H217,\n     'Base Maestra'!$G$43:$G$54,I217)>0, \"Correcto\", \"Revisar Catálogo\"), \"\")","v":""}]
[null,null,null,null,null,null,null,null,null,null,null,null,null,null,null,null,null,null,null,{"$f":"IF(S218<>\"\",(IF(COUNTIFS('Base Maestra'!$A$42:$A$535,N218,'Base Maestra'!$B$42:$B$535,O218,'Base Maestra'!$C$42:$C$535,P218)>0,\"Correcto\",\"Revisar Catálogo\")),\"\")","v":""},{"$f":"IF(S218<>\"\", IF(COUNTIFS(\n     'Base Maestra'!$F$43:$F$54,H218,\n     'Base Maestra'!$G$43:$G$54,I218)>0, \"Correcto\", \"Revisar Catálogo\"), \"\")","v":""}]
[null,null,null,null,null,null,null,null,null,null,null,null,null,null,null,null,null,null,null,{"$f":"IF(S219<>\"\",(IF(COUNTIFS('Base Maestra'!$A$42:$A$535,N219,'Base Maestra'!$B$42:$B$535,O219,'Base Maestra'!$C$42:$C$535,P219)>0,\"Correcto\",\"Revisar Catálogo\")),\"\")","v":""},{"$f":"IF(S219<>\"\", IF(COUNTIFS(\n     'Base Maestra'!$F$43:$F$54,H219,\n     'Base Maestra'!$G$43:$G$54,I219)>0, \"Correcto\", \"Revisar Catálogo\"), \"\")","v":""}]
[null,null,null,null,null,null,null,null,null,null,null,null,null,null,null,null,null,null,null,{"$f":"IF(S220<>\"\",(IF(COUNTIFS('Base Maestra'!$A$42:$A$535,N220,'Base Maestra'!$B$42:$B$535,O220,'Base Maestra'!$C$42:$C$535,P220)>0,\"Correcto\",\"Revisar Catálogo\")),\"\")","v":""},{"$f":"IF(S220<>\"\", IF(COUNTIFS(\n     'Base Maestra'!$F$43:$F$54,H220,\n     'Base Maestra'!$G$43:$G$54,I220)>0, \"Correcto\", \"Revisar Catálogo\"), \"\")","v":""}]
[null,null,null,null,null,null,null,null,null,null,null,null,null,null,null,null,null,null,null,{"$f":"IF(S221<>\"\",(IF(COUNTIFS('Base Maestra'!$A$42:$A$535,N221,'Base Maestra'!$B$42:$B$535,O221,'Base Maestra'!$C$42:$C$535,P221)>0,\"Correcto\",\"Revisar Catálogo\")),\"\")","v":""},{"$f":"IF(S221<>\"\", IF(COUNTIFS(\n     'Base Maestra'!$F$43:$F$54,H221,\n     'Base Maestra'!$G$43:$G$54,I221)>0, \"Correcto\", \"Revisar Catálogo\"), \"\")","v":""}]
[null,null,null,null,null,null,null,null,null,null,null,null,null,null,null,null,null,null,null,{"$f":"IF(S222<>\"\",(IF(COUNTIFS('Base Maestra'!$A$42:$A$535,N222,'Base Maestra'!$B$42:$B$535,O222,'Base Maestra'!$C$42:$C$535,P222)>0,\"Correcto\",\"Revisar Catálogo\")),\"\")","v":""},{"$f":"IF(S222<>\"\", IF(COUNTIFS(\n     'Base Maestra'!$F$43:$F$54,H222,\n     'Base Maestra'!$G$43:$G$54,I222)>0, \"Correcto\", \"Revisar Catálogo\"), \"\")","v":""}]
[null,null,null,null,null,null,null,null,null,null,null,null,null,null,null,null,null,null,null,{"$f":"IF(S223<>\"\",(IF(COUNTIFS('Base Maestra'!$A$42:$A$535,N223,'Base Maestra'!$B$42:$B$535,O223,'Base Maestra'!$C$42:$C$535,P223)>0,\"Correcto\",\"Revisar Catálogo\")),\"\")","v":""},{"$f":"IF(S223<>\"\", IF(COUNTIFS(\n     'Base Maestra'!$F$43:$F$54,H223,\n     'Base Maestra'!$G$43:$G$54,I223)>0, \"Correcto\", \"Revisar Catálogo\"), \"\")","v":""}]
[null,null,null,null,null,null,null,null,null,null,null,null,null,null,null,null,null,null,null,{"$f":"IF(S224<>\"\",(IF(COUNTIFS('Base Maestra'!$A$42:$A$535,N224,'Base Maestra'!$B$42:$B$535,O224,'Base Maestra'!$C$42:$C$535,P224)>0,\"Correcto\",\"Revisar Catálogo\")),\"\")","v":""},{"$f":"IF(S224<>\"\", IF(COUNTIFS(\n     'Base Maestra'!$F$43:$F$54,H224,\n     'Base Maestra'!$G$43:$G$54,I224)>0, \"Correcto\", \"Revisar Catálogo\"), \"\")","v":""}]
[null,null,null,null,null,null,null,null,null,null,null,null,null,null,null,null,null,null,null,{"$f":"IF(S225<>\"\",(IF(COUNTIFS('Base Maestra'!$A$42:$A$535,N225,'Base Maestra'!$B$42:$B$535,O225,'Base Maestra'!$C$42:$C$535,P225)>0,\"Correcto\",\"Revisar Catálogo\")),\"\")","v":""},{"$f":"IF(S225<>\"\", IF(COUNTIFS(\n     'Base Maestra'!$F$43:$F$54,H225,\n     'Base Maestra'!$G$43:$G$54,I225)>0, \"Correcto\", \"Revisar Catálogo\"), \"\")","v":""}]
[null,null,null,null,null,null,null,null,null,null,null,null,null,null,null,null,null,null,null,{"$f":"IF(S226<>\"\",(IF(COUNTIFS('Base Maestra'!$A$42:$A$535,N226,'Base Maestra'!$B$42:$B$535,O226,'Base Maestra'!$C$42:$C$535,P226)>0,\"Correcto\",\"Revisar Catálogo\")),\"\")","v":""},{"$f":"IF(S226<>\"\", IF(COUNTIFS(\n     'Base Maestra'!$F$43:$F$54,H226,\n     'Base Maestra'!$G$43:$G$54,I226)>0, \"Correcto\", \"Revisar Catálogo\"), \"\")","v":""}]
[null,null,null,null,null,null,null,null,null,null,null,null,null,null,null,null,null,null,null,{"$f":"IF(S227<>\"\",(IF(COUNTIFS('Base Maestra'!$A$42:$A$535,N227,'Base Maestra'!$B$42:$B$535,O227,'Base Maestra'!$C$42:$C$535,P227)>0,\"Correcto\",\"Revisar Catálogo\")),\"\")","v":""},{"$f":"IF(S227<>\"\", IF(COUNTIFS(\n     'Base Maestra'!$F$43:$F$54,H227,\n     'Base Maestra'!$G$43:$G$54,I227)>0, \"Correcto\", \"Revisar Catálogo\"), \"\")","v":""}]
[null,null,null,null,null,null,null,null,null,null,null,null,null,null,null,null,null,null,null,{"$f":"IF(S228<>\"\",(IF(COUNTIFS('Base Maestra'!$A$42:$A$535,N228,'Base Maestra'!$B$42:$B$535,O228,'Base Maestra'!$C$42:$C$535,P228)>0,\"Correcto\",\"Revisar Catálogo\")),\"\")","v":""},{"$f":"IF(S228<>\"\", IF(COUNTIFS(\n     'Base Maestra'!$F$43:$F$54,H228,\n     'Base Maestra'!$G$43:$G$54,I228)>0, \"Correcto\", \"Revisar Catálogo\"), \"\")","v":""}]
[null,null,null,null,null,null,null,null,null,null,null,null,null,null,null,null,null,null,null,{"$f":"IF(S229<>\"\",(IF(COUNTIFS('Base Maestra'!$A$42:$A$535,N229,'Base Maestra'!$B$42:$B$535,O229,'Base Maestra'!$C$42:$C$535,P229)>0,\"Correcto\",\"Revisar Catálogo\")),\"\")","v":""},{"$f":"IF(S229<>\"\", IF(COUNTIFS(\n     'Base Maestra'!$F$43:$F$54,H229,\n     'Base Maestra'!$G$43:$G$54,I229)>0, \"Correcto\", \"Revisar Catálogo\"), \"\")","v":""}]
[null,null,null,null,null,null,null,null,null,null,null,null,null,null,null,null,null,null,null,{"$f":"IF(S230<>\"\",(IF(COUNTIFS('Base Maestra'!$A$42:$A$535,N230,'Base Maestra'!$B$42:$B$535,O230,'Base Maestra'!$C$42:$C$535,P230)>0,\"Correcto\",\"Revisar Catálogo\")),\"\")","v":""},{"$f":"IF(S230<>\"\", IF(COUNTIFS(\n     'Base Maestra'!$F$43:$F$54,H230,\n     'Base Maestra'!$G$43:$G$54,I230)>0, \"Correcto\", \"Revisar Catálogo\"), \"\")","v":""}]
[null,null,null,null,null,null,null,null,null,null,null,null,null,null,null,null,null,null,null,{"$f":"IF(S231<>\"\",(IF(COUNTIFS('Base Maestra'!$A$42:$A$535,N231,'Base Maestra'!$B$42:$B$535,O231,'Base Maestra'!$C$42:$C$535,P231)>0,\"Correcto\",\"Revisar Catálogo\")),\"\")","v":""},{"$f":"IF(S231<>\"\", IF(COUNTIFS(\n     'Base Maestra'!$F$43:$F$54,H231,\n     'Base Maestra'!$G$43:$G$54,I231)>0, \"Correcto\", \"Revisar Catálogo\"), \"\")","v":""}]
[null,null,null,null,null,null,null,null,null,null,null,null,null,null,null,null,null,null,null,{"$f":"IF(S232<>\"\",(IF(COUNTIFS('Base Maestra'!$A$42:$A$535,N232,'Base Maestra'!$B$42:$B$535,O232,'Base Maestra'!$C$42:$C$535,P232)>0,\"Correcto\",\"Revisar Catálogo\")),\"\")","v":""},{"$f":"IF(S232<>\"\", IF(COUNTIFS(\n     'Base Maestra'!$F$43:$F$54,H232,\n     'Base Maestra'!$G$43:$G$54,I232)>0, \"Correcto\", \"Revisar Catálogo\"), \"\")","v":""}]
[null,null,null,null,null,null,null,null,null,null,null,null,null,null,null,null,null,null,null,{"$f":"IF(S233<>\"\",(IF(COUNTIFS('Base Maestra'!$A$42:$A$535,N233,'Base Maestra'!$B$42:$B$535,O233,'Base Maestra'!$C$42:$C$535,P233)>0,\"Correcto\",\"Revisar Catálogo\")),\"\")","v":""},{"$f":"IF(S233<>\"\", IF(COUNTIFS(\n     'Base Maestra'!$F$43:$F$54,H233,\n     'Base Maestra'!$G$43:$G$54,I233)>0, \"Correcto\", \"Revisar Catálogo\"), \"\")","v":""}]
[null,null,null,null,null,null,null,null,null,null,null,null,null,null,null,null,null,null,null,{"$f":"IF(S234<>\"\",(IF(COUNTIFS('Base Maestra'!$A$42:$A$535,N234,'Base Maestra'!$B$42:$B$535,O234,'Base Maestra'!$C$42:$C$535,P234)>0,\"Correcto\",\"Revisar Catálogo\")),\"\")","v":""},{"$f":"IF(S234<>\"\", IF(COUNTIFS(\n     'Base Maestra'!$F$43:$F$54,H234,\n     'Base Maestra'!$G$43:$G$54,I234)>0, \"Correcto\", \"Revisar Catálogo\"), \"\")","v":""}]
[null,null,null,null,null,null,null,null,null,null,null,null,null,null,null,null,null,null,null,{"$f":"IF(S235<>\"\",(IF(COUNTIFS('Base Maestra'!$A$42:$A$535,N235,'Base Maestra'!$B$42:$B$535,O235,'Base Maestra'!$C$42:$C$535,P235)>0,\"Correcto\",\"Revisar Catálogo\")),\"\")","v":""},{"$f":"IF(S235<>\"\", IF(COUNTIFS(\n     'Base Maestra'!$F$43:$F$54,H235,\n     'Base Maestra'!$G$43:$G$54,I235)>0, \"Correcto\", \"Revisar Catálogo\"), \"\")","v":""}]
[null,null,null,null,null,null,null,null,null,null,null,null,null,null,null,null,null,null,null,{"$f":"IF(S236<>\"\",(IF(COUNTIFS('Base Maestra'!$A$42:$A$535,N236,'Base Maestra'!$B$42:$B$535,O236,'Base Maestra'!$C$42:$C$535,P236)>0,\"Correcto\",\"Revisar Catálogo\")),\"\")","v":""},{"$f":"IF(S236<>\"\", IF(COUNTIFS(\n     'Base Maestra'!$F$43:$F$54,H236,\n     'Base Maestra'!$G$43:$G$54,I236)>0, \"Correcto\", \"Revisar Catálogo\"), \"\")","v":""}]
[null,null,null,null,null,null,null,null,null,null,null,null,null,null,null,null,null,null,null,{"$f":"IF(S237<>\"\",(IF(COUNTIFS('Base Maestra'!$A$42:$A$535,N237,'Base Maestra'!$B$42:$B$535,O237,'Base Maestra'!$C$42:$C$535,P237)>0,\"Correcto\",\"Revisar Catálogo\")),\"\")","v":""},{"$f":"IF(S237<>\"\", IF(COUNTIFS(\n     'Base Maestra'!$F$43:$F$54,H237,\n     'Base Maestra'!$G$43:$G$54,I237)>0, \"Correcto\", \"Revisar Catálogo\"), \"\")","v":""}]
[null,null,null,null,null,null,null,null,null,null,null,null,null,null,null,null,null,null,null,{"$f":"IF(S238<>\"\",(IF(COUNTIFS('Base Maestra'!$A$42:$A$535,N238,'Base Maestra'!$B$42:$B$535,O238,'Base Maestra'!$C$42:$C$535,P238)>0,\"Correcto\",\"Revisar Catálogo\")),\"\")","v":""},{"$f":"IF(S238<>\"\", IF(COUNTIFS(\n     'Base Maestra'!$F$43:$F$54,H238,\n     'Base Maestra'!$G$43:$G$54,I238)>0, \"Correcto\", \"Revisar Catálogo\"), \"\")","v":""}]
[null,null,null,null,null,null,null,null,null,null,null,null,null,null,null,null,null,null,null,{"$f":"IF(S239<>\"\",(IF(COUNTIFS('Base Maestra'!$A$42:$A$535,N239,'Base Maestra'!$B$42:$B$535,O239,'Base Maestra'!$C$42:$C$535,P239)>0,\"Correcto\",\"Revisar Catálogo\")),\"\")","v":""},{"$f":"IF(S239<>\"\", IF(COUNTIFS(\n     'Base Maestra'!$F$43:$F$54,H239,\n     'Base Maestra'!$G$43:$G$54,I239)>0, \"Correcto\", \"Revisar Catálogo\"), \"\")","v":""}]
[null,null,null,null,null,null,null,null,null,null,null,null,null,null,null,null,null,null,null,{"$f":"IF(S240<>\"\",(IF(COUNTIFS('Base Maestra'!$A$42:$A$535,N240,'Base Maestra'!$B$42:$B$535,O240,'Base Maestra'!$C$42:$C$535,P240)>0,\"Correcto\",\"Revisar Catálogo\")),\"\")","v":""},{"$f":"IF(S240<>\"\", IF(COUNTIFS(\n     'Base Maestra'!$F$43:$F$54,H240,\n     'Base Maestra'!$G$43:$G$54,I240)>0, \"Correcto\", \"Revisar Catálogo\"), \"\")","v":""}]
[null,null,null,null,null,null,null,null,null,null,null,null,null,null,null,null,null,null,null,{"$f":"IF(S241<>\"\",(IF(COUNTIFS('Base Maestra'!$A$42:$A$535,N241,'Base Maestra'!$B$42:$B$535,O241,'Base Maestra'!$C$42:$C$535,P241)>0,\"Correcto\",\"Revisar Catálogo\")),\"\")","v":""},{"$f":"IF(S241<>\"\", IF(COUNTIFS(\n     'Base Maestra'!$F$43:$F$54,H241,\n     'Base Maestra'!$G$43:$G$54,I241)>0, \"Correcto\", \"Revisar Catálogo\"), \"\")","v":""}]
[null,null,null,null,null,null,null,null,null,null,null,null,null,null,null,null,null,null,null,{"$f":"IF(S242<>\"\",(IF(COUNTIFS('Base Maestra'!$A$42:$A$535,N242,'Base Maestra'!$B$42:$B$535,O242,'Base Maestra'!$C$42:$C$535,P242)>0,\"Correcto\",\"Revisar Catálogo\")),\"\")","v":""},{"$f":"IF(S242<>\"\", IF(COUNTIFS(\n     'Base Maestra'!$F$43:$F$54,H242,\n     'Base Maestra'!$G$43:$G$54,I242)>0, \"Correcto\", \"Revisar Catálogo\"), \"\")","v":""}]
[null,null,null,null,null,null,null,null,null,null,null,null,null,null,null,null,null,null,null,{"$f":"IF(S243<>\"\",(IF(COUNTIFS('Base Maestra'!$A$42:$A$535,N243,'Base Maestra'!$B$42:$B$535,O243,'Base Maestra'!$C$42:$C$535,P243)>0,\"Correcto\",\"Revisar Catálogo\")),\"\")","v":""},{"$f":"IF(S243<>\"\", IF(COUNTIFS(\n     'Base Maestra'!$F$43:$F$54,H243,\n     'Base Maestra'!$G$43:$G$54,I243)>0, \"Correcto\", \"Revisar Catálogo\"), \"\")","v":""}]
[null,null,null,null,null,null,null,null,null,null,null,null,null,null,null,null,null,null,null,{"$f":"IF(S244<>\"\",(IF(COUNTIFS('Base Maestra'!$A$42:$A$535,N244,'Base Maestra'!$B$42:$B$535,O244,'Base Maestra'!$C$42:$C$535,P244)>0,\"Correcto\",\"Revisar Catálogo\")),\"\")","v":""},{"$f":"IF(S244<>\"\", IF(COUNTIFS(\n     'Base Maestra'!$F$43:$F$54,H244,\n     'Base Maestra'!$G$43:$G$54,I244)>0, \"Correcto\", \"Revisar Catálogo\"), \"\")","v":""}]
[null,null,null,null,null,null,null,null,null,null,null,null,null,null,null,null,null,null,null,{"$f":"IF(S245<>\"\",(IF(COUNTIFS('Base Maestra'!$A$42:$A$535,N245,'Base Maestra'!$B$42:$B$535,O245,'Base Maestra'!$C$42:$C$535,P245)>0,\"Correcto\",\"Revisar Catálogo\")),\"\")","v":""},{"$f":"IF(S245<>\"\", IF(COUNTIFS(\n     'Base Maestra'!$F$43:$F$54,H245,\n     'Base Maestra'!$G$43:$G$54,I245)>0, \"Correcto\", \"Revisar Catálogo\"), \"\")","v":""}]
[null,null,null,null,null,null,null,null,null,null,null,null,null,null,null,null,null,null,null,{"$f":"IF(S246<>\"\",(IF(COUNTIFS('Base Maestra'!$A$42:$A$535,N246,'Base Maestra'!$B$42:$B$535,O246,'Base Maestra'!$C$42:$C$535,P246)>0,\"Correcto\",\"Revisar Catálogo\")),\"\")","v":""},{"$f":"IF(S246<>\"\", IF(COUNTIFS(\n     'Base Maestra'!$F$43:$F$54,H246,\n     'Base Maestra'!$G$43:$G$54,I246)>0, \"Correcto\", \"Revisar Catálogo\"), \"\")","v":""}]
[null,null,null,null,null,null,null,null,null,null,null,null,null,null,null,null,null,null,null,{"$f":"IF(S247<>\"\",(IF(COUNTIFS('Base Maestra'!$A$42:$A$535,N247,'Base Maestra'!$B$42:$B$535,O247,'Base Maestra'!$C$42:$C$535,P247)>0,\"Correcto\",\"Revisar Catálogo\")),\"\")","v":""},{"$f":"IF(S247<>\"\", IF(COUNTIFS(\n     'Base Maestra'!$F$43:$F$54,H247,\n     'Base Maestra'!$G$43:$G$54,I247)>0, \"Correcto\", \"Revisar Catálogo\"), \"\")","v":""}]
[null,null,null,null,null,null,null,null,null,null,null,null,null,null,null,null,null,null,null,{"$f":"IF(S248<>\"\",(IF(COUNTIFS('Base Maestra'!$A$42:$A$535,N248,'Base Maestra'!$B$42:$B$535,O248,'Base Maestra'!$C$42:$C$535,P248)>0,\"Correcto\",\"Revisar Catálogo\")),\"\")","v":""},{"$f":"IF(S248<>\"\", IF(COUNTIFS(\n     'Base Maestra'!$F$43:$F$54,H248,\n     'Base Maestra'!$G$43:$G$54,I248)>0, \"Correcto\", \"Revisar Catálogo\"), \"\")","v":""}]
[null,null,null,null,null,null,null,null,null,null,null,null,null,null,null,null,null,null,null,{"$f":"IF(S249<>\"\",(IF(COUNTIFS('Base Maestra'!$A$42:$A$535,N249,'Base Maestra'!$B$42:$B$535,O249,'Base Maestra'!$C$42:$C$535,P249)>0,\"Correcto\",\"Revisar Catálogo\")),\"\")","v":""},{"$f":"IF(S249<>\"\", IF(COUNTIFS(\n     'Base Maestra'!$F$43:$F$54,H249,\n     'Base Maestra'!$G$43:$G$54,I249)>0, \"Correcto\", \"Revisar Catálogo\"), \"\")","v":""}]
[null,null,null,null,null,null,null,null,null,null,null,null,null,null,null,null,null,null,null,{"$f":"IF(S250<>\"\",(IF(COUNTIFS('Base Maestra'!$A$42:$A$535,N250,'Base Maestra'!$B$42:$B$535,O250,'Base Maestra'!$C$42:$C$535,P250)>0,\"Correcto\",\"Revisar Catálogo\")),\"\")","v":""},{"$f":"IF(S250<>\"\", IF(COUNTIFS(\n     'Base Maestra'!$F$43:$F$54,H250,\n     'Base Maestra'!$G$43:$G$54,I250)>0, \"Correcto\", \"Revisar Catálogo\"), \"\")","v":""}]
[null,null,null,null,null,null,null,null,null,null,null,null,null,null,null,null,null,null,null,{"$f":"IF(S251<>\"\",(IF(COUNTIFS('Base Maestra'!$A$42:$A$535,N251,'Base Maestra'!$B$42:$B$535,O251,'Base Maestra'!$C$42:$C$535,P251)>0,\"Correcto\",\"Revisar Catálogo\")),\"\")","v":""},{"$f":"IF(S251<>\"\", IF(COUNTIFS(\n     'Base Maestra'!$F$43:$F$54,H251,\n     'Base Maestra'!$G$43:$G$54,I251)>0, \"Correcto\", \"Revisar Catálogo\"), \"\")","v":""}]
[null,null,null,null,null,null,null,null,null,null,null,null,null,null,null,null,null,null,null,{"$f":"IF(S252<>\"\",(IF(COUNTIFS('Base Maestra'!$A$42:$A$535,N252,'Base Maestra'!$B$42:$B$535,O252,'Base Maestra'!$C$42:$C$535,P252)>0,\"Correcto\",\"Revisar Catálogo\")),\"\")","v":""},{"$f":"IF(S252<>\"\", IF(COUNTIFS(\n     'Base Maestra'!$F$43:$F$54,H252,\n     'Base Maestra'!$G$43:$G$54,I252)>0, \"Correcto\", \"Revisar Catálogo\"), \"\")","v":""}]
[null,null,null,null,null,null,null,null,null,null,null,null,null,null,null,null,null,null,null,{"$f":"IF(S253<>\"\",(IF(COUNTIFS('Base Maestra'!$A$42:$A$535,N253,'Base Maestra'!$B$42:$B$535,O253,'Base Maestra'!$C$42:$C$535,P253)>0,\"Correcto\",\"Revisar Catálogo\")),\"\")","v":""},{"$f":"IF(S253<>\"\", IF(COUNTIFS(\n     'Base Maestra'!$F$43:$F$54,H253,\n     'Base Maestra'!$G$43:$G$54,I253)>0, \"Correcto\", \"Revisar Catálogo\"), \"\")","v":""}]
[null,null,null,null,null,null,null,null,null,null,null,null,null,null,null,null,null,null,null,{"$f":"IF(S254<>\"\",(IF(COUNTIFS('Base Maestra'!$A$42:$A$535,N254,'Base Maestra'!$B$42:$B$535,O254,'Base Maestra'!$C$42:$C$535,P254)>0,\"Correcto\",\"Revisar Catálogo\")),\"\")","v":""},{"$f":"IF(S254<>\"\", IF(COUNTIFS(\n     'Base Maestra'!$F$43:$F$54,H254,\n     'Base Maestra'!$G$43:$G$54,I254)>0, \"Correcto\", \"Revisar Catálogo\"), \"\")","v":""}]
[null,null,null,null,null,null,null,null,null,null,null,null,null,null,null,null,null,null,null,{"$f":"IF(S255<>\"\",(IF(COUNTIFS('Base Maestra'!$A$42:$A$535,N255,'Base Maestra'!$B$42:$B$535,O255,'Base Maestra'!$C$42:$C$535,P255)>0,\"Correcto\",\"Revisar Catálogo\")),\"\")","v":""},{"$f":"IF(S255<>\"\", IF(COUNTIFS(\n     'Base Maestra'!$F$43:$F$54,H255,\n     'Base Maestra'!$G$43:$G$54,I255)>0, \"Correcto\", \"Revisar Catálogo\"), \"\")","v":""}]
[null,null,null,null,null,null,null,null,null,null,null,null,null,null,null,null,null,null,null,{"$f":"IF(S256<>\"\",(IF(COUNTIFS('Base Maestra'!$A$42:$A$535,N256,'Base Maestra'!$B$42:$B$535,O256,'Base Maestra'!$C$42:$C$535,P256)>0,\"Correcto\",\"Revisar Catálogo\")),\"\")","v":""},{"$f":"IF(S256<>\"\", IF(COUNTIFS(\n     'Base Maestra'!$F$43:$F$54,H256,\n     'Base Maestra'!$G$43:$G$54,I256)>0, \"Correcto\", \"Revisar Catálogo\"), \"\")","v":""}]
[null,null,null,null,null,null,null,null,null,null,null,null,null,null,null,null,null,null,null,{"$f":"IF(S257<>\"\",(IF(COUNTIFS('Base Maestra'!$A$42:$A$535,N257,'Base Maestra'!$B$42:$B$535,O257,'Base Maestra'!$C$42:$C$535,P257)>0,\"Correcto\",\"Revisar Catálogo\")),\"\")","v":""},{"$f":"IF(S257<>\"\", IF(COUNTIFS(\n     'Base Maestra'!$F$43:$F$54,H257,\n     'Base Maestra'!$G$43:$G$54,I257)>0, \"Correcto\", \"Revisar Catálogo\"), \"\")","v":""}]
[null,null,null,null,null,null,null,null,null,null,null,null,null,null,null,null,null,null,null,{"$f":"IF(S258<>\"\",(IF(COUNTIFS('Base Maestra'!$A$42:$A$535,N258,'Base Maestra'!$B$42:$B$535,O258,'Base Maestra'!$C$42:$C$535,P258)>0,\"Correcto\",\"Revisar Catálogo\")),\"\")","v":""},{"$f":"IF(S258<>\"\", IF(COUNTIFS(\n     'Base Maestra'!$F$43:$F$54,H258,\n     'Base Maestra'!$G$43:$G$54,I258)>0, \"Correcto\", \"Revisar Catálogo\"), \"\")","v":""}]
[null,null,null,null,null,null,null,null,null,null,null,null,null,null,null,null,null,null,null,{"$f":"IF(S259<>\"\",(IF(COUNTIFS('Base Maestra'!$A$42:$A$535,N259,'Base Maestra'!$B$42:$B$535,O259,'Base Maestra'!$C$42:$C$535,P259)>0,\"Correcto\",\"Revisar Catálogo\")),\"\")","v":""},{"$f":"IF(S259<>\"\", IF(COUNTIFS(\n     'Base Maestra'!$F$43:$F$54,H259,\n     'Base Maestra'!$G$43:$G$54,I259)>0, \"Correcto\", \"Revisar Catálogo\"), \"\")","v":""}]
[null,null,null,null,null,null,null,null,null,null,null,null,null,null,null,null,null,null,null,{"$f":"IF(S260<>\"\",(IF(COUNTIFS('Base Maestra'!$A$42:$A$535,N260,'Base Maestra'!$B$42:$B$535,O260,'Base Maestra'!$C$42:$C$535,P260)>0,\"Correcto\",\"Revisar Catálogo\")),\"\")","v":""},{"$f":"IF(S260<>\"\", IF(COUNTIFS(\n     'Base Maestra'!$F$43:$F$54,H260,\n     'Base Maestra'!$G$43:$G$54,I260)>0, \"Correcto\", \"Revisar Catálogo\"), \"\")","v":""}]
[null,null,null,null,null,null,null,null,null,null,null,null,null,null,null,null,null,null,null,{"$f":"IF(S261<>\"\",(IF(COUNTIFS('Base Maestra'!$A$42:$A$535,N261,'Base Maestra'!$B$42:$B$535,O261,'Base Maestra'!$C$42:$C$535,P261)>0,\"Correcto\",\"Revisar Catálogo\")),\"\")","v":""},{"$f":"IF(S261<>\"\", IF(COUNTIFS(\n     'Base Maestra'!$F$43:$F$54,H261,\n     'Base Maestra'!$G$43:$G$54,I261)>0, \"Correcto\", \"Revisar Catálogo\"), \"\")","v":""}]
[null,null,null,null,null,null,null,null,null,null,null,null,null,null,null,null,null,null,null,{"$f":"IF(S262<>\"\",(IF(COUNTIFS('Base Maestra'!$A$42:$A$535,N262,'Base Maestra'!$B$42:$B$535,O262,'Base Maestra'!$C$42:$C$535,P262)>0,\"Correcto\",\"Revisar Catálogo\")),\"\")","v":""},{"$f":"IF(S262<>\"\", IF(COUNTIFS(\n     'Base Maestra'!$F$43:$F$54,H262,\n     'Base Maestra'!$G$43:$G$54,I262)>0, \"Correcto\", \"Revisar Catálogo\"), \"\")","v":""}]
[null,null,null,null,null,null,null,null,null,null,null,null,null,null,null,null,null,null,null,{"$f":"IF(S263<>\"\",(IF(COUNTIFS('Base Maestra'!$A$42:$A$535,N263,'Base Maestra'!$B$42:$B$535,O263,'Base Maestra'!$C$42:$C$535,P263)>0,\"Correcto\",\"Revisar Catálogo\")),\"\")","v":""},{"$f":"IF(S263<>\"\", IF(COUNTIFS(\n     'Base Maestra'!$F$43:$F$54,H263,\n     'Base Maestra'!$G$43:$G$54,I263)>0, \"Correcto\", \"Revisar Catálogo\"), \"\")","v":""}]
[null,null,null,null,null,null,null,null,null,null,null,null,null,null,null,null,null,null,null,{"$f":"IF(S264<>\"\",(IF(COUNTIFS('Base Maestra'!$A$42:$A$535,N264,'Base Maestra'!$B$42:$B$535,O264,'Base Maestra'!$C$42:$C$535,P264)>0,\"Correcto\",\"Revisar Catálogo\")),\"\")","v":""},{"$f":"IF(S264<>\"\", IF(COUNTIFS(\n     'Base Maestra'!$F$43:$F$54,H264,\n     'Base Maestra'!$G$43:$G$54,I264)>0, \"Correcto\", \"Revisar Catálogo\"), \"\")","v":""}]
[null,null,null,null,null,null,null,null,null,null,null,null,null,null,null,null,null,null,null,{"$f":"IF(S265<>\"\",(IF(COUNTIFS('Base Maestra'!$A$42:$A$535,N265,'Base Maestra'!$B$42:$B$535,O265,'Base Maestra'!$C$42:$C$535,P265)>0,\"Correcto\",\"Revisar Catálogo\")),\"\")","v":""},{"$f":"IF(S265<>\"\", IF(COUNTIFS(\n     'Base Maestra'!$F$43:$F$54,H265,\n     'Base Maestra'!$G$43:$G$54,I265)>0, \"Correcto\", \"Revisar Catálogo\"), \"\")","v":""}]
[null,null,null,null,null,null,null,null,null,null,null,null,null,null,null,null,null,null,null,{"$f":"IF(S266<>\"\",(IF(COUNTIFS('Base Maestra'!$A$42:$A$535,N266,'Base Maestra'!$B$42:$B$535,O266,'Base Maestra'!$C$42:$C$535,P266)>0,\"Correcto\",\"Revisar Catálogo\")),\"\")","v":""},{"$f":"IF(S266<>\"\", IF(COUNTIFS(\n     'Base Maestra'!$F$43:$F$54,H266,\n     'Base Maestra'!$G$43:$G$54,I266)>0, \"Correcto\", \"Revisar Catálogo\"), \"\")","v":""}]
[null,null,null,null,null,null,null,null,null,null,null,null,null,null,null,null,null,null,null,{"$f":"IF(S267<>\"\",(IF(COUNTIFS('Base Maestra'!$A$42:$A$535,N267,'Base Maestra'!$B$42:$B$535,O267,'Base Maestra'!$C$42:$C$535,P267)>0,\"Correcto\",\"Revisar Catálogo\")),\"\")","v":""},{"$f":"IF(S267<>\"\", IF(COUNTIFS(\n     'Base Maestra'!$F$43:$F$54,H267,\n     'Base Maestra'!$G$43:$G$54,I267)>0, \"Correcto\", \"Revisar Catálogo\"), \"\")","v":""}]
[null,null,null,null,null,null,null,null,null,null,null,null,null,null,null,null,null,null,null,{"$f":"IF(S268<>\"\",(IF(COUNTIFS('Base Maestra'!$A$42:$A$535,N268,'Base Maestra'!$B$42:$B$535,O268,'Base Maestra'!$C$42:$C$535,P268)>0,\"Correcto\",\"Revisar Catálogo\")),\"\")","v":""},{"$f":"IF(S268<>\"\", IF(COUNTIFS(\n     'Base Maestra'!$F$43:$F$54,H268,\n     'Base Maestra'!$G$43:$G$54,I268)>0, \"Correcto\", \"Revisar Catálogo\"), \"\")","v":""}]
[null,null,null,null,null,null,null,null,null,null,null,null,null,null,null,null,null,null,null,{"$f":"IF(S269<>\"\",(IF(COUNTIFS('Base Maestra'!$A$42:$A$535,N269,'Base Maestra'!$B$42:$B$535,O269,'Base Maestra'!$C$42:$C$535,P269)>0,\"Correcto\",\"Revisar Catálogo\")),\"\")","v":""},{"$f":"IF(S269<>\"\", IF(COUNTIFS(\n     'Base Maestra'!$F$43:$F$54,H269,\n     'Base Maestra'!$G$43:$G$54,I269)>0, \"Correcto\", \"Revisar Catálogo\"), \"\")","v":""}]
[null,null,null,null,null,null,null,null,null,null,null,null,null,null,null,null,null,null,null,{"$f":"IF(S270<>\"\",(IF(COUNTIFS('Base Maestra'!$A$42:$A$535,N270,'Base Maestra'!$B$42:$B$535,O270,'Base Maestra'!$C$42:$C$535,P270)>0,\"Correcto\",\"Revisar Catálogo\")),\"\")","v":""},{"$f":"IF(S270<>\"\", IF(COUNTIFS(\n     'Base Maestra'!$F$43:$F$54,H270,\n     'Base Maestra'!$G$43:$G$54,I270)>0, \"Correcto\", \"Revisar Catálogo\"), \"\")","v":""}]
[null,null,null,null,null,null,null,null,null,null,null,null,null,null,null,null,null,null,null,{"$f":"IF(S271<>\"\",(IF(COUNTIFS('Base Maestra'!$A$42:$A$535,N271,'Base Maestra'!$B$42:$B$535,O271,'Base Maestra'!$C$42:$C$535,P271)>0,\"Correcto\",\"Revisar Catálogo\")),\"\")","v":""},{"$f":"IF(S271<>\"\", IF(COUNTIFS(\n     'Base Maestra'!$F$43:$F$54,H271,\n     'Base Maestra'!$G$43:$G$54,I271)>0, \"Correcto\", \"Revisar Catálogo\"), \"\")","v":""}]
[null,null,null,null,null,null,null,null,null,null,null,null,null,null,null,null,null,null,null,{"$f":"IF(S272<>\"\",(IF(COUNTIFS('Base Maestra'!$A$42:$A$535,N272,'Base Maestra'!$B$42:$B$535,O272,'Base Maestra'!$C$42:$C$535,P272)>0,\"Correcto\",\"Revisar Catálogo\")),\"\")","v":""},{"$f":"IF(S272<>\"\", IF(COUNTIFS(\n     'Base Maestra'!$F$43:$F$54,H272,\n     'Base Maestra'!$G$43:$G$54,I272)>0, \"Correcto\", \"Revisar Catálogo\"), \"\")","v":""}]
[null,null,null,null,null,null,null,null,null,null,null,null,null,null,null,null,null,null,null,{"$f":"IF(S273<>\"\",(IF(COUNTIFS('Base Maestra'!$A$42:$A$535,N273,'Base Maestra'!$B$42:$B$535,O273,'Base Maestra'!$C$42:$C$535,P273)>0,\"Correcto\",\"Revisar Catálogo\")),\"\")","v":""},{"$f":"IF(S273<>\"\", IF(COUNTIFS(\n     'Base Maestra'!$F$43:$F$54,H273,\n     'Base Maestra'!$G$43:$G$54,I273)>0, \"Correcto\", \"Revisar Catálogo\"), \"\")","v":""}]
[null,null,null,null,null,null,null,null,null,null,null,null,null,null,null,null,null,null,null,{"$f":"IF(S274<>\"\",(IF(COUNTIFS('Base Maestra'!$A$42:$A$535,N274,'Base Maestra'!$B$42:$B$535,O274,'Base Maestra'!$C$42:$C$535,P274)>0,\"Correcto\",\"Revisar Catálogo\")),\"\")","v":""},{"$f":"IF(S274<>\"\", IF(COUNTIFS(\n     'Base Maestra'!$F$43:$F$54,H274,\n     'Base Maestra'!$G$43:$G$54,I274)>0, \"Correcto\", \"Revisar Catálogo\"), \"\")","v":""}]
[null,null,null,null,null,null,null,null,null,null,null,null,null,null,null,null,null,null,null,{"$f":"IF(S275<>\"\",(IF(COUNTIFS('Base Maestra'!$A$42:$A$535,N275,'Base Maestra'!$B$42:$B$535,O275,'Base Maestra'!$C$42:$C$535,P275)>0,\"Correcto\",\"Revisar Catálogo\")),\"\")","v":""},{"$f":"IF(S275<>\"\", IF(COUNTIFS(\n     'Base Maestra'!$F$43:$F$54,H275,\n     'Base Maestra'!$G$43:$G$54,I275)>0, \"Correcto\", \"Revisar Catálogo\"), \"\")","v":""}]
[null,null,null,null,null,null,null,null,null,null,null,null,null,null,null,null,null,null,null,{"$f":"IF(S276<>\"\",(IF(COUNTIFS('Base Maestra'!$A$42:$A$535,N276,'Base Maestra'!$B$42:$B$535,O276,'Base Maestra'!$C$42:$C$535,P276)>0,\"Correcto\",\"Revisar Catálogo\")),\"\")","v":""},{"$f":"IF(S276<>\"\", IF(COUNTIFS(\n     'Base Maestra'!$F$43:$F$54,H276,\n     'Base Maestra'!$G$43:$G$54,I276)>0, \"Correcto\", \"Revisar Catálogo\"), \"\")","v":""}]
[null,null,null,null,null,null,null,null,null,null,null,null,null,null,null,null,null,null,null,{"$f":"IF(S277<>\"\",(IF(COUNTIFS('Base Maestra'!$A$42:$A$535,N277,'Base Maestra'!$B$42:$B$535,O277,'Base Maestra'!$C$42:$C$535,P277)>0,\"Correcto\",\"Revisar Catálogo\")),\"\")","v":""},{"$f":"IF(S277<>\"\", IF(COUNTIFS(\n     'Base Maestra'!$F$43:$F$54,H277,\n     'Base Maestra'!$G$43:$G$54,I277)>0, \"Correcto\", \"Revisar Catálogo\"), \"\")","v":""}]
[null,null,null,null,null,null,null,null,null,null,null,null,null,null,null,null,null,null,null,{"$f":"IF(S278<>\"\",(IF(COUNTIFS('Base Maestra'!$A$42:$A$535,N278,'Base Maestra'!$B$42:$B$535,O278,'Base Maestra'!$C$42:$C$535,P278)>0,\"Correcto\",\"Revisar Catálogo\")),\"\")","v":""},{"$f":"IF(S278<>\"\", IF(COUNTIFS(\n     'Base Maestra'!$F$43:$F$54,H278,\n     'Base Maestra'!$G$43:$G$54,I278)>0, \"Correcto\", \"Revisar Catálogo\"), \"\")","v":""}]
[null,null,null,null,null,null,null,null,null,null,null,null,null,null,null,null,null,null,null,{"$f":"IF(S279<>\"\",(IF(COUNTIFS('Base Maestra'!$A$42:$A$535,N279,'Base Maestra'!$B$42:$B$535,O279,'Base Maestra'!$C$42:$C$535,P279)>0,\"Correcto\",\"Revisar Catálogo\")),\"\")","v":""},{"$f":"IF(S279<>\"\", IF(COUNTIFS(\n     'Base Maestra'!$F$43:$F$54,H279,\n     'Base Maestra'!$G$43:$G$54,I279)>0, \"Correcto\", \"Revisar Catálogo\"), \"\")","v":""}]
[null,null,null,null,null,null,null,null,null,null,null,null,null,null,null,null,null,null,null,{"$f":"IF(S280<>\"\",(IF(COUNTIFS('Base Maestra'!$A$42:$A$535,N280,'Base Maestra'!$B$42:$B$535,O280,'Base Maestra'!$C$42:$C$535,P280)>0,\"Correcto\",\"Revisar Catálogo\")),\"\")","v":""},{"$f":"IF(S280<>\"\", IF(COUNTIFS(\n     'Base Maestra'!$F$43:$F$54,H280,\n     'Base Maestra'!$G$43:$G$54,I280)>0, \"Correcto\", \"Revisar Catálogo\"), \"\")","v":""}]
[null,null,null,null,null,null,null,null,null,null,null,null,null,null,null,null,null,null,null,{"$f":"IF(S281<>\"\",(IF(COUNTIFS('Base Maestra'!$A$42:$A$535,N281,'Base Maestra'!$B$42:$B$535,O281,'Base Maestra'!$C$42:$C$535,P281)>0,\"Correcto\",\"Revisar Catálogo\")),\"\")","v":""},{"$f":"IF(S281<>\"\", IF(COUNTIFS(\n     'Base Maestra'!$F$43:$F$54,H281,\n     'Base Maestra'!$G$43:$G$54,I281)>0, \"Correcto\", \"Revisar Catálogo\"), \"\")","v":""}]
[null,null,null,null,null,null,null,null,null,null,null,null,null,null,null,null,null,null,null,{"$f":"IF(S282<>\"\",(IF(COUNTIFS('Base Maestra'!$A$42:$A$535,N282,'Base Maestra'!$B$42:$B$535,O282,'Base Maestra'!$C$42:$C$535,P282)>0,\"Correcto\",\"Revisar Catálogo\")),\"\")","v":""},{"$f":"IF(S282<>\"\", IF(COUNTIFS(\n     'Base Maestra'!$F$43:$F$54,H282,\n     'Base Maestra'!$G$43:$G$54,I282)>0, \"Correcto\", \"Revisar Catálogo\"), \"\")","v":""}]
[null,null,null,null,null,null,null,null,null,null,null,null,null,null,null,null,null,null,null,{"$f":"IF(S283<>\"\",(IF(COUNTIFS('Base Maestra'!$A$42:$A$535,N283,'Base Maestra'!$B$42:$B$535,O283,'Base Maestra'!$C$42:$C$535,P283)>0,\"Correcto\",\"Revisar Catálogo\")),\"\")","v":""},{"$f":"IF(S283<>\"\", IF(COUNTIFS(\n     'Base Maestra'!$F$43:$F$54,H283,\n     'Base Maestra'!$G$43:$G$54,I283)>0, \"Correcto\", \"Revisar Catálogo\"), \"\")","v":""}]
[null,null,null,null,null,null,null,null,null,null,null,null,null,null,null,null,null,null,null,{"$f":"IF(S284<>\"\",(IF(COUNTIFS('Base Maestra'!$A$42:$A$535,N284,'Base Maestra'!$B$42:$B$535,O284,'Base Maestra'!$C$42:$C$535,P284)>0,\"Correcto\",\"Revisar Catálogo\")),\"\")","v":""},{"$f":"IF(S284<>\"\", IF(COUNTIFS(\n     'Base Maestra'!$F$43:$F$54,H284,\n     'Base Maestra'!$G$43:$G$54,I284)>0, \"Correcto\", \"Revisar Catálogo\"), \"\")","v":""}]
[null,null,null,null,null,null,null,null,null,null,null,null,null,null,null,null,null,null,null,{"$f":"IF(S285<>\"\",(IF(COUNTIFS('Base Maestra'!$A$42:$A$535,N285,'Base Maestra'!$B$42:$B$535,O285,'Base Maestra'!$C$42:$C$535,P285)>0,\"Correcto\",\"Revisar Catálogo\")),\"\")","v":""},{"$f":"IF(S285<>\"\", IF(COUNTIFS(\n     'Base Maestra'!$F$43:$F$54,H285,\n     'Base Maestra'!$G$43:$G$54,I285)>0, \"Correcto\", \"Revisar Catálogo\"), \"\")","v":""}]
[null,null,null,null,null,null,null,null,null,null,null,null,null,null,null,null,null,null,null,{"$f":"IF(S286<>\"\",(IF(COUNTIFS('Base Maestra'!$A$42:$A$535,N286,'Base Maestra'!$B$42:$B$535,O286,'Base Maestra'!$C$42:$C$535,P286)>0,\"Correcto\",\"Revisar Catálogo\")),\"\")","v":""},{"$f":"IF(S286<>\"\", IF(COUNTIFS(\n     'Base Maestra'!$F$43:$F$54,H286,\n     'Base Maestra'!$G$43:$G$54,I286)>0, \"Correcto\", \"Revisar Catálogo\"), \"\")","v":""}]
[null,null,null,null,null,null,null,null,null,null,null,null,null,null,null,null,null,null,null,{"$f":"IF(S287<>\"\",(IF(COUNTIFS('Base Maestra'!$A$42:$A$535,N287,'Base Maestra'!$B$42:$B$535,O287,'Base Maestra'!$C$42:$C$535,P287)>0,\"Correcto\",\"Revisar Catálogo\")),\"\")","v":""},{"$f":"IF(S287<>\"\", IF(COUNTIFS(\n     'Base Maestra'!$F$43:$F$54,H287,\n     'Base Maestra'!$G$43:$G$54,I287)>0, \"Correcto\", \"Revisar Catálogo\"), \"\")","v":""}]
[null,null,null,null,null,null,null,null,null,null,null,null,null,null,null,null,null,null,null,{"$f":"IF(S288<>\"\",(IF(COUNTIFS('Base Maestra'!$A$42:$A$535,N288,'Base Maestra'!$B$42:$B$535,O288,'Base Maestra'!$C$42:$C$535,P288)>0,\"Correcto\",\"Revisar Catálogo\")),\"\")","v":""},{"$f":"IF(S288<>\"\", IF(COUNTIFS(\n     'Base Maestra'!$F$43:$F$54,H288,\n     'Base Maestra'!$G$43:$G$54,I288)>0, \"Correcto\", \"Revisar Catálogo\"), \"\")","v":""}]
[null,null,null,null,null,null,null,null,null,null,null,null,null,null,null,null,null,null,null,{"$f":"IF(S289<>\"\",(IF(COUNTIFS('Base Maestra'!$A$42:$A$535,N289,'Base Maestra'!$B$42:$B$535,O289,'Base Maestra'!$C$42:$C$535,P289)>0,\"Correcto\",\"Revisar Catálogo\")),\"\")","v":""},{"$f":"IF(S289<>\"\", IF(COUNTIFS(\n     'Base Maestra'!$F$43:$F$54,H289,\n     'Base Maestra'!$G$43:$G$54,I289)>0, \"Correcto\", \"Revisar Catálogo\"), \"\")","v":""}]
[null,null,null,null,null,null,null,null,null,null,null,null,null,null,null,null,null,null,null,{"$f":"IF(S290<>\"\",(IF(COUNTIFS('Base Maestra'!$A$42:$A$535,N290,'Base Maestra'!$B$42:$B$535,O290,'Base Maestra'!$C$42:$C$535,P290)>0,\"Correcto\",\"Revisar Catálogo\")),\"\")","v":""},{"$f":"IF(S290<>\"\", IF(COUNTIFS(\n     'Base Maestra'!$F$43:$F$54,H290,\n     'Base Maestra'!$G$43:$G$54,I290)>0, \"Correcto\", \"Revisar Catálogo\"), \"\")","v":""}]
[null,null,null,null,null,null,null,null,null,null,null,null,null,null,null,null,null,null,null,{"$f":"IF(S291<>\"\",(IF(COUNTIFS('Base Maestra'!$A$42:$A$535,N291,'Base Maestra'!$B$42:$B$535,O291,'Base Maestra'!$C$42:$C$535,P291)>0,\"Correcto\",\"Revisar Catálogo\")),\"\")","v":""},{"$f":"IF(S291<>\"\", IF(COUNTIFS(\n     'Base Maestra'!$F$43:$F$54,H291,\n     'Base Maestra'!$G$43:$G$54,I291)>0, \"Correcto\", \"Revisar Catálogo\"), \"\")","v":""}]
[null,null,null,null,null,null,null,null,null,null,null,null,null,null,null,null,null,null,null,{"$f":"IF(S292<>\"\",(IF(COUNTIFS('Base Maestra'!$A$42:$A$535,N292,'Base Maestra'!$B$42:$B$535,O292,'Base Maestra'!$C$42:$C$535,P292)>0,\"Correcto\",\"Revisar Catálogo\")),\"\")","v":""},{"$f":"IF(S292<>\"\", IF(COUNTIFS(\n     'Base Maestra'!$F$43:$F$54,H292,\n     'Base Maestra'!$G$43:$G$54,I292)>0, \"Correcto\", \"Revisar Catálogo\"), \"\")","v":""}]
[null,null,null,null,null,null,null,null,null,null,null,null,null,null,null,null,null,null,null,{"$f":"IF(S293<>\"\",(IF(COUNTIFS('Base Maestra'!$A$42:$A$535,N293,'Base Maestra'!$B$42:$B$535,O293,'Base Maestra'!$C$42:$C$535,P293)>0,\"Correcto\",\"Revisar Catálogo\")),\"\")","v":""},{"$f":"IF(S293<>\"\", IF(COUNTIFS(\n     'Base Maestra'!$F$43:$F$54,H293,\n     'Base Maestra'!$G$43:$G$54,I293)>0, \"Correcto\", \"Revisar Catálogo\"), \"\")","v":""}]
[null,null,null,null,null,null,null,null,null,null,null,null,null,null,null,null,null,null,null,{"$f":"IF(S294<>\"\",(IF(COUNTIFS('Base Maestra'!$A$42:$A$535,N294,'Base Maestra'!$B$42:$B$535,O294,'Base Maestra'!$C$42:$C$535,P294)>0,\"Correcto\",\"Revisar Catálogo\")),\"\")","v":""},{"$f":"IF(S294<>\"\", IF(COUNTIFS(\n     'Base Maestra'!$F$43:$F$54,H294,\n     'Base Maestra'!$G$43:$G$54,I294)>0, \"Correcto\", \"Revisar Catálogo\"), \"\")","v":""}]
[null,null,null,null,null,null,null,null,null,null,null,null,null,null,null,null,null,null,null,{"$f":"IF(S295<>\"\",(IF(COUNTIFS('Base Maestra'!$A$42:$A$535,N295,'Base Maestra'!$B$42:$B$535,O295,'Base Maestra'!$C$42:$C$535,P295)>0,\"Correcto\",\"Revisar Catálogo\")),\"\")","v":""},{"$f":"IF(S295<>\"\", IF(COUNTIFS(\n     'Base Maestra'!$F$43:$F$54,H295,\n     'Base Maestra'!$G$43:$G$54,I295)>0, \"Correcto\", \"Revisar Catálogo\"), \"\")","v":""}]
[null,null,null,null,null,null,null,null,null,null,null,null,null,null,null,null,null,null,null,{"$f":"IF(S296<>\"\",(IF(COUNTIFS('Base Maestra'!$A$42:$A$535,N296,'Base Maestra'!$B$42:$B$535,O296,'Base Maestra'!$C$42:$C$535,P296)>0,\"Correcto\",\"Revisar Catálogo\")),\"\")","v":""},{"$f":"IF(S296<>\"\", IF(COUNTIFS(\n     'Base Maestra'!$F$43:$F$54,H296,\n     'Base Maestra'!$G$43:$G$54,I296)>0, \"Correcto\", \"Revisar Catálogo\"), \"\")","v":""}]
[null,null,null,null,null,null,null,null,null,null,null,null,null,null,null,null,null,null,null,{"$f":"IF(S297<>\"\",(IF(COUNTIFS('Base Maestra'!$A$42:$A$535,N297,'Base Maestra'!$B$42:$B$535,O297,'Base Maestra'!$C$42:$C$535,P297)>0,\"Correcto\",\"Revisar Catálogo\")),\"\")","v":""},{"$f":"IF(S297<>\"\", IF(COUNTIFS(\n     'Base Maestra'!$F$43:$F$54,H297,\n     'Base Maestra'!$G$43:$G$54,I297)>0, \"Correcto\", \"Revisar Catálogo\"), \"\")","v":""}]
[null,null,null,null,null,null,null,null,null,null,null,null,null,null,null,null,null,null,null,{"$f":"IF(S298<>\"\",(IF(COUNTIFS('Base Maestra'!$A$42:$A$535,N298,'Base Maestra'!$B$42:$B$535,O298,'Base Maestra'!$C$42:$C$535,P298)>0,\"Correcto\",\"Revisar Catálogo\")),\"\")","v":""},{"$f":"IF(S298<>\"\", IF(COUNTIFS(\n     'Base Maestra'!$F$43:$F$54,H298,\n     'Base Maestra'!$G$43:$G$54,I298)>0, \"Correcto\", \"Revisar Catálogo\"), \"\")","v":""}]
[null,null,null,null,null,null,null,null,null,null,null,null,null,null,null,null,null,null,null,{"$f":"IF(S299<>\"\",(IF(COUNTIFS('Base Maestra'!$A$42:$A$535,N299,'Base Maestra'!$B$42:$B$535,O299,'Base Maestra'!$C$42:$C$535,P299)>0,\"Correcto\",\"Revisar Catálogo\")),\"\")","v":""},{"$f":"IF(S299<>\"\", IF(COUNTIFS(\n     'Base Maestra'!$F$43:$F$54,H299,\n     'Base Maestra'!$G$43:$G$54,I299)>0, \"Correcto\", \"Revisar Catálogo\"), \"\")","v":""}]
[null,null,null,null,null,null,null,null,null,null,null,null,null,null,null,null,null,null,null,{"$f":"IF(S300<>\"\",(IF(COUNTIFS('Base Maestra'!$A$42:$A$535,N300,'Base Maestra'!$B$42:$B$535,O300,'Base Maestra'!$C$42:$C$535,P300)>0,\"Correcto\",\"Revisar Catálogo\")),\"\")","v":""},{"$f":"IF(S300<>\"\", IF(COUNTIFS(\n     'Base Maestra'!$F$43:$F$54,H300,\n     'Base Maestra'!$G$43:$G$54,I300)>0, \"Correcto\", \"Revisar Catálogo\"), \"\")","v":""}]
[null,null,null,null,null,null,null,null,null,null,null,null,null,null,null,null,null,null,null,{"$f":"IF(S301<>\"\",(IF(COUNTIFS('Base Maestra'!$A$42:$A$535,N301,'Base Maestra'!$B$42:$B$535,O301,'Base Maestra'!$C$42:$C$535,P301)>0,\"Correcto\",\"Revisar Catálogo\")),\"\")","v":""},{"$f":"IF(S301<>\"\", IF(COUNTIFS(\n     'Base Maestra'!$F$43:$F$54,H301,\n     'Base Maestra'!$G$43:$G$54,I301)>0, \"Correcto\", \"Revisar Catálogo\"), \"\")","v":""}]
[null,null,null,null,null,null,null,null,null,null,null,null,null,null,null,null,null,null,null,{"$f":"IF(S302<>\"\",(IF(COUNTIFS('Base Maestra'!$A$42:$A$535,N302,'Base Maestra'!$B$42:$B$535,O302,'Base Maestra'!$C$42:$C$535,P302)>0,\"Correcto\",\"Revisar Catálogo\")),\"\")","v":""},{"$f":"IF(S302<>\"\", IF(COUNTIFS(\n     'Base Maestra'!$F$43:$F$54,H302,\n     'Base Maestra'!$G$43:$G$54,I302)>0, \"Correcto\", \"Revisar Catálogo\"), \"\")","v":""}]
[null,null,null,null,null,null,null,null,null,null,null,null,null,null,null,null,null,null,null,{"$f":"IF(S303<>\"\",(IF(COUNTIFS('Base Maestra'!$A$42:$A$535,N303,'Base Maestra'!$B$42:$B$535,O303,'Base Maestra'!$C$42:$C$535,P303)>0,\"Correcto\",\"Revisar Catálogo\")),\"\")","v":""},{"$f":"IF(S303<>\"\", IF(COUNTIFS(\n     'Base Maestra'!$F$43:$F$54,H303,\n     'Base Maestra'!$G$43:$G$54,I303)>0, \"Correcto\", \"Revisar Catálogo\"), \"\")","v":""}]
[null,null,null,null,null,null,null,null,null,null,null,null,null,null,null,null,null,null,null,{"$f":"IF(S304<>\"\",(IF(COUNTIFS('Base Maestra'!$A$42:$A$535,N304,'Base Maestra'!$B$42:$B$535,O304,'Base Maestra'!$C$42:$C$535,P304)>0,\"Correcto\",\"Revisar Catálogo\")),\"\")","v":""},{"$f":"IF(S304<>\"\", IF(COUNTIFS(\n     'Base Maestra'!$F$43:$F$54,H304,\n     'Base Maestra'!$G$43:$G$54,I304)>0, \"Correcto\", \"Revisar Catálogo\"), \"\")","v":""}]
[null,null,null,null,null,null,null,null,null,null,null,null,null,null,null,null,null,null,null,{"$f":"IF(S305<>\"\",(IF(COUNTIFS('Base Maestra'!$A$42:$A$535,N305,'Base Maestra'!$B$42:$B$535,O305,'Base Maestra'!$C$42:$C$535,P305)>0,\"Correcto\",\"Revisar Catálogo\")),\"\")","v":""},{"$f":"IF(S305<>\"\", IF(COUNTIFS(\n     'Base Maestra'!$F$43:$F$54,H305,\n     'Base Maestra'!$G$43:$G$54,I305)>0, \"Correcto\", \"Revisar Catálogo\"), \"\")","v":""}]
[null,null,null,null,null,null,null,null,null,null,null,null,null,null,null,null,null,null,null,{"$f":"IF(S306<>\"\",(IF(COUNTIFS('Base Maestra'!$A$42:$A$535,N306,'Base Maestra'!$B$42:$B$535,O306,'Base Maestra'!$C$42:$C$535,P306)>0,\"Correcto\",\"Revisar Catálogo\")),\"\")","v":""},{"$f":"IF(S306<>\"\", IF(COUNTIFS(\n     'Base Maestra'!$F$43:$F$54,H306,\n     'Base Maestra'!$G$43:$G$54,I306)>0, \"Correcto\", \"Revisar Catálogo\"), \"\")","v":""}]
[null,null,null,null,null,null,null,null,null,null,null,null,null,null,null,null,null,null,null,{"$f":"IF(S307<>\"\",(IF(COUNTIFS('Base Maestra'!$A$42:$A$535,N307,'Base Maestra'!$B$42:$B$535,O307,'Base Maestra'!$C$42:$C$535,P307)>0,\"Correcto\",\"Revisar Catálogo\")),\"\")","v":""},{"$f":"IF(S307<>\"\", IF(COUNTIFS(\n     'Base Maestra'!$F$43:$F$54,H307,\n     'Base Maestra'!$G$43:$G$54,I307)>0, \"Correcto\", \"Revisar Catálogo\"), \"\")","v":""}]
[null,null,null,null,null,null,null,null,null,null,null,null,null,null,null,null,null,null,null,{"$f":"IF(S308<>\"\",(IF(COUNTIFS('Base Maestra'!$A$42:$A$535,N308,'Base Maestra'!$B$42:$B$535,O308,'Base Maestra'!$C$42:$C$535,P308)>0,\"Correcto\",\"Revisar Catálogo\")),\"\")","v":""},{"$f":"IF(S308<>\"\", IF(COUNTIFS(\n     'Base Maestra'!$F$43:$F$54,H308,\n     'Base Maestra'!$G$43:$G$54,I308)>0, \"Correcto\", \"Revisar Catálogo\"), \"\")","v":""}]
[null,null,null,null,null,null,null,null,null,null,null,null,null,null,null,null,null,null,null,{"$f":"IF(S309<>\"\",(IF(COUNTIFS('Base Maestra'!$A$42:$A$535,N309,'Base Maestra'!$B$42:$B$535,O309,'Base Maestra'!$C$42:$C$535,P309)>0,\"Correcto\",\"Revisar Catálogo\")),\"\")","v":""},{"$f":"IF(S309<>\"\", IF(COUNTIFS(\n     'Base Maestra'!$F$43:$F$54,H309,\n     'Base Maestra'!$G$43:$G$54,I309)>0, \"Correcto\", \"Revisar Catálogo\"), \"\")","v":""}]
[null,null,null,null,null,null,null,null,null,null,null,null,null,null,null,null,null,null,null,{"$f":"IF(S310<>\"\",(IF(COUNTIFS('Base Maestra'!$A$42:$A$535,N310,'Base Maestra'!$B$42:$B$535,O310,'Base Maestra'!$C$42:$C$535,P310)>0,\"Correcto\",\"Revisar Catálogo\")),\"\")","v":""},{"$f":"IF(S310<>\"\", IF(COUNTIFS(\n     'Base Maestra'!$F$43:$F$54,H310,\n     'Base Maestra'!$G$43:$G$54,I310)>0, \"Correcto\", \"Revisar Catálogo\"), \"\")","v":""}]
[null,null,null,null,null,null,null,null,null,null,null,null,null,null,null,null,null,null,null,{"$f":"IF(S311<>\"\",(IF(COUNTIFS('Base Maestra'!$A$42:$A$535,N311,'Base Maestra'!$B$42:$B$535,O311,'Base Maestra'!$C$42:$C$535,P311)>0,\"Correcto\",\"Revisar Catálogo\")),\"\")","v":""},{"$f":"IF(S311<>\"\", IF(COUNTIFS(\n     'Base Maestra'!$F$43:$F$54,H311,\n     'Base Maestra'!$G$43:$G$54,I311)>0, \"Correcto\", \"Revisar Catálogo\"), \"\")","v":""}]
[null,null,null,null,null,null,null,null,null,null,null,null,null,null,null,null,null,null,null,{"$f":"IF(S312<>\"\",(IF(COUNTIFS('Base Maestra'!$A$42:$A$535,N312,'Base Maestra'!$B$42:$B$535,O312,'Base Maestra'!$C$42:$C$535,P312)>0,\"Correcto\",\"Revisar Catálogo\")),\"\")","v":""},{"$f":"IF(S312<>\"\", IF(COUNTIFS(\n     'Base Maestra'!$F$43:$F$54,H312,\n     'Base Maestra'!$G$43:$G$54,I312)>0, \"Correcto\", \"Revisar Catálogo\"), \"\")","v":""}]
[null,null,null,null,null,null,null,null,null,null,null,null,null,null,null,null,null,null,null,{"$f":"IF(S313<>\"\",(IF(COUNTIFS('Base Maestra'!$A$42:$A$535,N313,'Base Maestra'!$B$42:$B$535,O313,'Base Maestra'!$C$42:$C$535,P313)>0,\"Correcto\",\"Revisar Catálogo\")),\"\")","v":""},{"$f":"IF(S313<>\"\", IF(COUNTIFS(\n     'Base Maestra'!$F$43:$F$54,H313,\n     'Base Maestra'!$G$43:$G$54,I313)>0, \"Correcto\", \"Revisar Catálogo\"), \"\")","v":""}]
[null,null,null,null,null,null,null,null,null,null,null,null,null,null,null,null,null,null,null,{"$f":"IF(S314<>\"\",(IF(COUNTIFS('Base Maestra'!$A$42:$A$535,N314,'Base Maestra'!$B$42:$B$535,O314,'Base Maestra'!$C$42:$C$535,P314)>0,\"Correcto\",\"Revisar Catálogo\")),\"\")","v":""},{"$f":"IF(S314<>\"\", IF(COUNTIFS(\n     'Base Maestra'!$F$43:$F$54,H314,\n     'Base Maestra'!$G$43:$G$54,I314)>0, \"Correcto\", \"Revisar Catálogo\"), \"\")","v":""}]
[null,null,null,null,null,null,null,null,null,null,null,null,null,null,null,null,null,null,null,{"$f":"IF(S315<>\"\",(IF(COUNTIFS('Base Maestra'!$A$42:$A$535,N315,'Base Maestra'!$B$42:$B$535,O315,'Base Maestra'!$C$42:$C$535,P315)>0,\"Correcto\",\"Revisar Catálogo\")),\"\")","v":""},{"$f":"IF(S315<>\"\", IF(COUNTIFS(\n     'Base Maestra'!$F$43:$F$54,H315,\n     'Base Maestra'!$G$43:$G$54,I315)>0, \"Correcto\", \"Revisar Catálogo\"), \"\")","v":""}]
[null,null,null,null,null,null,null,null,null,null,null,null,null,null,null,null,null,null,null,{"$f":"IF(S316<>\"\",(IF(COUNTIFS('Base Maestra'!$A$42:$A$535,N316,'Base Maestra'!$B$42:$B$535,O316,'Base Maestra'!$C$42:$C$535,P316)>0,\"Correcto\",\"Revisar Catálogo\")),\"\")","v":""},{"$f":"IF(S316<>\"\", IF(COUNTIFS(\n     'Base Maestra'!$F$43:$F$54,H316,\n     'Base Maestra'!$G$43:$G$54,I316)>0, \"Correcto\", \"Revisar Catálogo\"), \"\")","v":""}]
[null,null,null,null,null,null,null,null,null,null,null,null,null,null,null,null,null,null,null,{"$f":"IF(S317<>\"\",(IF(COUNTIFS('Base Maestra'!$A$42:$A$535,N317,'Base Maestra'!$B$42:$B$535,O317,'Base Maestra'!$C$42:$C$535,P317)>0,\"Correcto\",\"Revisar Catálogo\")),\"\")","v":""},{"$f":"IF(S317<>\"\", IF(COUNTIFS(\n     'Base Maestra'!$F$43:$F$54,H317,\n     'Base Maestra'!$G$43:$G$54,I317)>0, \"Correcto\", \"Revisar Catálogo\"), \"\")","v":""}]
[null,null,null,null,null,null,null,null,null,null,null,null,null,null,null,null,null,null,null,{"$f":"IF(S318<>\"\",(IF(COUNTIFS('Base Maestra'!$A$42:$A$535,N318,'Base Maestra'!$B$42:$B$535,O318,'Base Maestra'!$C$42:$C$535,P318)>0,\"Correcto\",\"Revisar Catálogo\")),\"\")","v":""},{"$f":"IF(S318<>\"\", IF(COUNTIFS(\n     'Base Maestra'!$F$43:$F$54,H318,\n     'Base Maestra'!$G$43:$G$54,I318)>0, \"Correcto\", \"Revisar Catálogo\"), \"\")","v":""}]
[null,null,null,null,null,null,null,null,null,null,null,null,null,null,null,null,null,null,null,{"$f":"IF(S319<>\"\",(IF(COUNTIFS('Base Maestra'!$A$42:$A$535,N319,'Base Maestra'!$B$42:$B$535,O319,'Base Maestra'!$C$42:$C$535,P319)>0,\"Correcto\",\"Revisar Catálogo\")),\"\")","v":""},{"$f":"IF(S319<>\"\", IF(COUNTIFS(\n     'Base Maestra'!$F$43:$F$54,H319,\n     'Base Maestra'!$G$43:$G$54,I319)>0, \"Correcto\", \"Revisar Catálogo\"), \"\")","v":""}]
[null,null,null,null,null,null,null,null,null,null,null,null,null,null,null,null,null,null,null,{"$f":"IF(S320<>\"\",(IF(COUNTIFS('Base Maestra'!$A$42:$A$535,N320,'Base Maestra'!$B$42:$B$535,O320,'Base Maestra'!$C$42:$C$535,P320)>0,\"Correcto\",\"Revisar Catálogo\")),\"\")","v":""},{"$f":"IF(S320<>\"\", IF(COUNTIFS(\n     'Base Maestra'!$F$43:$F$54,H320,\n     'Base Maestra'!$G$43:$G$54,I320)>0, \"Correcto\", \"Revisar Catálogo\"), \"\")","v":""}]
[null,null,null,null,null,null,null,null,null,null,null,null,null,null,null,null,null,null,null,{"$f":"IF(S321<>\"\",(IF(COUNTIFS('Base Maestra'!$A$42:$A$535,N321,'Base Maestra'!$B$42:$B$535,O321,'Base Maestra'!$C$42:$C$535,P321)>0,\"Correcto\",\"Revisar Catálogo\")),\"\")","v":""},{"$f":"IF(S321<>\"\", IF(COUNTIFS(\n     'Base Maestra'!$F$43:$F$54,H321,\n     'Base Maestra'!$G$43:$G$54,I321)>0, \"Correcto\", \"Revisar Catálogo\"), \"\")","v":""}]
[null,null,null,null,null,null,null,null,null,null,null,null,null,null,null,null,null,null,null,{"$f":"IF(S322<>\"\",(IF(COUNTIFS('Base Maestra'!$A$42:$A$535,N322,'Base Maestra'!$B$42:$B$535,O322,'Base Maestra'!$C$42:$C$535,P322)>0,\"Correcto\",\"Revisar Catálogo\")),\"\")","v":""},{"$f":"IF(S322<>\"\", IF(COUNTIFS(\n     'Base Maestra'!$F$43:$F$54,H322,\n     'Base Maestra'!$G$43:$G$54,I322)>0, \"Correcto\", \"Revisar Catálogo\"), \"\")","v":""}]
[null,null,null,null,null,null,null,null,null,null,null,null,null,null,null,null,null,null,null,{"$f":"IF(S323<>\"\",(IF(COUNTIFS('Base Maestra'!$A$42:$A$535,N323,'Base Maestra'!$B$42:$B$535,O323,'Base Maestra'!$C$42:$C$535,P323)>0,\"Correcto\",\"Revisar Catálogo\")),\"\")","v":""},{"$f":"IF(S323<>\"\", IF(COUNTIFS(\n     'Base Maestra'!$F$43:$F$54,H323,\n     'Base Maestra'!$G$43:$G$54,I323)>0, \"Correcto\", \"Revisar Catálogo\"), \"\")","v":""}]
[null,null,null,null,null,null,null,null,null,null,null,null,null,null,null,null,null,null,null,{"$f":"IF(S324<>\"\",(IF(COUNTIFS('Base Maestra'!$A$42:$A$535,N324,'Base Maestra'!$B$42:$B$535,O324,'Base Maestra'!$C$42:$C$535,P324)>0,\"Correcto\",\"Revisar Catálogo\")),\"\")","v":""},{"$f":"IF(S324<>\"\", IF(COUNTIFS(\n     'Base Maestra'!$F$43:$F$54,H324,\n     'Base Maestra'!$G$43:$G$54,I324)>0, \"Correcto\", \"Revisar Catálogo\"), \"\")","v":""}]
[null,null,null,null,null,null,null,null,null,null,null,null,null,null,null,null,null,null,null,{"$f":"IF(S325<>\"\",(IF(COUNTIFS('Base Maestra'!$A$42:$A$535,N325,'Base Maestra'!$B$42:$B$535,O325,'Base Maestra'!$C$42:$C$535,P325)>0,\"Correcto\",\"Revisar Catálogo\")),\"\")","v":""},{"$f":"IF(S325<>\"\", IF(COUNTIFS(\n     'Base Maestra'!$F$43:$F$54,H325,\n     'Base Maestra'!$G$43:$G$54,I325)>0, \"Correcto\", \"Revisar Catálogo\"), \"\")","v":""}]
[null,null,null,null,null,null,null,null,null,null,null,null,null,null,null,null,null,null,null,{"$f":"IF(S326<>\"\",(IF(COUNTIFS('Base Maestra'!$A$42:$A$535,N326,'Base Maestra'!$B$42:$B$535,O326,'Base Maestra'!$C$42:$C$535,P326)>0,\"Correcto\",\"Revisar Catálogo\")),\"\")","v":""},{"$f":"IF(S326<>\"\", IF(COUNTIFS(\n     'Base Maestra'!$F$43:$F$54,H326,\n     'Base Maestra'!$G$43:$G$54,I326)>0, \"Correcto\", \"Revisar Catálogo\"), \"\")","v":""}]
[null,null,null,null,null,null,null,null,null,null,null,null,null,null,null,null,null,null,null,{"$f":"IF(S327<>\"\",(IF(COUNTIFS('Base Maestra'!$A$42:$A$535,N327,'Base Maestra'!$B$42:$B$535,O327,'Base Maestra'!$C$42:$C$535,P327)>0,\"Correcto\",\"Revisar Catálogo\")),\"\")","v":""},{"$f":"IF(S327<>\"\", IF(COUNTIFS(\n     'Base Maestra'!$F$43:$F$54,H327,\n     'Base Maestra'!$G$43:$G$54,I327)>0, \"Correcto\", \"Revisar Catálogo\"), \"\")","v":""}]
[null,null,null,null,null,null,null,null,null,null,null,null,null,null,null,null,null,null,null,{"$f":"IF(S328<>\"\",(IF(COUNTIFS('Base Maestra'!$A$42:$A$535,N328,'Base Maestra'!$B$42:$B$535,O328,'Base Maestra'!$C$42:$C$535,P328)>0,\"Correcto\",\"Revisar Catálogo\")),\"\")","v":""},{"$f":"IF(S328<>\"\", IF(COUNTIFS(\n     'Base Maestra'!$F$43:$F$54,H328,\n     'Base Maestra'!$G$43:$G$54,I328)>0, \"Correcto\", \"Revisar Catálogo\"), \"\")","v":""}]
[null,null,null,null,null,null,null,null,null,null,null,null,null,null,null,null,null,null,null,{"$f":"IF(S329<>\"\",(IF(COUNTIFS('Base Maestra'!$A$42:$A$535,N329,'Base Maestra'!$B$42:$B$535,O329,'Base Maestra'!$C$42:$C$535,P329)>0,\"Correcto\",\"Revisar Catálogo\")),\"\")","v":""},{"$f":"IF(S329<>\"\", IF(COUNTIFS(\n     'Base Maestra'!$F$43:$F$54,H329,\n     'Base Maestra'!$G$43:$G$54,I329)>0, \"Correcto\", \"Revisar Catálogo\"), \"\")","v":""}]
[null,null,null,null,null,null,null,null,null,null,null,null,null,null,null,null,null,null,null,{"$f":"IF(S330<>\"\",(IF(COUNTIFS('Base Maestra'!$A$42:$A$535,N330,'Base Maestra'!$B$42:$B$535,O330,'Base Maestra'!$C$42:$C$535,P330)>0,\"Correcto\",\"Revisar Catálogo\")),\"\")","v":""},{"$f":"IF(S330<>\"\", IF(COUNTIFS(\n     'Base Maestra'!$F$43:$F$54,H330,\n     'Base Maestra'!$G$43:$G$54,I330)>0, \"Correcto\", \"Revisar Catálogo\"), \"\")","v":""}]
[null,null,null,null,null,null,null,null,null,null,null,null,null,null,null,null,null,null,null,{"$f":"IF(S331<>\"\",(IF(COUNTIFS('Base Maestra'!$A$42:$A$535,N331,'Base Maestra'!$B$42:$B$535,O331,'Base Maestra'!$C$42:$C$535,P331)>0,\"Correcto\",\"Revisar Catálogo\")),\"\")","v":""},{"$f":"IF(S331<>\"\", IF(COUNTIFS(\n     'Base Maestra'!$F$43:$F$54,H331,\n     'Base Maestra'!$G$43:$G$54,I331)>0, \"Correcto\", \"Revisar Catálogo\"), \"\")","v":""}]
[null,null,null,null,null,null,null,null,null,null,null,null,null,null,null,null,null,null,null,{"$f":"IF(S332<>\"\",(IF(COUNTIFS('Base Maestra'!$A$42:$A$535,N332,'Base Maestra'!$B$42:$B$535,O332,'Base Maestra'!$C$42:$C$535,P332)>0,\"Correcto\",\"Revisar Catálogo\")),\"\")","v":""},{"$f":"IF(S332<>\"\", IF(COUNTIFS(\n     'Base Maestra'!$F$43:$F$54,H332,\n     'Base Maestra'!$G$43:$G$54,I332)>0, \"Correcto\", \"Revisar Catálogo\"), \"\")","v":""}]
[null,null,null,null,null,null,null,null,null,null,null,null,null,null,null,null,null,null,null,{"$f":"IF(S333<>\"\",(IF(COUNTIFS('Base Maestra'!$A$42:$A$535,N333,'Base Maestra'!$B$42:$B$535,O333,'Base Maestra'!$C$42:$C$535,P333)>0,\"Correcto\",\"Revisar Catálogo\")),\"\")","v":""},{"$f":"IF(S333<>\"\", IF(COUNTIFS(\n     'Base Maestra'!$F$43:$F$54,H333,\n     'Base Maestra'!$G$43:$G$54,I333)>0, \"Correcto\", \"Revisar Catálogo\"), \"\")","v":""}]
[null,null,null,null,null,null,null,null,null,null,null,null,null,null,null,null,null,null,null,{"$f":"IF(S334<>\"\",(IF(COUNTIFS('Base Maestra'!$A$42:$A$535,N334,'Base Maestra'!$B$42:$B$535,O334,'Base Maestra'!$C$42:$C$535,P334)>0,\"Correcto\",\"Revisar Catálogo\")),\"\")","v":""},{"$f":"IF(S334<>\"\", IF(COUNTIFS(\n     'Base Maestra'!$F$43:$F$54,H334,\n     'Base Maestra'!$G$43:$G$54,I334)>0, \"Correcto\", \"Revisar Catálogo\"), \"\")","v":""}]
[null,null,null,null,null,null,null,null,null,null,null,null,null,null,null,null,null,null,null,{"$f":"IF(S335<>\"\",(IF(COUNTIFS('Base Maestra'!$A$42:$A$535,N335,'Base Maestra'!$B$42:$B$535,O335,'Base Maestra'!$C$42:$C$535,P335)>0,\"Correcto\",\"Revisar Catálogo\")),\"\")","v":""},{"$f":"IF(S335<>\"\", IF(COUNTIFS(\n     'Base Maestra'!$F$43:$F$54,H335,\n     'Base Maestra'!$G$43:$G$54,I335)>0, \"Correcto\", \"Revisar Catálogo\"), \"\")","v":""}]
[null,null,null,null,null,null,null,null,null,null,null,null,null,null,null,null,null,null,null,{"$f":"IF(S336<>\"\",(IF(COUNTIFS('Base Maestra'!$A$42:$A$535,N336,'Base Maestra'!$B$42:$B$535,O336,'Base Maestra'!$C$42:$C$535,P336)>0,\"Correcto\",\"Revisar Catálogo\")),\"\")","v":""},{"$f":"IF(S336<>\"\", IF(COUNTIFS(\n     'Base Maestra'!$F$43:$F$54,H336,\n     'Base Maestra'!$G$43:$G$54,I336)>0, \"Correcto\", \"Revisar Catálogo\"), \"\")","v":""}]
[null,null,null,null,null,null,null,null,null,null,null,null,null,null,null,null,null,null,null,{"$f":"IF(S337<>\"\",(IF(COUNTIFS('Base Maestra'!$A$42:$A$535,N337,'Base Maestra'!$B$42:$B$535,O337,'Base Maestra'!$C$42:$C$535,P337)>0,\"Correcto\",\"Revisar Catálogo\")),\"\")","v":""},{"$f":"IF(S337<>\"\", IF(COUNTIFS(\n     'Base Maestra'!$F$43:$F$54,H337,\n     'Base Maestra'!$G$43:$G$54,I337)>0, \"Correcto\", \"Revisar Catálogo\"), \"\")","v":""}]
[null,null,null,null,null,null,null,null,null,null,null,null,null,null,null,null,null,null,null,{"$f":"IF(S338<>\"\",(IF(COUNTIFS('Base Maestra'!$A$42:$A$535,N338,'Base Maestra'!$B$42:$B$535,O338,'Base Maestra'!$C$42:$C$535,P338)>0,\"Correcto\",\"Revisar Catálogo\")),\"\")","v":""},{"$f":"IF(S338<>\"\", IF(COUNTIFS(\n     'Base Maestra'!$F$43:$F$54,H338,\n     'Base Maestra'!$G$43:$G$54,I338)>0, \"Correcto\", \"Revisar Catálogo\"), \"\")","v":""}]
[null,null,null,null,null,null,null,null,null,null,null,null,null,null,null,null,null,null,null,{"$f":"IF(S339<>\"\",(IF(COUNTIFS('Base Maestra'!$A$42:$A$535,N339,'Base Maestra'!$B$42:$B$535,O339,'Base Maestra'!$C$42:$C$535,P339)>0,\"Correcto\",\"Revisar Catálogo\")),\"\")","v":""},{"$f":"IF(S339<>\"\", IF(COUNTIFS(\n     'Base Maestra'!$F$43:$F$54,H339,\n     'Base Maestra'!$G$43:$G$54,I339)>0, \"Correcto\", \"Revisar Catálogo\"), \"\")","v":""}]
[null,null,null,null,null,null,null,null,null,null,null,null,null,null,null,null,null,null,null,{"$f":"IF(S340<>\"\",(IF(COUNTIFS('Base Maestra'!$A$42:$A$535,N340,'Base Maestra'!$B$42:$B$535,O340,'Base Maestra'!$C$42:$C$535,P340)>0,\"Correcto\",\"Revisar Catálogo\")),\"\")","v":""},{"$f":"IF(S340<>\"\", IF(COUNTIFS(\n     'Base Maestra'!$F$43:$F$54,H340,\n     'Base Maestra'!$G$43:$G$54,I340)>0, \"Correcto\", \"Revisar Catálogo\"), \"\")","v":""}]
[null,null,null,null,null,null,null,null,null,null,null,null,null,null,null,null,null,null,null,{"$f":"IF(S341<>\"\",(IF(COUNTIFS('Base Maestra'!$A$42:$A$535,N341,'Base Maestra'!$B$42:$B$535,O341,'Base Maestra'!$C$42:$C$535,P341)>0,\"Correcto\",\"Revisar Catálogo\")),\"\")","v":""},{"$f":"IF(S341<>\"\", IF(COUNTIFS(\n     'Base Maestra'!$F$43:$F$54,H341,\n     'Base Maestra'!$G$43:$G$54,I341)>0, \"Correcto\", \"Revisar Catálogo\"), \"\")","v":""}]
[null,null,null,null,null,null,null,null,null,null,null,null,null,null,null,null,null,null,null,{"$f":"IF(S342<>\"\",(IF(COUNTIFS('Base Maestra'!$A$42:$A$535,N342,'Base Maestra'!$B$42:$B$535,O342,'Base Maestra'!$C$42:$C$535,P342)>0,\"Correcto\",\"Revisar Catálogo\")),\"\")","v":""},{"$f":"IF(S342<>\"\", IF(COUNTIFS(\n     'Base Maestra'!$F$43:$F$54,H342,\n     'Base Maestra'!$G$43:$G$54,I342)>0, \"Correcto\", \"Revisar Catálogo\"), \"\")","v":""}]
[null,null,null,null,null,null,null,null,null,null,null,null,null,null,null,null,null,null,null,{"$f":"IF(S343<>\"\",(IF(COUNTIFS('Base Maestra'!$A$42:$A$535,N343,'Base Maestra'!$B$42:$B$535,O343,'Base Maestra'!$C$42:$C$535,P343)>0,\"Correcto\",\"Revisar Catálogo\")),\"\")","v":""},{"$f":"IF(S343<>\"\", IF(COUNTIFS(\n     'Base Maestra'!$F$43:$F$54,H343,\n     'Base Maestra'!$G$43:$G$54,I343)>0, \"Correcto\", \"Revisar Catálogo\"), \"\")","v":""}]
[null,null,null,null,null,null,null,null,null,null,null,null,null,null,null,null,null,null,null,{"$f":"IF(S344<>\"\",(IF(COUNTIFS('Base Maestra'!$A$42:$A$535,N344,'Base Maestra'!$B$42:$B$535,O344,'Base Maestra'!$C$42:$C$535,P344)>0,\"Correcto\",\"Revisar Catálogo\")),\"\")","v":""},{"$f":"IF(S344<>\"\", IF(COUNTIFS(\n     'Base Maestra'!$F$43:$F$54,H344,\n     'Base Maestra'!$G$43:$G$54,I344)>0, \"Correcto\", \"Revisar Catálogo\"), \"\")","v":""}]
[null,null,null,null,null,null,null,null,null,null,null,null,null,null,null,null,null,null,null,{"$f":"IF(S345<>\"\",(IF(COUNTIFS('Base Maestra'!$A$42:$A$535,N345,'Base Maestra'!$B$42:$B$535,O345,'Base Maestra'!$C$42:$C$535,P345)>0,\"Correcto\",\"Revisar Catálogo\")),\"\")","v":""},{"$f":"IF(S345<>\"\", IF(COUNTIFS(\n     'Base Maestra'!$F$43:$F$54,H345,\n     'Base Maestra'!$G$43:$G$54,I345)>0, \"Correcto\", \"Revisar Catálogo\"), \"\")","v":""}]
[null,null,null,null,null,null,null,null,null,null,null,null,null,null,null,null,null,null,null,{"$f":"IF(S346<>\"\",(IF(COUNTIFS('Base Maestra'!$A$42:$A$535,N346,'Base Maestra'!$B$42:$B$535,O346,'Base Maestra'!$C$42:$C$535,P346)>0,\"Correcto\",\"Revisar Catálogo\")),\"\")","v":""},{"$f":"IF(S346<>\"\", IF(COUNTIFS(\n     'Base Maestra'!$F$43:$F$54,H346,\n     'Base Maestra'!$G$43:$G$54,I346)>0, \"Correcto\", \"Revisar Catálogo\"), \"\")","v":""}]
[null,null,null,null,null,null,null,null,null,null,null,null,null,null,null,null,null,null,null,{"$f":"IF(S347<>\"\",(IF(COUNTIFS('Base Maestra'!$A$42:$A$535,N347,'Base Maestra'!$B$42:$B$535,O347,'Base Maestra'!$C$42:$C$535,P347)>0,\"Correcto\",\"Revisar Catálogo\")),\"\")","v":""},{"$f":"IF(S347<>\"\", IF(COUNTIFS(\n     'Base Maestra'!$F$43:$F$54,H347,\n     'Base Maestra'!$G$43:$G$54,I347)>0, \"Correcto\", \"Revisar Catálogo\"), \"\")","v":""}]
[null,null,null,null,null,null,null,null,null,null,null,null,null,null,null,null,null,null,null,{"$f":"IF(S348<>\"\",(IF(COUNTIFS('Base Maestra'!$A$42:$A$535,N348,'Base Maestra'!$B$42:$B$535,O348,'Base Maestra'!$C$42:$C$535,P348)>0,\"Correcto\",\"Revisar Catálogo\")),\"\")","v":""},{"$f":"IF(S348<>\"\", IF(COUNTIFS(\n     'Base Maestra'!$F$43:$F$54,H348,\n     'Base Maestra'!$G$43:$G$54,I348)>0, \"Correcto\", \"Revisar Catálogo\"), \"\")","v":""}]
[null,null,null,null,null,null,null,null,null,null,null,null,null,null,null,null,null,null,null,{"$f":"IF(S349<>\"\",(IF(COUNTIFS('Base Maestra'!$A$42:$A$535,N349,'Base Maestra'!$B$42:$B$535,O349,'Base Maestra'!$C$42:$C$535,P349)>0,\"Correcto\",\"Revisar Catálogo\")),\"\")","v":""},{"$f":"IF(S349<>\"\", IF(COUNTIFS(\n     'Base Maestra'!$F$43:$F$54,H349,\n     'Base Maestra'!$G$43:$G$54,I349)>0, \"Correcto\", \"Revisar Catálogo\"), \"\")","v":""}]
[null,null,null,null,null,null,null,null,null,null,null,null,null,null,null,null,null,null,null,{"$f":"IF(S350<>\"\",(IF(COUNTIFS('Base Maestra'!$A$42:$A$535,N350,'Base Maestra'!$B$42:$B$535,O350,'Base Maestra'!$C$42:$C$535,P350)>0,\"Correcto\",\"Revisar Catálogo\")),\"\")","v":""},{"$f":"IF(S350<>\"\", IF(COUNTIFS(\n     'Base Maestra'!$F$43:$F$54,H350,\n     'Base Maestra'!$G$43:$G$54,I350)>0, \"Correcto\", \"Revisar Catálogo\"), \"\")","v":""}]
[null,null,null,null,null,null,null,null,null,null,null,null,null,null,null,null,null,null,null,{"$f":"IF(S351<>\"\",(IF(COUNTIFS('Base Maestra'!$A$42:$A$535,N351,'Base Maestra'!$B$42:$B$535,O351,'Base Maestra'!$C$42:$C$535,P351)>0,\"Correcto\",\"Revisar Catálogo\")),\"\")","v":""},{"$f":"IF(S351<>\"\", IF(COUNTIFS(\n     'Base Maestra'!$F$43:$F$54,H351,\n     'Base Maestra'!$G$43:$G$54,I351)>0, \"Correcto\", \"Revisar Catálogo\"), \"\")","v":""}]
[null,null,null,null,null,null,null,null,null,null,null,null,null,null,null,null,null,null,null,{"$f":"IF(S352<>\"\",(IF(COUNTIFS('Base Maestra'!$A$42:$A$535,N352,'Base Maestra'!$B$42:$B$535,O352,'Base Maestra'!$C$42:$C$535,P352)>0,\"Correcto\",\"Revisar Catálogo\")),\"\")","v":""},{"$f":"IF(S352<>\"\", IF(COUNTIFS(\n     'Base Maestra'!$F$43:$F$54,H352,\n     'Base Maestra'!$G$43:$G$54,I352)>0, \"Correcto\", \"Revisar Catálogo\"), \"\")","v":""}]
[null,null,null,null,null,null,null,null,null,null,null,null,null,null,null,null,null,null,null,{"$f":"IF(S353<>\"\",(IF(COUNTIFS('Base Maestra'!$A$42:$A$535,N353,'Base Maestra'!$B$42:$B$535,O353,'Base Maestra'!$C$42:$C$535,P353)>0,\"Correcto\",\"Revisar Catálogo\")),\"\")","v":""},{"$f":"IF(S353<>\"\", IF(COUNTIFS(\n     'Base Maestra'!$F$43:$F$54,H353,\n     'Base Maestra'!$G$43:$G$54,I353)>0, \"Correcto\", \"Revisar Catálogo\"), \"\")","v":""}]
[null,null,null,null,null,null,null,null,null,null,null,null,null,null,null,null,null,null,null,{"$f":"IF(S354<>\"\",(IF(COUNTIFS('Base Maestra'!$A$42:$A$535,N354,'Base Maestra'!$B$42:$B$535,O354,'Base Maestra'!$C$42:$C$535,P354)>0,\"Correcto\",\"Revisar Catálogo\")),\"\")","v":""},{"$f":"IF(S354<>\"\", IF(COUNTIFS(\n     'Base Maestra'!$F$43:$F$54,H354,\n     'Base Maestra'!$G$43:$G$54,I354)>0, \"Correcto\", \"Revisar Catálogo\"), \"\")","v":""}]
[null,null,null,null,null,null,null,null,null,null,null,null,null,null,null,null,null,null,null,{"$f":"IF(S355<>\"\",(IF(COUNTIFS('Base Maestra'!$A$42:$A$535,N355,'Base Maestra'!$B$42:$B$535,O355,'Base Maestra'!$C$42:$C$535,P355)>0,\"Correcto\",\"Revisar Catálogo\")),\"\")","v":""},{"$f":"IF(S355<>\"\", IF(COUNTIFS(\n     'Base Maestra'!$F$43:$F$54,H355,\n     'Base Maestra'!$G$43:$G$54,I355)>0, \"Correcto\", \"Revisar Catálogo\"), \"\")","v":""}]
[null,null,null,null,null,null,null,null,null,null,null,null,null,null,null,null,null,null,null,{"$f":"IF(S356<>\"\",(IF(COUNTIFS('Base Maestra'!$A$42:$A$535,N356,'Base Maestra'!$B$42:$B$535,O356,'Base Maestra'!$C$42:$C$535,P356)>0,\"Correcto\",\"Revisar Catálogo\")),\"\")","v":""},{"$f":"IF(S356<>\"\", IF(COUNTIFS(\n     'Base Maestra'!$F$43:$F$54,H356,\n     'Base Maestra'!$G$43:$G$54,I356)>0, \"Correcto\", \"Revisar Catálogo\"), \"\")","v":""}]
[null,null,null,null,null,null,null,null,null,null,null,null,null,null,null,null,null,null,null,{"$f":"IF(S357<>\"\",(IF(COUNTIFS('Base Maestra'!$A$42:$A$535,N357,'Base Maestra'!$B$42:$B$535,O357,'Base Maestra'!$C$42:$C$535,P357)>0,\"Correcto\",\"Revisar Catálogo\")),\"\")","v":""},{"$f":"IF(S357<>\"\", IF(COUNTIFS(\n     'Base Maestra'!$F$43:$F$54,H357,\n     'Base Maestra'!$G$43:$G$54,I357)>0, \"Correcto\", \"Revisar Catálogo\"), \"\")","v":""}]
[null,null,null,null,null,null,null,null,null,null,null,null,null,null,null,null,null,null,null,{"$f":"IF(S358<>\"\",(IF(COUNTIFS('Base Maestra'!$A$42:$A$535,N358,'Base Maestra'!$B$42:$B$535,O358,'Base Maestra'!$C$42:$C$535,P358)>0,\"Correcto\",\"Revisar Catálogo\")),\"\")","v":""},{"$f":"IF(S358<>\"\", IF(COUNTIFS(\n     'Base Maestra'!$F$43:$F$54,H358,\n     'Base Maestra'!$G$43:$G$54,I358)>0, \"Correcto\", \"Revisar Catálogo\"), \"\")","v":""}]
[null,null,null,null,null,null,null,null,null,null,null,null,null,null,null,null,null,null,null,{"$f":"IF(S359<>\"\",(IF(COUNTIFS('Base Maestra'!$A$42:$A$535,N359,'Base Maestra'!$B$42:$B$535,O359,'Base Maestra'!$C$42:$C$535,P359)>0,\"Correcto\",\"Revisar Catálogo\")),\"\")","v":""},{"$f":"IF(S359<>\"\", IF(COUNTIFS(\n     'Base Maestra'!$F$43:$F$54,H359,\n     'Base Maestra'!$G$43:$G$54,I359)>0, \"Correcto\", \"Revisar Catálogo\"), \"\")","v":""}]
[null,null,null,null,null,null,null,null,null,null,null,null,null,null,null,null,null,null,null,{"$f":"IF(S360<>\"\",(IF(COUNTIFS('Base Maestra'!$A$42:$A$535,N360,'Base Maestra'!$B$42:$B$535,O360,'Base Maestra'!$C$42:$C$535,P360)>0,\"Correcto\",\"Revisar Catálogo\")),\"\")","v":""},{"$f":"IF(S360<>\"\", IF(COUNTIFS(\n     'Base Maestra'!$F$43:$F$54,H360,\n     'Base Maestra'!$G$43:$G$54,I360)>0, \"Correcto\", \"Revisar Catálogo\"), \"\")","v":""}]
[null,null,null,null,null,null,null,null,null,null,null,null,null,null,null,null,null,null,null,{"$f":"IF(S361<>\"\",(IF(COUNTIFS('Base Maestra'!$A$42:$A$535,N361,'Base Maestra'!$B$42:$B$535,O361,'Base Maestra'!$C$42:$C$535,P361)>0,\"Correcto\",\"Revisar Catálogo\")),\"\")","v":""},{"$f":"IF(S361<>\"\", IF(COUNTIFS(\n     'Base Maestra'!$F$43:$F$54,H361,\n     'Base Maestra'!$G$43:$G$54,I361)>0, \"Correcto\", \"Revisar Catálogo\"), \"\")","v":""}]
[null,null,null,null,null,null,null,null,null,null,null,null,null,null,null,null,null,null,null,{"$f":"IF(S362<>\"\",(IF(COUNTIFS('Base Maestra'!$A$42:$A$535,N362,'Base Maestra'!$B$42:$B$535,O362,'Base Maestra'!$C$42:$C$535,P362)>0,\"Correcto\",\"Revisar Catálogo\")),\"\")","v":""},{"$f":"IF(S362<>\"\", IF(COUNTIFS(\n     'Base Maestra'!$F$43:$F$54,H362,\n     'Base Maestra'!$G$43:$G$54,I362)>0, \"Correcto\", \"Revisar Catálogo\"), \"\")","v":""}]
[null,null,null,null,null,null,null,null,null,null,null,null,null,null,null,null,null,null,null,{"$f":"IF(S363<>\"\",(IF(COUNTIFS('Base Maestra'!$A$42:$A$535,N363,'Base Maestra'!$B$42:$B$535,O363,'Base Maestra'!$C$42:$C$535,P363)>0,\"Correcto\",\"Revisar Catálogo\")),\"\")","v":""},{"$f":"IF(S363<>\"\", IF(COUNTIFS(\n     'Base Maestra'!$F$43:$F$54,H363,\n     'Base Maestra'!$G$43:$G$54,I363)>0, \"Correcto\", \"Revisar Catálogo\"), \"\")","v":""}]
[null,null,null,null,null,null,null,null,null,null,null,null,null,null,null,null,null,null,null,{"$f":"IF(S364<>\"\",(IF(COUNTIFS('Base Maestra'!$A$42:$A$535,N364,'Base Maestra'!$B$42:$B$535,O364,'Base Maestra'!$C$42:$C$535,P364)>0,\"Correcto\",\"Revisar Catálogo\")),\"\")","v":""},{"$f":"IF(S364<>\"\", IF(COUNTIFS(\n     'Base Maestra'!$F$43:$F$54,H364,\n     'Base Maestra'!$G$43:$G$54,I364)>0, \"Correcto\", \"Revisar Catálogo\"), \"\")","v":""}]
[null,null,null,null,null,null,null,null,null,null,null,null,null,null,null,null,null,null,null,{"$f":"IF(S365<>\"\",(IF(COUNTIFS('Base Maestra'!$A$42:$A$535,N365,'Base Maestra'!$B$42:$B$535,O365,'Base Maestra'!$C$42:$C$535,P365)>0,\"Correcto\",\"Revisar Catálogo\")),\"\")","v":""},{"$f":"IF(S365<>\"\", IF(COUNTIFS(\n     'Base Maestra'!$F$43:$F$54,H365,\n     'Base Maestra'!$G$43:$G$54,I365)>0, \"Correcto\", \"Revisar Catálogo\"), \"\")","v":""}]
[null,null,null,null,null,null,null,null,null,null,null,null,null,null,null,null,null,null,null,{"$f":"IF(S366<>\"\",(IF(COUNTIFS('Base Maestra'!$A$42:$A$535,N366,'Base Maestra'!$B$42:$B$535,O366,'Base Maestra'!$C$42:$C$535,P366)>0,\"Correcto\",\"Revisar Catálogo\")),\"\")","v":""},{"$f":"IF(S366<>\"\", IF(COUNTIFS(\n     'Base Maestra'!$F$43:$F$54,H366,\n     'Base Maestra'!$G$43:$G$54,I366)>0, \"Correcto\", \"Revisar Catálogo\"), \"\")","v":""}]
[null,null,null,null,null,null,null,null,null,null,null,null,null,null,null,null,null,null,null,{"$f":"IF(S367<>\"\",(IF(COUNTIFS('Base Maestra'!$A$42:$A$535,N367,'Base Maestra'!$B$42:$B$535,O367,'Base Maestra'!$C$42:$C$535,P367)>0,\"Correcto\",\"Revisar Catálogo\")),\"\")","v":""},{"$f":"IF(S367<>\"\", IF(COUNTIFS(\n     'Base Maestra'!$F$43:$F$54,H367,\n     'Base Maestra'!$G$43:$G$54,I367)>0, \"Correcto\", \"Revisar Catálogo\"), \"\")","v":""}]
[null,null,null,null,null,null,null,null,null,null,null,null,null,null,null,null,null,null,null,{"$f":"IF(S368<>\"\",(IF(COUNTIFS('Base Maestra'!$A$42:$A$535,N368,'Base Maestra'!$B$42:$B$535,O368,'Base Maestra'!$C$42:$C$535,P368)>0,\"Correcto\",\"Revisar Catálogo\")),\"\")","v":""},{"$f":"IF(S368<>\"\", IF(COUNTIFS(\n     'Base Maestra'!$F$43:$F$54,H368,\n     'Base Maestra'!$G$43:$G$54,I368)>0, \"Correcto\", \"Revisar Catálogo\"), \"\")","v":""}]
[null,null,null,null,null,null,null,null,null,null,null,null,null,null,null,null,null,null,null,{"$f":"IF(S369<>\"\",(IF(COUNTIFS('Base Maestra'!$A$42:$A$535,N369,'Base Maestra'!$B$42:$B$535,O369,'Base Maestra'!$C$42:$C$535,P369)>0,\"Correcto\",\"Revisar Catálogo\")),\"\")","v":""},{"$f":"IF(S369<>\"\", IF(COUNTIFS(\n     'Base Maestra'!$F$43:$F$54,H369,\n     'Base Maestra'!$G$43:$G$54,I369)>0, \"Correcto\", \"Revisar Catálogo\"), \"\")","v":""}]
[null,null,null,null,null,null,null,null,null,null,null,null,null,null,null,null,null,null,null,{"$f":"IF(S370<>\"\",(IF(COUNTIFS('Base Maestra'!$A$42:$A$535,N370,'Base Maestra'!$B$42:$B$535,O370,'Base Maestra'!$C$42:$C$535,P370)>0,\"Correcto\",\"Revisar Catálogo\")),\"\")","v":""},{"$f":"IF(S370<>\"\", IF(COUNTIFS(\n     'Base Maestra'!$F$43:$F$54,H370,\n     'Base Maestra'!$G$43:$G$54,I370)>0, \"Correcto\", \"Revisar Catálogo\"), \"\")","v":""}]
[null,null,null,null,null,null,null,null,null,null,null,null,null,null,null,null,null,null,null,{"$f":"IF(S371<>\"\",(IF(COUNTIFS('Base Maestra'!$A$42:$A$535,N371,'Base Maestra'!$B$42:$B$535,O371,'Base Maestra'!$C$42:$C$535,P371)>0,\"Correcto\",\"Revisar Catálogo\")),\"\")","v":""},{"$f":"IF(S371<>\"\", IF(COUNTIFS(\n     'Base Maestra'!$F$43:$F$54,H371,\n     'Base Maestra'!$G$43:$G$54,I371)>0, \"Correcto\", \"Revisar Catálogo\"), \"\")","v":""}]
[null,null,null,null,null,null,null,null,null,null,null,null,null,null,null,null,null,null,null,{"$f":"IF(S372<>\"\",(IF(COUNTIFS('Base Maestra'!$A$42:$A$535,N372,'Base Maestra'!$B$42:$B$535,O372,'Base Maestra'!$C$42:$C$535,P372)>0,\"Correcto\",\"Revisar Catálogo\")),\"\")","v":""},{"$f":"IF(S372<>\"\", IF(COUNTIFS(\n     'Base Maestra'!$F$43:$F$54,H372,\n     'Base Maestra'!$G$43:$G$54,I372)>0, \"Correcto\", \"Revisar Catálogo\"), \"\")","v":""}]
[null,null,null,null,null,null,null,null,null,null,null,null,null,null,null,null,null,null,null,{"$f":"IF(S373<>\"\",(IF(COUNTIFS('Base Maestra'!$A$42:$A$535,N373,'Base Maestra'!$B$42:$B$535,O373,'Base Maestra'!$C$42:$C$535,P373)>0,\"Correcto\",\"Revisar Catálogo\")),\"\")","v":""},{"$f":"IF(S373<>\"\", IF(COUNTIFS(\n     'Base Maestra'!$F$43:$F$54,H373,\n     'Base Maestra'!$G$43:$G$54,I373)>0, \"Correcto\", \"Revisar Catálogo\"), \"\")","v":""}]
[null,null,null,null,null,null,null,null,null,null,null,null,null,null,null,null,null,null,null,{"$f":"IF(S374<>\"\",(IF(COUNTIFS('Base Maestra'!$A$42:$A$535,N374,'Base Maestra'!$B$42:$B$535,O374,'Base Maestra'!$C$42:$C$535,P374)>0,\"Correcto\",\"Revisar Catálogo\")),\"\")","v":""},{"$f":"IF(S374<>\"\", IF(COUNTIFS(\n     'Base Maestra'!$F$43:$F$54,H374,\n     'Base Maestra'!$G$43:$G$54,I374)>0, \"Correcto\", \"Revisar Catálogo\"), \"\")","v":""}]
[null,null,null,null,null,null,null,null,null,null,null,null,null,null,null,null,null,null,null,{"$f":"IF(S375<>\"\",(IF(COUNTIFS('Base Maestra'!$A$42:$A$535,N375,'Base Maestra'!$B$42:$B$535,O375,'Base Maestra'!$C$42:$C$535,P375)>0,\"Correcto\",\"Revisar Catálogo\")),\"\")","v":""},{"$f":"IF(S375<>\"\", IF(COUNTIFS(\n     'Base Maestra'!$F$43:$F$54,H375,\n     'Base Maestra'!$G$43:$G$54,I375)>0, \"Correcto\", \"Revisar Catálogo\"), \"\")","v":""}]
[null,null,null,null,null,null,null,null,null,null,null,null,null,null,null,null,null,null,null,{"$f":"IF(S376<>\"\",(IF(COUNTIFS('Base Maestra'!$A$42:$A$535,N376,'Base Maestra'!$B$42:$B$535,O376,'Base Maestra'!$C$42:$C$535,P376)>0,\"Correcto\",\"Revisar Catálogo\")),\"\")","v":""},{"$f":"IF(S376<>\"\", IF(COUNTIFS(\n     'Base Maestra'!$F$43:$F$54,H376,\n     'Base Maestra'!$G$43:$G$54,I376)>0, \"Correcto\", \"Revisar Catálogo\"), \"\")","v":""}]
[null,null,null,null,null,null,null,null,null,null,null,null,null,null,null,null,null,null,null,{"$f":"IF(S377<>\"\",(IF(COUNTIFS('Base Maestra'!$A$42:$A$535,N377,'Base Maestra'!$B$42:$B$535,O377,'Base Maestra'!$C$42:$C$535,P377)>0,\"Correcto\",\"Revisar Catálogo\")),\"\")","v":""},{"$f":"IF(S377<>\"\", IF(COUNTIFS(\n     'Base Maestra'!$F$43:$F$54,H377,\n     'Base Maestra'!$G$43:$G$54,I377)>0, \"Correcto\", \"Revisar Catálogo\"), \"\")","v":""}]
[null,null,null,null,null,null,null,null,null,null,null,null,null,null,null,null,null,null,null,{"$f":"IF(S378<>\"\",(IF(COUNTIFS('Base Maestra'!$A$42:$A$535,N378,'Base Maestra'!$B$42:$B$535,O378,'Base Maestra'!$C$42:$C$535,P378)>0,\"Correcto\",\"Revisar Catálogo\")),\"\")","v":""},{"$f":"IF(S378<>\"\", IF(COUNTIFS(\n     'Base Maestra'!$F$43:$F$54,H378,\n     'Base Maestra'!$G$43:$G$54,I378)>0, \"Correcto\", \"Revisar Catálogo\"), \"\")","v":""}]
[null,null,null,null,null,null,null,null,null,null,null,null,null,null,null,null,null,null,null,{"$f":"IF(S379<>\"\",(IF(COUNTIFS('Base Maestra'!$A$42:$A$535,N379,'Base Maestra'!$B$42:$B$535,O379,'Base Maestra'!$C$42:$C$535,P379)>0,\"Correcto\",\"Revisar Catálogo\")),\"\")","v":""},{"$f":"IF(S379<>\"\", IF(COUNTIFS(\n     'Base Maestra'!$F$43:$F$54,H379,\n     'Base Maestra'!$G$43:$G$54,I379)>0, \"Correcto\", \"Revisar Catálogo\"), \"\")","v":""}]
[null,null,null,null,null,null,null,null,null,null,null,null,null,null,null,null,null,null,null,{"$f":"IF(S380<>\"\",(IF(COUNTIFS('Base Maestra'!$A$42:$A$535,N380,'Base Maestra'!$B$42:$B$535,O380,'Base Maestra'!$C$42:$C$535,P380)>0,\"Correcto\",\"Revisar Catálogo\")),\"\")","v":""},{"$f":"IF(S380<>\"\", IF(COUNTIFS(\n     'Base Maestra'!$F$43:$F$54,H380,\n     'Base Maestra'!$G$43:$G$54,I380)>0, \"Correcto\", \"Revisar Catálogo\"), \"\")","v":""}]
[null,null,null,null,null,null,null,null,null,null,null,null,null,null,null,null,null,null,null,{"$f":"IF(S381<>\"\",(IF(COUNTIFS('Base Maestra'!$A$42:$A$535,N381,'Base Maestra'!$B$42:$B$535,O381,'Base Maestra'!$C$42:$C$535,P381)>0,\"Correcto\",\"Revisar Catálogo\")),\"\")","v":""},{"$f":"IF(S381<>\"\", IF(COUNTIFS(\n     'Base Maestra'!$F$43:$F$54,H381,\n     'Base Maestra'!$G$43:$G$54,I381)>0, \"Correcto\", \"Revisar Catálogo\"), \"\")","v":""}]
[null,null,null,null,null,null,null,null,null,null,null,null,null,null,null,null,null,null,null,{"$f":"IF(S382<>\"\",(IF(COUNTIFS('Base Maestra'!$A$42:$A$535,N382,'Base Maestra'!$B$42:$B$535,O382,'Base Maestra'!$C$42:$C$535,P382)>0,\"Correcto\",\"Revisar Catálogo\")),\"\")","v":""},{"$f":"IF(S382<>\"\", IF(COUNTIFS(\n     'Base Maestra'!$F$43:$F$54,H382,\n     'Base Maestra'!$G$43:$G$54,I382)>0, \"Correcto\", \"Revisar Catálogo\"), \"\")","v":""}]
[null,null,null,null,null,null,null,null,null,null,null,null,null,null,null,null,null,null,null,{"$f":"IF(S383<>\"\",(IF(COUNTIFS('Base Maestra'!$A$42:$A$535,N383,'Base Maestra'!$B$42:$B$535,O383,'Base Maestra'!$C$42:$C$535,P383)>0,\"Correcto\",\"Revisar Catálogo\")),\"\")","v":""},{"$f":"IF(S383<>\"\", IF(COUNTIFS(\n     'Base Maestra'!$F$43:$F$54,H383,\n     'Base Maestra'!$G$43:$G$54,I383)>0, \"Correcto\", \"Revisar Catálogo\"), \"\")","v":""}]
[null,null,null,null,null,null,null,null,null,null,null,null,null,null,null,null,null,null,null,{"$f":"IF(S384<>\"\",(IF(COUNTIFS('Base Maestra'!$A$42:$A$535,N384,'Base Maestra'!$B$42:$B$535,O384,'Base Maestra'!$C$42:$C$535,P384)>0,\"Correcto\",\"Revisar Catálogo\")),\"\")","v":""},{"$f":"IF(S384<>\"\", IF(COUNTIFS(\n     'Base Maestra'!$F$43:$F$54,H384,\n     'Base Maestra'!$G$43:$G$54,I384)>0, \"Correcto\", \"Revisar Catálogo\"), \"\")","v":""}]
[null,null,null,null,null,null,null,null,null,null,null,null,null,null,null,null,null,null,null,{"$f":"IF(S385<>\"\",(IF(COUNTIFS('Base Maestra'!$A$42:$A$535,N385,'Base Maestra'!$B$42:$B$535,O385,'Base Maestra'!$C$42:$C$535,P385)>0,\"Correcto\",\"Revisar Catálogo\")),\"\")","v":""},{"$f":"IF(S385<>\"\", IF(COUNTIFS(\n     'Base Maestra'!$F$43:$F$54,H385,\n     'Base Maestra'!$G$43:$G$54,I385)>0, \"Correcto\", \"Revisar Catálogo\"), \"\")","v":""}]
[null,null,null,null,null,null,null,null,null,null,null,null,null,null,null,null,null,null,null,{"$f":"IF(S386<>\"\",(IF(COUNTIFS('Base Maestra'!$A$42:$A$535,N386,'Base Maestra'!$B$42:$B$535,O386,'Base Maestra'!$C$42:$C$535,P386)>0,\"Correcto\",\"Revisar Catálogo\")),\"\")","v":""},{"$f":"IF(S386<>\"\", IF(COUNTIFS(\n     'Base Maestra'!$F$43:$F$54,H386,\n     'Base Maestra'!$G$43:$G$54,I386)>0, \"Correcto\", \"Revisar Catálogo\"), \"\")","v":""}]
[null,null,null,null,null,null,null,null,null,null,null,null,null,null,null,null,null,null,null,{"$f":"IF(S387<>\"\",(IF(COUNTIFS('Base Maestra'!$A$42:$A$535,N387,'Base Maestra'!$B$42:$B$535,O387,'Base Maestra'!$C$42:$C$535,P387)>0,\"Correcto\",\"Revisar Catálogo\")),\"\")","v":""},{"$f":"IF(S387<>\"\", IF(COUNTIFS(\n     'Base Maestra'!$F$43:$F$54,H387,\n     'Base Maestra'!$G$43:$G$54,I387)>0, \"Correcto\", \"Revisar Catálogo\"), \"\")","v":""}]
[null,null,null,null,null,null,null,null,null,null,null,null,null,null,null,null,null,null,null,{"$f":"IF(S388<>\"\",(IF(COUNTIFS('Base Maestra'!$A$42:$A$535,N388,'Base Maestra'!$B$42:$B$535,O388,'Base Maestra'!$C$42:$C$535,P388)>0,\"Correcto\",\"Revisar Catálogo\")),\"\")","v":""},{"$f":"IF(S388<>\"\", IF(COUNTIFS(\n     'Base Maestra'!$F$43:$F$54,H388,\n     'Base Maestra'!$G$43:$G$54,I388)>0, \"Correcto\", \"Revisar Catálogo\"), \"\")","v":""}]
[null,null,null,null,null,null,null,null,null,null,null,null,null,null,null,null,null,null,null,{"$f":"IF(S389<>\"\",(IF(COUNTIFS('Base Maestra'!$A$42:$A$535,N389,'Base Maestra'!$B$42:$B$535,O389,'Base Maestra'!$C$42:$C$535,P389)>0,\"Correcto\",\"Revisar Catálogo\")),\"\")","v":""},{"$f":"IF(S389<>\"\", IF(COUNTIFS(\n     'Base Maestra'!$F$43:$F$54,H389,\n     'Base Maestra'!$G$43:$G$54,I389)>0, \"Correcto\", \"Revisar Catálogo\"), \"\")","v":""}]
[null,null,null,null,null,null,null,null,null,null,null,null,null,null,null,null,null,null,null,{"$f":"IF(S390<>\"\",(IF(COUNTIFS('Base Maestra'!$A$42:$A$535,N390,'Base Maestra'!$B$42:$B$535,O390,'Base Maestra'!$C$42:$C$535,P390)>0,\"Correcto\",\"Revisar Catálogo\")),\"\")","v":""},{"$f":"IF(S390<>\"\", IF(COUNTIFS(\n     'Base Maestra'!$F$43:$F$54,H390,\n     'Base Maestra'!$G$43:$G$54,I390)>0, \"Correcto\", \"Revisar Catálogo\"), \"\")","v":""}]
[null,null,null,null,null,null,null,null,null,null,null,null,null,null,null,null,null,null,null,{"$f":"IF(S391<>\"\",(IF(COUNTIFS('Base Maestra'!$A$42:$A$535,N391,'Base Maestra'!$B$42:$B$535,O391,'Base Maestra'!$C$42:$C$535,P391)>0,\"Correcto\",\"Revisar Catálogo\")),\"\")","v":""},{"$f":"IF(S391<>\"\", IF(COUNTIFS(\n     'Base Maestra'!$F$43:$F$54,H391,\n     'Base Maestra'!$G$43:$G$54,I391)>0, \"Correcto\", \"Revisar Catálogo\"), \"\")","v":""}]
[null,null,null,null,null,null,null,null,null,null,null,null,null,null,null,null,null,null,null,{"$f":"IF(S392<>\"\",(IF(COUNTIFS('Base Maestra'!$A$42:$A$535,N392,'Base Maestra'!$B$42:$B$535,O392,'Base Maestra'!$C$42:$C$535,P392)>0,\"Correcto\",\"Revisar Catálogo\")),\"\")","v":""},{"$f":"IF(S392<>\"\", IF(COUNTIFS(\n     'Base Maestra'!$F$43:$F$54,H392,\n     'Base Maestra'!$G$43:$G$54,I392)>0, \"Correcto\", \"Revisar Catálogo\"), \"\")","v":""}]
[null,null,null,null,null,null,null,null,null,null,null,null,null,null,null,null,null,null,null,{"$f":"IF(S393<>\"\",(IF(COUNTIFS('Base Maestra'!$A$42:$A$535,N393,'Base Maestra'!$B$42:$B$535,O393,'Base Maestra'!$C$42:$C$535,P393)>0,\"Correcto\",\"Revisar Catálogo\")),\"\")","v":""},{"$f":"IF(S393<>\"\", IF(COUNTIFS(\n     'Base Maestra'!$F$43:$F$54,H393,\n     'Base Maestra'!$G$43:$G$54,I393)>0, \"Correcto\", \"Revisar Catálogo\"), \"\")","v":""}]
[null,null,null,null,null,null,null,null,null,null,null,null,null,null,null,null,null,null,null,{"$f":"IF(S394<>\"\",(IF(COUNTIFS('Base Maestra'!$A$42:$A$535,N394,'Base Maestra'!$B$42:$B$535,O394,'Base Maestra'!$C$42:$C$535,P394)>0,\"Correcto\",\"Revisar Catálogo\")),\"\")","v":""},{"$f":"IF(S394<>\"\", IF(COUNTIFS(\n     'Base Maestra'!$F$43:$F$54,H394,\n     'Base Maestra'!$G$43:$G$54,I394)>0, \"Correcto\", \"Revisar Catálogo\"), \"\")","v":""}]
[null,null,null,null,null,null,null,null,null,null,null,null,null,null,null,null,null,null,null,{"$f":"IF(S395<>\"\",(IF(COUNTIFS('Base Maestra'!$A$42:$A$535,N395,'Base Maestra'!$B$42:$B$535,O395,'Base Maestra'!$C$42:$C$535,P395)>0,\"Correcto\",\"Revisar Catálogo\")),\"\")","v":""},{"$f":"IF(S395<>\"\", IF(COUNTIFS(\n     'Base Maestra'!$F$43:$F$54,H395,\n     'Base Maestra'!$G$43:$G$54,I395)>0, \"Correcto\", \"Revisar Catálogo\"), \"\")","v":""}]
[null,null,null,null,null,null,null,null,null,null,null,null,null,null,null,null,null,null,null,{"$f":"IF(S396<>\"\",(IF(COUNTIFS('Base Maestra'!$A$42:$A$535,N396,'Base Maestra'!$B$42:$B$535,O396,'Base Maestra'!$C$42:$C$535,P396)>0,\"Correcto\",\"Revisar Catálogo\")),\"\")","v":""},{"$f":"IF(S396<>\"\", IF(COUNTIFS(\n     'Base Maestra'!$F$43:$F$54,H396,\n     'Base Maestra'!$G$43:$G$54,I396)>0, \"Correcto\", \"Revisar Catálogo\"), \"\")","v":""}]
[null,null,null,null,null,null,null,null,null,null,null,null,null,null,null,null,null,null,null,{"$f":"IF(S397<>\"\",(IF(COUNTIFS('Base Maestra'!$A$42:$A$535,N397,'Base Maestra'!$B$42:$B$535,O397,'Base Maestra'!$C$42:$C$535,P397)>0,\"Correcto\",\"Revisar Catálogo\")),\"\")","v":""},{"$f":"IF(S397<>\"\", IF(COUNTIFS(\n     'Base Maestra'!$F$43:$F$54,H397,\n     'Base Maestra'!$G$43:$G$54,I397)>0, \"Correcto\", \"Revisar Catálogo\"), \"\")","v":""}]
[null,null,null,null,null,null,null,null,null,null,null,null,null,null,null,null,null,null,null,{"$f":"IF(S398<>\"\",(IF(COUNTIFS('Base Maestra'!$A$42:$A$535,N398,'Base Maestra'!$B$42:$B$535,O398,'Base Maestra'!$C$42:$C$535,P398)>0,\"Correcto\",\"Revisar Catálogo\")),\"\")","v":""},{"$f":"IF(S398<>\"\", IF(COUNTIFS(\n     'Base Maestra'!$F$43:$F$54,H398,\n     'Base Maestra'!$G$43:$G$54,I398)>0, \"Correcto\", \"Revisar Catálogo\"), \"\")","v":""}]
[null,null,null,null,null,null,null,null,null,null,null,null,null,null,null,null,null,null,null,{"$f":"IF(S399<>\"\",(IF(COUNTIFS('Base Maestra'!$A$42:$A$535,N399,'Base Maestra'!$B$42:$B$535,O399,'Base Maestra'!$C$42:$C$535,P399)>0,\"Correcto\",\"Revisar Catálogo\")),\"\")","v":""},{"$f":"IF(S399<>\"\", IF(COUNTIFS(\n     'Base Maestra'!$F$43:$F$54,H399,\n     'Base Maestra'!$G$43:$G$54,I399)>0, \"Correcto\", \"Revisar Catálogo\"), \"\")","v":""}]
[null,null,null,null,null,null,null,null,null,null,null,null,null,null,null,null,null,null,null,{"$f":"IF(S400<>\"\",(IF(COUNTIFS('Base Maestra'!$A$42:$A$535,N400,'Base Maestra'!$B$42:$B$535,O400,'Base Maestra'!$C$42:$C$535,P400)>0,\"Correcto\",\"Revisar Catálogo\")),\"\")","v":""},{"$f":"IF(S400<>\"\", IF(COUNTIFS(\n     'Base Maestra'!$F$43:$F$54,H400,\n     'Base Maestra'!$G$43:$G$54,I400)>0, \"Correcto\", \"Revisar Catálogo\"), \"\")","v":""}]
[null,null,null,null,null,null,null,null,null,null,null,null,null,null,null,null,null,null,null,{"$f":"IF(S401<>\"\",(IF(COUNTIFS('Base Maestra'!$A$42:$A$535,N401,'Base Maestra'!$B$42:$B$535,O401,'Base Maestra'!$C$42:$C$535,P401)>0,\"Correcto\",\"Revisar Catálogo\")),\"\")","v":""},{"$f":"IF(S401<>\"\", IF(COUNTIFS(\n     'Base Maestra'!$F$43:$F$54,H401,\n     'Base Maestra'!$G$43:$G$54,I401)>0, \"Correcto\", \"Revisar Catálogo\"), \"\")","v":""}]
[null,null,null,null,null,null,null,null,null,null,null,null,null,null,null,null,null,null,null,{"$f":"IF(S402<>\"\",(IF(COUNTIFS('Base Maestra'!$A$42:$A$535,N402,'Base Maestra'!$B$42:$B$535,O402,'Base Maestra'!$C$42:$C$535,P402)>0,\"Correcto\",\"Revisar Catálogo\")),\"\")","v":""},{"$f":"IF(S402<>\"\", IF(COUNTIFS(\n     'Base Maestra'!$F$43:$F$54,H402,\n     'Base Maestra'!$G$43:$G$54,I402)>0, \"Correcto\", \"Revisar Catálogo\"), \"\")","v":""}]
[null,null,null,null,null,null,null,null,null,null,null,null,null,null,null,null,null,null,null,{"$f":"IF(S403<>\"\",(IF(COUNTIFS('Base Maestra'!$A$42:$A$535,N403,'Base Maestra'!$B$42:$B$535,O403,'Base Maestra'!$C$42:$C$535,P403)>0,\"Correcto\",\"Revisar Catálogo\")),\"\")","v":""},{"$f":"IF(S403<>\"\", IF(COUNTIFS(\n     'Base Maestra'!$F$43:$F$54,H403,\n     'Base Maestra'!$G$43:$G$54,I403)>0, \"Correcto\", \"Revisar Catálogo\"), \"\")","v":""}]
[null,null,null,null,null,null,null,null,null,null,null,null,null,null,null,null,null,null,null,{"$f":"IF(S404<>\"\",(IF(COUNTIFS('Base Maestra'!$A$42:$A$535,N404,'Base Maestra'!$B$42:$B$535,O404,'Base Maestra'!$C$42:$C$535,P404)>0,\"Correcto\",\"Revisar Catálogo\")),\"\")","v":""},{"$f":"IF(S404<>\"\", IF(COUNTIFS(\n     'Base Maestra'!$F$43:$F$54,H404,\n     'Base Maestra'!$G$43:$G$54,I404)>0, \"Correcto\", \"Revisar Catálogo\"), \"\")","v":""}]
[null,null,null,null,null,null,null,null,null,null,null,null,null,null,null,null,null,null,null,{"$f":"IF(S405<>\"\",(IF(COUNTIFS('Base Maestra'!$A$42:$A$535,N405,'Base Maestra'!$B$42:$B$535,O405,'Base Maestra'!$C$42:$C$535,P405)>0,\"Correcto\",\"Revisar Catálogo\")),\"\")","v":""},{"$f":"IF(S405<>\"\", IF(COUNTIFS(\n     'Base Maestra'!$F$43:$F$54,H405,\n     'Base Maestra'!$G$43:$G$54,I405)>0, \"Correcto\", \"Revisar Catálogo\"), \"\")","v":""}]
[null,null,null,null,null,null,null,null,null,null,null,null,null,null,null,null,null,null,null,{"$f":"IF(S406<>\"\",(IF(COUNTIFS('Base Maestra'!$A$42:$A$535,N406,'Base Maestra'!$B$42:$B$535,O406,'Base Maestra'!$C$42:$C$535,P406)>0,\"Correcto\",\"Revisar Catálogo\")),\"\")","v":""},{"$f":"IF(S406<>\"\", IF(COUNTIFS(\n     'Base Maestra'!$F$43:$F$54,H406,\n     'Base Maestra'!$G$43:$G$54,I406)>0, \"Correcto\", \"Revisar Catálogo\"), \"\")","v":""}]
[null,null,null,null,null,null,null,null,null,null,null,null,null,null,null,null,null,null,null,{"$f":"IF(S407<>\"\",(IF(COUNTIFS('Base Maestra'!$A$42:$A$535,N407,'Base Maestra'!$B$42:$B$535,O407,'Base Maestra'!$C$42:$C$535,P407)>0,\"Correcto\",\"Revisar Catálogo\")),\"\")","v":""},{"$f":"IF(S407<>\"\", IF(COUNTIFS(\n     'Base Maestra'!$F$43:$F$54,H407,\n     'Base Maestra'!$G$43:$G$54,I407)>0, \"Correcto\", \"Revisar Catálogo\"), \"\")","v":""}]
[null,null,null,null,null,null,null,null,null,null,null,null,null,null,null,null,null,null,null,{"$f":"IF(S408<>\"\",(IF(COUNTIFS('Base Maestra'!$A$42:$A$535,N408,'Base Maestra'!$B$42:$B$535,O408,'Base Maestra'!$C$42:$C$535,P408)>0,\"Correcto\",\"Revisar Catálogo\")),\"\")","v":""},{"$f":"IF(S408<>\"\", IF(COUNTIFS(\n     'Base Maestra'!$F$43:$F$54,H408,\n     'Base Maestra'!$G$43:$G$54,I408)>0, \"Correcto\", \"Revisar Catálogo\"), \"\")","v":""}]
[null,null,null,null,null,null,null,null,null,null,null,null,null,null,null,null,null,null,null,{"$f":"IF(S409<>\"\",(IF(COUNTIFS('Base Maestra'!$A$42:$A$535,N409,'Base Maestra'!$B$42:$B$535,O409,'Base Maestra'!$C$42:$C$535,P409)>0,\"Correcto\",\"Revisar Catálogo\")),\"\")","v":""},{"$f":"IF(S409<>\"\", IF(COUNTIFS(\n     'Base Maestra'!$F$43:$F$54,H409,\n     'Base Maestra'!$G$43:$G$54,I409)>0, \"Correcto\", \"Revisar Catálogo\"), \"\")","v":""}]
[null,null,null,null,null,null,null,null,null,null,null,null,null,null,null,null,null,null,null,{"$f":"IF(S410<>\"\",(IF(COUNTIFS('Base Maestra'!$A$42:$A$535,N410,'Base Maestra'!$B$42:$B$535,O410,'Base Maestra'!$C$42:$C$535,P410)>0,\"Correcto\",\"Revisar Catálogo\")),\"\")","v":""},{"$f":"IF(S410<>\"\", IF(COUNTIFS(\n     'Base Maestra'!$F$43:$F$54,H410,\n     'Base Maestra'!$G$43:$G$54,I410)>0, \"Correcto\", \"Revisar Catálogo\"), \"\")","v":""}]
[null,null,null,null,null,null,null,null,null,null,null,null,null,null,null,null,null,null,null,{"$f":"IF(S411<>\"\",(IF(COUNTIFS('Base Maestra'!$A$42:$A$535,N411,'Base Maestra'!$B$42:$B$535,O411,'Base Maestra'!$C$42:$C$535,P411)>0,\"Correcto\",\"Revisar Catálogo\")),\"\")","v":""},{"$f":"IF(S411<>\"\", IF(COUNTIFS(\n     'Base Maestra'!$F$43:$F$54,H411,\n     'Base Maestra'!$G$43:$G$54,I411)>0, \"Correcto\", \"Revisar Catálogo\"), \"\")","v":""}]
[null,null,null,null,null,null,null,null,null,null,null,null,null,null,null,null,null,null,null,{"$f":"IF(S412<>\"\",(IF(COUNTIFS('Base Maestra'!$A$42:$A$535,N412,'Base Maestra'!$B$42:$B$535,O412,'Base Maestra'!$C$42:$C$535,P412)>0,\"Correcto\",\"Revisar Catálogo\")),\"\")","v":""},{"$f":"IF(S412<>\"\", IF(COUNTIFS(\n     'Base Maestra'!$F$43:$F$54,H412,\n     'Base Maestra'!$G$43:$G$54,I412)>0, \"Correcto\", \"Revisar Catálogo\"), \"\")","v":""}]
[null,null,null,null,null,null,null,null,null,null,null,null,null,null,null,null,null,null,null,{"$f":"IF(S413<>\"\",(IF(COUNTIFS('Base Maestra'!$A$42:$A$535,N413,'Base Maestra'!$B$42:$B$535,O413,'Base Maestra'!$C$42:$C$535,P413)>0,\"Correcto\",\"Revisar Catálogo\")),\"\")","v":""},{"$f":"IF(S413<>\"\", IF(COUNTIFS(\n     'Base Maestra'!$F$43:$F$54,H413,\n     'Base Maestra'!$G$43:$G$54,I413)>0, \"Correcto\", \"Revisar Catálogo\"), \"\")","v":""}]
[null,null,null,null,null,null,null,null,null,null,null,null,null,null,null,null,null,null,null,{"$f":"IF(S414<>\"\",(IF(COUNTIFS('Base Maestra'!$A$42:$A$535,N414,'Base Maestra'!$B$42:$B$535,O414,'Base Maestra'!$C$42:$C$535,P414)>0,\"Correcto\",\"Revisar Catálogo\")),\"\")","v":""},{"$f":"IF(S414<>\"\", IF(COUNTIFS(\n     'Base Maestra'!$F$43:$F$54,H414,\n     'Base Maestra'!$G$43:$G$54,I414)>0, \"Correcto\", \"Revisar Catálogo\"), \"\")","v":""}]
[null,null,null,null,null,null,null,null,null,null,null,null,null,null,null,null,null,null,null,{"$f":"IF(S415<>\"\",(IF(COUNTIFS('Base Maestra'!$A$42:$A$535,N415,'Base Maestra'!$B$42:$B$535,O415,'Base Maestra'!$C$42:$C$535,P415)>0,\"Correcto\",\"Revisar Catálogo\")),\"\")","v":""},{"$f":"IF(S415<>\"\", IF(COUNTIFS(\n     'Base Maestra'!$F$43:$F$54,H415,\n     'Base Maestra'!$G$43:$G$54,I415)>0, \"Correcto\", \"Revisar Catálogo\"), \"\")","v":""}]
[null,null,null,null,null,null,null,null,null,null,null,null,null,null,null,null,null,null,null,{"$f":"IF(S416<>\"\",(IF(COUNTIFS('Base Maestra'!$A$42:$A$535,N416,'Base Maestra'!$B$42:$B$535,O416,'Base Maestra'!$C$42:$C$535,P416)>0,\"Correcto\",\"Revisar Catálogo\")),\"\")","v":""},{"$f":"IF(S416<>\"\", IF(COUNTIFS(\n     'Base Maestra'!$F$43:$F$54,H416,\n     'Base Maestra'!$G$43:$G$54,I416)>0, \"Correcto\", \"Revisar Catálogo\"), \"\")","v":""}]
[null,null,null,null,null,null,null,null,null,null,null,null,null,null,null,null,null,null,null,{"$f":"IF(S417<>\"\",(IF(COUNTIFS('Base Maestra'!$A$42:$A$535,N417,'Base Maestra'!$B$42:$B$535,O417,'Base Maestra'!$C$42:$C$535,P417)>0,\"Correcto\",\"Revisar Catálogo\")),\"\")","v":""},{"$f":"IF(S417<>\"\", IF(COUNTIFS(\n     'Base Maestra'!$F$43:$F$54,H417,\n     'Base Maestra'!$G$43:$G$54,I417)>0, \"Correcto\", \"Revisar Catálogo\"), \"\")","v":""}]
[null,null,null,null,null,null,null,null,null,null,null,null,null,null,null,null,null,null,null,{"$f":"IF(S418<>\"\",(IF(COUNTIFS('Base Maestra'!$A$42:$A$535,N418,'Base Maestra'!$B$42:$B$535,O418,'Base Maestra'!$C$42:$C$535,P418)>0,\"Correcto\",\"Revisar Catálogo\")),\"\")","v":""},{"$f":"IF(S418<>\"\", IF(COUNTIFS(\n     'Base Maestra'!$F$43:$F$54,H418,\n     'Base Maestra'!$G$43:$G$54,I418)>0, \"Correcto\", \"Revisar Catálogo\"), \"\")","v":""}]
[null,null,null,null,null,null,null,null,null,null,null,null,null,null,null,null,null,null,null,{"$f":"IF(S419<>\"\",(IF(COUNTIFS('Base Maestra'!$A$42:$A$535,N419,'Base Maestra'!$B$42:$B$535,O419,'Base Maestra'!$C$42:$C$535,P419)>0,\"Correcto\",\"Revisar Catálogo\")),\"\")","v":""},{"$f":"IF(S419<>\"\", IF(COUNTIFS(\n     'Base Maestra'!$F$43:$F$54,H419,\n     'Base Maestra'!$G$43:$G$54,I419)>0, \"Correcto\", \"Revisar Catálogo\"), \"\")","v":""}]
[null,null,null,null,null,null,null,null,null,null,null,null,null,null,null,null,null,null,null,{"$f":"IF(S420<>\"\",(IF(COUNTIFS('Base Maestra'!$A$42:$A$535,N420,'Base Maestra'!$B$42:$B$535,O420,'Base Maestra'!$C$42:$C$535,P420)>0,\"Correcto\",\"Revisar Catálogo\")),\"\")","v":""},{"$f":"IF(S420<>\"\", IF(COUNTIFS(\n     'Base Maestra'!$F$43:$F$54,H420,\n     'Base Maestra'!$G$43:$G$54,I420)>0, \"Correcto\", \"Revisar Catálogo\"), \"\")","v":""}]
[null,null,null,null,null,null,null,null,null,null,null,null,null,null,null,null,null,null,null,{"$f":"IF(S421<>\"\",(IF(COUNTIFS('Base Maestra'!$A$42:$A$535,N421,'Base Maestra'!$B$42:$B$535,O421,'Base Maestra'!$C$42:$C$535,P421)>0,\"Correcto\",\"Revisar Catálogo\")),\"\")","v":""},{"$f":"IF(S421<>\"\", IF(COUNTIFS(\n     'Base Maestra'!$F$43:$F$54,H421,\n     'Base Maestra'!$G$43:$G$54,I421)>0, \"Correcto\", \"Revisar Catálogo\"), \"\")","v":""}]
[null,null,null,null,null,null,null,null,null,null,null,null,null,null,null,null,null,null,null,{"$f":"IF(S422<>\"\",(IF(COUNTIFS('Base Maestra'!$A$42:$A$535,N422,'Base Maestra'!$B$42:$B$535,O422,'Base Maestra'!$C$42:$C$535,P422)>0,\"Correcto\",\"Revisar Catálogo\")),\"\")","v":""},{"$f":"IF(S422<>\"\", IF(COUNTIFS(\n     'Base Maestra'!$F$43:$F$54,H422,\n     'Base Maestra'!$G$43:$G$54,I422)>0, \"Correcto\", \"Revisar Catálogo\"), \"\")","v":""}]
[null,null,null,null,null,null,null,null,null,null,null,null,null,null,null,null,null,null,null,{"$f":"IF(S423<>\"\",(IF(COUNTIFS('Base Maestra'!$A$42:$A$535,N423,'Base Maestra'!$B$42:$B$535,O423,'Base Maestra'!$C$42:$C$535,P423)>0,\"Correcto\",\"Revisar Catálogo\")),\"\")","v":""},{"$f":"IF(S423<>\"\", IF(COUNTIFS(\n     'Base Maestra'!$F$43:$F$54,H423,\n     'Base Maestra'!$G$43:$G$54,I423)>0, \"Correcto\", \"Revisar Catálogo\"), \"\")","v":""}]
[null,null,null,null,null,null,null,null,null,null,null,null,null,null,null,null,null,null,null,{"$f":"IF(S424<>\"\",(IF(COUNTIFS('Base Maestra'!$A$42:$A$535,N424,'Base Maestra'!$B$42:$B$535,O424,'Base Maestra'!$C$42:$C$535,P424)>0,\"Correcto\",\"Revisar Catálogo\")),\"\")","v":""},{"$f":"IF(S424<>\"\", IF(COUNTIFS(\n     'Base Maestra'!$F$43:$F$54,H424,\n     'Base Maestra'!$G$43:$G$54,I424)>0, \"Correcto\", \"Revisar Catálogo\"), \"\")","v":""}]
[null,null,null,null,null,null,null,null,null,null,null,null,null,null,null,null,null,null,null,{"$f":"IF(S425<>\"\",(IF(COUNTIFS('Base Maestra'!$A$42:$A$535,N425,'Base Maestra'!$B$42:$B$535,O425,'Base Maestra'!$C$42:$C$535,P425)>0,\"Correcto\",\"Revisar Catálogo\")),\"\")","v":""},{"$f":"IF(S425<>\"\", IF(COUNTIFS(\n     'Base Maestra'!$F$43:$F$54,H425,\n     'Base Maestra'!$G$43:$G$54,I425)>0, \"Correcto\", \"Revisar Catálogo\"), \"\")","v":""}]
[null,null,null,null,null,null,null,null,null,null,null,null,null,null,null,null,null,null,null,{"$f":"IF(S426<>\"\",(IF(COUNTIFS('Base Maestra'!$A$42:$A$535,N426,'Base Maestra'!$B$42:$B$535,O426,'Base Maestra'!$C$42:$C$535,P426)>0,\"Correcto\",\"Revisar Catálogo\")),\"\")","v":""},{"$f":"IF(S426<>\"\", IF(COUNTIFS(\n     'Base Maestra'!$F$43:$F$54,H426,\n     'Base Maestra'!$G$43:$G$54,I426)>0, \"Correcto\", \"Revisar Catálogo\"), \"\")","v":""}]
[null,null,null,null,null,null,null,null,null,null,null,null,null,null,null,null,null,null,null,{"$f":"IF(S427<>\"\",(IF(COUNTIFS('Base Maestra'!$A$42:$A$535,N427,'Base Maestra'!$B$42:$B$535,O427,'Base Maestra'!$C$42:$C$535,P427)>0,\"Correcto\",\"Revisar Catálogo\")),\"\")","v":""},{"$f":"IF(S427<>\"\", IF(COUNTIFS(\n     'Base Maestra'!$F$43:$F$54,H427,\n     'Base Maestra'!$G$43:$G$54,I427)>0, \"Correcto\", \"Revisar Catálogo\"), \"\")","v":""}]
[null,null,null,null,null,null,null,null,null,null,null,null,null,null,null,null,null,null,null,{"$f":"IF(S428<>\"\",(IF(COUNTIFS('Base Maestra'!$A$42:$A$535,N428,'Base Maestra'!$B$42:$B$535,O428,'Base Maestra'!$C$42:$C$535,P428)>0,\"Correcto\",\"Revisar Catálogo\")),\"\")","v":""},{"$f":"IF(S428<>\"\", IF(COUNTIFS(\n     'Base Maestra'!$F$43:$F$54,H428,\n     'Base Maestra'!$G$43:$G$54,I428)>0, \"Correcto\", \"Revisar Catálogo\"), \"\")","v":""}]
[null,null,null,null,null,null,null,null,null,null,null,null,null,null,null,null,null,null,null,{"$f":"IF(S429<>\"\",(IF(COUNTIFS('Base Maestra'!$A$42:$A$535,N429,'Base Maestra'!$B$42:$B$535,O429,'Base Maestra'!$C$42:$C$535,P429)>0,\"Correcto\",\"Revisar Catálogo\")),\"\")","v":""},{"$f":"IF(S429<>\"\", IF(COUNTIFS(\n     'Base Maestra'!$F$43:$F$54,H429,\n     'Base Maestra'!$G$43:$G$54,I429)>0, \"Correcto\", \"Revisar Catálogo\"), \"\")","v":""}]
[null,null,null,null,null,null,null,null,null,null,null,null,null,null,null,null,null,null,null,{"$f":"IF(S430<>\"\",(IF(COUNTIFS('Base Maestra'!$A$42:$A$535,N430,'Base Maestra'!$B$42:$B$535,O430,'Base Maestra'!$C$42:$C$535,P430)>0,\"Correcto\",\"Revisar Catálogo\")),\"\")","v":""},{"$f":"IF(S430<>\"\", IF(COUNTIFS(\n     'Base Maestra'!$F$43:$F$54,H430,\n     'Base Maestra'!$G$43:$G$54,I430)>0, \"Correcto\", \"Revisar Catálogo\"), \"\")","v":""}]
[null,null,null,null,null,null,null,null,null,null,null,null,null,null,null,null,null,null,null,{"$f":"IF(S431<>\"\",(IF(COUNTIFS('Base Maestra'!$A$42:$A$535,N431,'Base Maestra'!$B$42:$B$535,O431,'Base Maestra'!$C$42:$C$535,P431)>0,\"Correcto\",\"Revisar Catálogo\")),\"\")","v":""},{"$f":"IF(S431<>\"\", IF(COUNTIFS(\n     'Base Maestra'!$F$43:$F$54,H431,\n     'Base Maestra'!$G$43:$G$54,I431)>0, \"Correcto\", \"Revisar Catálogo\"), \"\")","v":""}]
[null,null,null,null,null,null,null,null,null,null,null,null,null,null,null,null,null,null,null,{"$f":"IF(S432<>\"\",(IF(COUNTIFS('Base Maestra'!$A$42:$A$535,N432,'Base Maestra'!$B$42:$B$535,O432,'Base Maestra'!$C$42:$C$535,P432)>0,\"Correcto\",\"Revisar Catálogo\")),\"\")","v":""},{"$f":"IF(S432<>\"\", IF(COUNTIFS(\n     'Base Maestra'!$F$43:$F$54,H432,\n     'Base Maestra'!$G$43:$G$54,I432)>0, \"Correcto\", \"Revisar Catálogo\"), \"\")","v":""}]
[null,null,null,null,null,null,null,null,null,null,null,null,null,null,null,null,null,null,null,{"$f":"IF(S433<>\"\",(IF(COUNTIFS('Base Maestra'!$A$42:$A$535,N433,'Base Maestra'!$B$42:$B$535,O433,'Base Maestra'!$C$42:$C$535,P433)>0,\"Correcto\",\"Revisar Catálogo\")),\"\")","v":""},{"$f":"IF(S433<>\"\", IF(COUNTIFS(\n     'Base Maestra'!$F$43:$F$54,H433,\n     'Base Maestra'!$G$43:$G$54,I433)>0, \"Correcto\", \"Revisar Catálogo\"), \"\")","v":""}]
[null,null,null,null,null,null,null,null,null,null,null,null,null,null,null,null,null,null,null,{"$f":"IF(S434<>\"\",(IF(COUNTIFS('Base Maestra'!$A$42:$A$535,N434,'Base Maestra'!$B$42:$B$535,O434,'Base Maestra'!$C$42:$C$535,P434)>0,\"Correcto\",\"Revisar Catálogo\")),\"\")","v":""},{"$f":"IF(S434<>\"\", IF(COUNTIFS(\n     'Base Maestra'!$F$43:$F$54,H434,\n     'Base Maestra'!$G$43:$G$54,I434)>0, \"Correcto\", \"Revisar Catálogo\"), \"\")","v":""}]
[null,null,null,null,null,null,null,null,null,null,null,null,null,null,null,null,null,null,null,{"$f":"IF(S435<>\"\",(IF(COUNTIFS('Base Maestra'!$A$42:$A$535,N435,'Base Maestra'!$B$42:$B$535,O435,'Base Maestra'!$C$42:$C$535,P435)>0,\"Correcto\",\"Revisar Catálogo\")),\"\")","v":""},{"$f":"IF(S435<>\"\", IF(COUNTIFS(\n     'Base Maestra'!$F$43:$F$54,H435,\n     'Base Maestra'!$G$43:$G$54,I435)>0, \"Correcto\", \"Revisar Catálogo\"), \"\")","v":""}]
[null,null,null,null,null,null,null,null,null,null,null,null,null,null,null,null,null,null,null,{"$f":"IF(S436<>\"\",(IF(COUNTIFS('Base Maestra'!$A$42:$A$535,N436,'Base Maestra'!$B$42:$B$535,O436,'Base Maestra'!$C$42:$C$535,P436)>0,\"Correcto\",\"Revisar Catálogo\")),\"\")","v":""},{"$f":"IF(S436<>\"\", IF(COUNTIFS(\n     'Base Maestra'!$F$43:$F$54,H436,\n     'Base Maestra'!$G$43:$G$54,I436)>0, \"Correcto\", \"Revisar Catálogo\"), \"\")","v":""}]
[null,null,null,null,null,null,null,null,null,null,null,null,null,null,null,null,null,null,null,{"$f":"IF(S437<>\"\",(IF(COUNTIFS('Base Maestra'!$A$42:$A$535,N437,'Base Maestra'!$B$42:$B$535,O437,'Base Maestra'!$C$42:$C$535,P437)>0,\"Correcto\",\"Revisar Catálogo\")),\"\")","v":""},{"$f":"IF(S437<>\"\", IF(COUNTIFS(\n     'Base Maestra'!$F$43:$F$54,H437,\n     'Base Maestra'!$G$43:$G$54,I437)>0, \"Correcto\", \"Revisar Catálogo\"), \"\")","v":""}]
[null,null,null,null,null,null,null,null,null,null,null,null,null,null,null,null,null,null,null,{"$f":"IF(S438<>\"\",(IF(COUNTIFS('Base Maestra'!$A$42:$A$535,N438,'Base Maestra'!$B$42:$B$535,O438,'Base Maestra'!$C$42:$C$535,P438)>0,\"Correcto\",\"Revisar Catálogo\")),\"\")","v":""},{"$f":"IF(S438<>\"\", IF(COUNTIFS(\n     'Base Maestra'!$F$43:$F$54,H438,\n     'Base Maestra'!$G$43:$G$54,I438)>0, \"Correcto\", \"Revisar Catálogo\"), \"\")","v":""}]
[null,null,null,null,null,null,null,null,null,null,null,null,null,null,null,null,null,null,null,{"$f":"IF(S439<>\"\",(IF(COUNTIFS('Base Maestra'!$A$42:$A$535,N439,'Base Maestra'!$B$42:$B$535,O439,'Base Maestra'!$C$42:$C$535,P439)>0,\"Correcto\",\"Revisar Catálogo\")),\"\")","v":""},{"$f":"IF(S439<>\"\", IF(COUNTIFS(\n     'Base Maestra'!$F$43:$F$54,H439,\n     'Base Maestra'!$G$43:$G$54,I439)>0, \"Correcto\", \"Revisar Catálogo\"), \"\")","v":""}]
[null,null,null,null,null,null,null,null,null,null,null,null,null,null,null,null,null,null,null,{"$f":"IF(S440<>\"\",(IF(COUNTIFS('Base Maestra'!$A$42:$A$535,N440,'Base Maestra'!$B$42:$B$535,O440,'Base Maestra'!$C$42:$C$535,P440)>0,\"Correcto\",\"Revisar Catálogo\")),\"\")","v":""},{"$f":"IF(S440<>\"\", IF(COUNTIFS(\n     'Base Maestra'!$F$43:$F$54,H440,\n     'Base Maestra'!$G$43:$G$54,I440)>0, \"Correcto\", \"Revisar Catálogo\"), \"\")","v":""}]
[null,null,null,null,null,null,null,null,null,null,null,null,null,null,null,null,null,null,null,{"$f":"IF(S441<>\"\",(IF(COUNTIFS('Base Maestra'!$A$42:$A$535,N441,'Base Maestra'!$B$42:$B$535,O441,'Base Maestra'!$C$42:$C$535,P441)>0,\"Correcto\",\"Revisar Catálogo\")),\"\")","v":""},{"$f":"IF(S441<>\"\", IF(COUNTIFS(\n     'Base Maestra'!$F$43:$F$54,H441,\n     'Base Maestra'!$G$43:$G$54,I441)>0, \"Correcto\", \"Revisar Catálogo\"), \"\")","v":""}]
[null,null,null,null,null,null,null,null,null,null,null,null,null,null,null,null,null,null,null,{"$f":"IF(S442<>\"\",(IF(COUNTIFS('Base Maestra'!$A$42:$A$535,N442,'Base Maestra'!$B$42:$B$535,O442,'Base Maestra'!$C$42:$C$535,P442)>0,\"Correcto\",\"Revisar Catálogo\")),\"\")","v":""},{"$f":"IF(S442<>\"\", IF(COUNTIFS(\n     'Base Maestra'!$F$43:$F$54,H442,\n     'Base Maestra'!$G$43:$G$54,I442)>0, \"Correcto\", \"Revisar Catálogo\"), \"\")","v":""}]
[null,null,null,null,null,null,null,null,null,null,null,null,null,null,null,null,null,null,null,{"$f":"IF(S443<>\"\",(IF(COUNTIFS('Base Maestra'!$A$42:$A$535,N443,'Base Maestra'!$B$42:$B$535,O443,'Base Maestra'!$C$42:$C$535,P443)>0,\"Correcto\",\"Revisar Catálogo\")),\"\")","v":""},{"$f":"IF(S443<>\"\", IF(COUNTIFS(\n     'Base Maestra'!$F$43:$F$54,H443,\n     'Base Maestra'!$G$43:$G$54,I443)>0, \"Correcto\", \"Revisar Catálogo\"), \"\")","v":""}]
[null,null,null,null,null,null,null,null,null,null,null,null,null,null,null,null,null,null,null,{"$f":"IF(S444<>\"\",(IF(COUNTIFS('Base Maestra'!$A$42:$A$535,N444,'Base Maestra'!$B$42:$B$535,O444,'Base Maestra'!$C$42:$C$535,P444)>0,\"Correcto\",\"Revisar Catálogo\")),\"\")","v":""},{"$f":"IF(S444<>\"\", IF(COUNTIFS(\n     'Base Maestra'!$F$43:$F$54,H444,\n     'Base Maestra'!$G$43:$G$54,I444)>0, \"Correcto\", \"Revisar Catálogo\"), \"\")","v":""}]
[null,null,null,null,null,null,null,null,null,null,null,null,null,null,null,null,null,null,null,{"$f":"IF(S445<>\"\",(IF(COUNTIFS('Base Maestra'!$A$42:$A$535,N445,'Base Maestra'!$B$42:$B$535,O445,'Base Maestra'!$C$42:$C$535,P445)>0,\"Correcto\",\"Revisar Catálogo\")),\"\")","v":""},{"$f":"IF(S445<>\"\", IF(COUNTIFS(\n     'Base Maestra'!$F$43:$F$54,H445,\n     'Base Maestra'!$G$43:$G$54,I445)>0, \"Correcto\", \"Revisar Catálogo\"), \"\")","v":""}]
[null,null,null,null,null,null,null,null,null,null,null,null,null,null,null,null,null,null,null,{"$f":"IF(S446<>\"\",(IF(COUNTIFS('Base Maestra'!$A$42:$A$535,N446,'Base Maestra'!$B$42:$B$535,O446,'Base Maestra'!$C$42:$C$535,P446)>0,\"Correcto\",\"Revisar Catálogo\")),\"\")","v":""},{"$f":"IF(S446<>\"\", IF(COUNTIFS(\n     'Base Maestra'!$F$43:$F$54,H446,\n     'Base Maestra'!$G$43:$G$54,I446)>0, \"Correcto\", \"Revisar Catálogo\"), \"\")","v":""}]
[null,null,null,null,null,null,null,null,null,null,null,null,null,null,null,null,null,null,null,{"$f":"IF(S447<>\"\",(IF(COUNTIFS('Base Maestra'!$A$42:$A$535,N447,'Base Maestra'!$B$42:$B$535,O447,'Base Maestra'!$C$42:$C$535,P447)>0,\"Correcto\",\"Revisar Catálogo\")),\"\")","v":""},{"$f":"IF(S447<>\"\", IF(COUNTIFS(\n     'Base Maestra'!$F$43:$F$54,H447,\n     'Base Maestra'!$G$43:$G$54,I447)>0, \"Correcto\", \"Revisar Catálogo\"), \"\")","v":""}]
[null,null,null,null,null,null,null,null,null,null,null,null,null,null,null,null,null,null,null,{"$f":"IF(S448<>\"\",(IF(COUNTIFS('Base Maestra'!$A$42:$A$535,N448,'Base Maestra'!$B$42:$B$535,O448,'Base Maestra'!$C$42:$C$535,P448)>0,\"Correcto\",\"Revisar Catálogo\")),\"\")","v":""},{"$f":"IF(S448<>\"\", IF(COUNTIFS(\n     'Base Maestra'!$F$43:$F$54,H448,\n     'Base Maestra'!$G$43:$G$54,I448)>0, \"Correcto\", \"Revisar Catálogo\"), \"\")","v":""}]
[null,null,null,null,null,null,null,null,null,null,null,null,null,null,null,null,null,null,null,{"$f":"IF(S449<>\"\",(IF(COUNTIFS('Base Maestra'!$A$42:$A$535,N449,'Base Maestra'!$B$42:$B$535,O449,'Base Maestra'!$C$42:$C$535,P449)>0,\"Correcto\",\"Revisar Catálogo\")),\"\")","v":""},{"$f":"IF(S449<>\"\", IF(COUNTIFS(\n     'Base Maestra'!$F$43:$F$54,H449,\n     'Base Maestra'!$G$43:$G$54,I449)>0, \"Correcto\", \"Revisar Catálogo\"), \"\")","v":""}]
[null,null,null,null,null,null,null,null,null,null,null,null,null,null,null,null,null,null,null,{"$f":"IF(S450<>\"\",(IF(COUNTIFS('Base Maestra'!$A$42:$A$535,N450,'Base Maestra'!$B$42:$B$535,O450,'Base Maestra'!$C$42:$C$535,P450)>0,\"Correcto\",\"Revisar Catálogo\")),\"\")","v":""},{"$f":"IF(S450<>\"\", IF(COUNTIFS(\n     'Base Maestra'!$F$43:$F$54,H450,\n     'Base Maestra'!$G$43:$G$54,I450)>0, \"Correcto\", \"Revisar Catálogo\"), \"\")","v":""}]
[null,null,null,null,null,null,null,null,null,null,null,null,null,null,null,null,null,null,null,{"$f":"IF(S451<>\"\",(IF(COUNTIFS('Base Maestra'!$A$42:$A$535,N451,'Base Maestra'!$B$42:$B$535,O451,'Base Maestra'!$C$42:$C$535,P451)>0,\"Correcto\",\"Revisar Catálogo\")),\"\")","v":""},{"$f":"IF(S451<>\"\", IF(COUNTIFS(\n     'Base Maestra'!$F$43:$F$54,H451,\n     'Base Maestra'!$G$43:$G$54,I451)>0, \"Correcto\", \"Revisar Catálogo\"), \"\")","v":""}]
[null,null,null,null,null,null,null,null,null,null,null,null,null,null,null,null,null,null,null,{"$f":"IF(S452<>\"\",(IF(COUNTIFS('Base Maestra'!$A$42:$A$535,N452,'Base Maestra'!$B$42:$B$535,O452,'Base Maestra'!$C$42:$C$535,P452)>0,\"Correcto\",\"Revisar Catálogo\")),\"\")","v":""},{"$f":"IF(S452<>\"\", IF(COUNTIFS(\n     'Base Maestra'!$F$43:$F$54,H452,\n     'Base Maestra'!$G$43:$G$54,I452)>0, \"Correcto\", \"Revisar Catálogo\"), \"\")","v":""}]
[null,null,null,null,null,null,null,null,null,null,null,null,null,null,null,null,null,null,null,{"$f":"IF(S453<>\"\",(IF(COUNTIFS('Base Maestra'!$A$42:$A$535,N453,'Base Maestra'!$B$42:$B$535,O453,'Base Maestra'!$C$42:$C$535,P453)>0,\"Correcto\",\"Revisar Catálogo\")),\"\")","v":""},{"$f":"IF(S453<>\"\", IF(COUNTIFS(\n     'Base Maestra'!$F$43:$F$54,H453,\n     'Base Maestra'!$G$43:$G$54,I453)>0, \"Correcto\", \"Revisar Catálogo\"), \"\")","v":""}]
[null,null,null,null,null,null,null,null,null,null,null,null,null,null,null,null,null,null,null,{"$f":"IF(S454<>\"\",(IF(COUNTIFS('Base Maestra'!$A$42:$A$535,N454,'Base Maestra'!$B$42:$B$535,O454,'Base Maestra'!$C$42:$C$535,P454)>0,\"Correcto\",\"Revisar Catálogo\")),\"\")","v":""},{"$f":"IF(S454<>\"\", IF(COUNTIFS(\n     'Base Maestra'!$F$43:$F$54,H454,\n     'Base Maestra'!$G$43:$G$54,I454)>0, \"Correcto\", \"Revisar Catálogo\"), \"\")","v":""}]
[null,null,null,null,null,null,null,null,null,null,null,null,null,null,null,null,null,null,null,{"$f":"IF(S455<>\"\",(IF(COUNTIFS('Base Maestra'!$A$42:$A$535,N455,'Base Maestra'!$B$42:$B$535,O455,'Base Maestra'!$C$42:$C$535,P455)>0,\"Correcto\",\"Revisar Catálogo\")),\"\")","v":""},{"$f":"IF(S455<>\"\", IF(COUNTIFS(\n     'Base Maestra'!$F$43:$F$54,H455,\n     'Base Maestra'!$G$43:$G$54,I455)>0, \"Correcto\", \"Revisar Catálogo\"), \"\")","v":""}]
[null,null,null,null,null,null,null,null,null,null,null,null,null,null,null,null,null,null,null,{"$f":"IF(S456<>\"\",(IF(COUNTIFS('Base Maestra'!$A$42:$A$535,N456,'Base Maestra'!$B$42:$B$535,O456,'Base Maestra'!$C$42:$C$535,P456)>0,\"Correcto\",\"Revisar Catálogo\")),\"\")","v":""},{"$f":"IF(S456<>\"\", IF(COUNTIFS(\n     'Base Maestra'!$F$43:$F$54,H456,\n     'Base Maestra'!$G$43:$G$54,I456)>0, \"Correcto\", \"Revisar Catálogo\"), \"\")","v":""}]
[null,null,null,null,null,null,null,null,null,null,null,null,null,null,null,null,null,null,null,{"$f":"IF(S457<>\"\",(IF(COUNTIFS('Base Maestra'!$A$42:$A$535,N457,'Base Maestra'!$B$42:$B$535,O457,'Base Maestra'!$C$42:$C$535,P457)>0,\"Correcto\",\"Revisar Catálogo\")),\"\")","v":""},{"$f":"IF(S457<>\"\", IF(COUNTIFS(\n     'Base Maestra'!$F$43:$F$54,H457,\n     'Base Maestra'!$G$43:$G$54,I457)>0, \"Correcto\", \"Revisar Catálogo\"), \"\")","v":""}]
[null,null,null,null,null,null,null,null,null,null,null,null,null,null,null,null,null,null,null,{"$f":"IF(S458<>\"\",(IF(COUNTIFS('Base Maestra'!$A$42:$A$535,N458,'Base Maestra'!$B$42:$B$535,O458,'Base Maestra'!$C$42:$C$535,P458)>0,\"Correcto\",\"Revisar Catálogo\")),\"\")","v":""},{"$f":"IF(S458<>\"\", IF(COUNTIFS(\n     'Base Maestra'!$F$43:$F$54,H458,\n     'Base Maestra'!$G$43:$G$54,I458)>0, \"Correcto\", \"Revisar Catálogo\"), \"\")","v":""}]
[null,null,null,null,null,null,null,null,null,null,null,null,null,null,null,null,null,null,null,{"$f":"IF(S459<>\"\",(IF(COUNTIFS('Base Maestra'!$A$42:$A$535,N459,'Base Maestra'!$B$42:$B$535,O459,'Base Maestra'!$C$42:$C$535,P459)>0,\"Correcto\",\"Revisar Catálogo\")),\"\")","v":""},{"$f":"IF(S459<>\"\", IF(COUNTIFS(\n     'Base Maestra'!$F$43:$F$54,H459,\n     'Base Maestra'!$G$43:$G$54,I459)>0, \"Correcto\", \"Revisar Catálogo\"), \"\")","v":""}]
[null,null,null,null,null,null,null,null,null,null,null,null,null,null,null,null,null,null,null,{"$f":"IF(S460<>\"\",(IF(COUNTIFS('Base Maestra'!$A$42:$A$535,N460,'Base Maestra'!$B$42:$B$535,O460,'Base Maestra'!$C$42:$C$535,P460)>0,\"Correcto\",\"Revisar Catálogo\")),\"\")","v":""},{"$f":"IF(S460<>\"\", IF(COUNTIFS(\n     'Base Maestra'!$F$43:$F$54,H460,\n     'Base Maestra'!$G$43:$G$54,I460)>0, \"Correcto\", \"Revisar Catálogo\"), \"\")","v":""}]
[null,null,null,null,null,null,null,null,null,null,null,null,null,null,null,null,null,null,null,{"$f":"IF(S461<>\"\",(IF(COUNTIFS('Base Maestra'!$A$42:$A$535,N461,'Base Maestra'!$B$42:$B$535,O461,'Base Maestra'!$C$42:$C$535,P461)>0,\"Correcto\",\"Revisar Catálogo\")),\"\")","v":""},{"$f":"IF(S461<>\"\", IF(COUNTIFS(\n     'Base Maestra'!$F$43:$F$54,H461,\n     'Base Maestra'!$G$43:$G$54,I461)>0, \"Correcto\", \"Revisar Catálogo\"), \"\")","v":""}]
[null,null,null,null,null,null,null,null,null,null,null,null,null,null,null,null,null,null,null,{"$f":"IF(S462<>\"\",(IF(COUNTIFS('Base Maestra'!$A$42:$A$535,N462,'Base Maestra'!$B$42:$B$535,O462,'Base Maestra'!$C$42:$C$535,P462)>0,\"Correcto\",\"Revisar Catálogo\")),\"\")","v":""},{"$f":"IF(S462<>\"\", IF(COUNTIFS(\n     'Base Maestra'!$F$43:$F$54,H462,\n     'Base Maestra'!$G$43:$G$54,I462)>0, \"Correcto\", \"Revisar Catálogo\"), \"\")","v":""}]
[null,null,null,null,null,null,null,null,null,null,null,null,null,null,null,null,null,null,null,{"$f":"IF(S463<>\"\",(IF(COUNTIFS('Base Maestra'!$A$42:$A$535,N463,'Base Maestra'!$B$42:$B$535,O463,'Base Maestra'!$C$42:$C$535,P463)>0,\"Correcto\",\"Revisar Catálogo\")),\"\")","v":""},{"$f":"IF(S463<>\"\", IF(COUNTIFS(\n     'Base Maestra'!$F$43:$F$54,H463,\n     'Base Maestra'!$G$43:$G$54,I463)>0, \"Correcto\", \"Revisar Catálogo\"), \"\")","v":""}]
[null,null,null,null,null,null,null,null,null,null,null,null,null,null,null,null,null,null,null,{"$f":"IF(S464<>\"\",(IF(COUNTIFS('Base Maestra'!$A$42:$A$535,N464,'Base Maestra'!$B$42:$B$535,O464,'Base Maestra'!$C$42:$C$535,P464)>0,\"Correcto\",\"Revisar Catálogo\")),\"\")","v":""},{"$f":"IF(S464<>\"\", IF(COUNTIFS(\n     'Base Maestra'!$F$43:$F$54,H464,\n     'Base Maestra'!$G$43:$G$54,I464)>0, \"Correcto\", \"Revisar Catálogo\"), \"\")","v":""}]
[null,null,null,null,null,null,null,null,null,null,null,null,null,null,null,null,null,null,null,{"$f":"IF(S465<>\"\",(IF(COUNTIFS('Base Maestra'!$A$42:$A$535,N465,'Base Maestra'!$B$42:$B$535,O465,'Base Maestra'!$C$42:$C$535,P465)>0,\"Correcto\",\"Revisar Catálogo\")),\"\")","v":""},{"$f":"IF(S465<>\"\", IF(COUNTIFS(\n     'Base Maestra'!$F$43:$F$54,H465,\n     'Base Maestra'!$G$43:$G$54,I465)>0, \"Correcto\", \"Revisar Catálogo\"), \"\")","v":""}]
[null,null,null,null,null,null,null,null,null,null,null,null,null,null,null,null,null,null,null,{"$f":"IF(S466<>\"\",(IF(COUNTIFS('Base Maestra'!$A$42:$A$535,N466,'Base Maestra'!$B$42:$B$535,O466,'Base Maestra'!$C$42:$C$535,P466)>0,\"Correcto\",\"Revisar Catálogo\")),\"\")","v":""},{"$f":"IF(S466<>\"\", IF(COUNTIFS(\n     'Base Maestra'!$F$43:$F$54,H466,\n     'Base Maestra'!$G$43:$G$54,I466)>0, \"Correcto\", \"Revisar Catálogo\"), \"\")","v":""}]
[null,null,null,null,null,null,null,null,null,null,null,null,null,null,null,null,null,null,null,{"$f":"IF(S467<>\"\",(IF(COUNTIFS('Base Maestra'!$A$42:$A$535,N467,'Base Maestra'!$B$42:$B$535,O467,'Base Maestra'!$C$42:$C$535,P467)>0,\"Correcto\",\"Revisar Catálogo\")),\"\")","v":""},{"$f":"IF(S467<>\"\", IF(COUNTIFS(\n     'Base Maestra'!$F$43:$F$54,H467,\n     'Base Maestra'!$G$43:$G$54,I467)>0, \"Correcto\", \"Revisar Catálogo\"), \"\")","v":""}]
[null,null,null,null,null,null,null,null,null,null,null,null,null,null,null,null,null,null,null,{"$f":"IF(S468<>\"\",(IF(COUNTIFS('Base Maestra'!$A$42:$A$535,N468,'Base Maestra'!$B$42:$B$535,O468,'Base Maestra'!$C$42:$C$535,P468)>0,\"Correcto\",\"Revisar Catálogo\")),\"\")","v":""},{"$f":"IF(S468<>\"\", IF(COUNTIFS(\n     'Base Maestra'!$F$43:$F$54,H468,\n     'Base Maestra'!$G$43:$G$54,I468)>0, \"Correcto\", \"Revisar Catálogo\"), \"\")","v":""}]
[null,null,null,null,null,null,null,null,null,null,null,null,null,null,null,null,null,null,null,{"$f":"IF(S469<>\"\",(IF(COUNTIFS('Base Maestra'!$A$42:$A$535,N469,'Base Maestra'!$B$42:$B$535,O469,'Base Maestra'!$C$42:$C$535,P469)>0,\"Correcto\",\"Revisar Catálogo\")),\"\")","v":""},{"$f":"IF(S469<>\"\", IF(COUNTIFS(\n     'Base Maestra'!$F$43:$F$54,H469,\n     'Base Maestra'!$G$43:$G$54,I469)>0, \"Correcto\", \"Revisar Catálogo\"), \"\")","v":""}]
[null,null,null,null,null,null,null,null,null,null,null,null,null,null,null,null,null,null,null,{"$f":"IF(S470<>\"\",(IF(COUNTIFS('Base Maestra'!$A$42:$A$535,N470,'Base Maestra'!$B$42:$B$535,O470,'Base Maestra'!$C$42:$C$535,P470)>0,\"Correcto\",\"Revisar Catálogo\")),\"\")","v":""},{"$f":"IF(S470<>\"\", IF(COUNTIFS(\n     'Base Maestra'!$F$43:$F$54,H470,\n     'Base Maestra'!$G$43:$G$54,I470)>0, \"Correcto\", \"Revisar Catálogo\"), \"\")","v":""}]
[null,null,null,null,null,null,null,null,null,null,null,null,null,null,null,null,null,null,null,{"$f":"IF(S471<>\"\",(IF(COUNTIFS('Base Maestra'!$A$42:$A$535,N471,'Base Maestra'!$B$42:$B$535,O471,'Base Maestra'!$C$42:$C$535,P471)>0,\"Correcto\",\"Revisar Catálogo\")),\"\")","v":""},{"$f":"IF(S471<>\"\", IF(COUNTIFS(\n     'Base Maestra'!$F$43:$F$54,H471,\n     'Base Maestra'!$G$43:$G$54,I471)>0, \"Correcto\", \"Revisar Catálogo\"), \"\")","v":""}]
[null,null,null,null,null,null,null,null,null,null,null,null,null,null,null,null,null,null,null,{"$f":"IF(S472<>\"\",(IF(COUNTIFS('Base Maestra'!$A$42:$A$535,N472,'Base Maestra'!$B$42:$B$535,O472,'Base Maestra'!$C$42:$C$535,P472)>0,\"Correcto\",\"Revisar Catálogo\")),\"\")","v":""},{"$f":"IF(S472<>\"\", IF(COUNTIFS(\n     'Base Maestra'!$F$43:$F$54,H472,\n     'Base Maestra'!$G$43:$G$54,I472)>0, \"Correcto\", \"Revisar Catálogo\"), \"\")","v":""}]
[null,null,null,null,null,null,null,null,null,null,null,null,null,null,null,null,null,null,null,{"$f":"IF(S473<>\"\",(IF(COUNTIFS('Base Maestra'!$A$42:$A$535,N473,'Base Maestra'!$B$42:$B$535,O473,'Base Maestra'!$C$42:$C$535,P473)>0,\"Correcto\",\"Revisar Catálogo\")),\"\")","v":""},{"$f":"IF(S473<>\"\", IF(COUNTIFS(\n     'Base Maestra'!$F$43:$F$54,H473,\n     'Base Maestra'!$G$43:$G$54,I473)>0, \"Correcto\", \"Revisar Catálogo\"), \"\")","v":""}]
[null,null,null,null,null,null,null,null,null,null,null,null,null,null,null,null,null,null,null,{"$f":"IF(S474<>\"\",(IF(COUNTIFS('Base Maestra'!$A$42:$A$535,N474,'Base Maestra'!$B$42:$B$535,O474,'Base Maestra'!$C$42:$C$535,P474)>0,\"Correcto\",\"Revisar Catálogo\")),\"\")","v":""},{"$f":"IF(S474<>\"\", IF(COUNTIFS(\n     'Base Maestra'!$F$43:$F$54,H474,\n     'Base Maestra'!$G$43:$G$54,I474)>0, \"Correcto\", \"Revisar Catálogo\"), \"\")","v":""}]
[null,null,null,null,null,null,null,null,null,null,null,null,null,null,null,null,null,null,null,{"$f":"IF(S475<>\"\",(IF(COUNTIFS('Base Maestra'!$A$42:$A$535,N475,'Base Maestra'!$B$42:$B$535,O475,'Base Maestra'!$C$42:$C$535,P475)>0,\"Correcto\",\"Revisar Catálogo\")),\"\")","v":""},{"$f":"IF(S475<>\"\", IF(COUNTIFS(\n     'Base Maestra'!$F$43:$F$54,H475,\n     'Base Maestra'!$G$43:$G$54,I475)>0, \"Correcto\", \"Revisar Catálogo\"), \"\")","v":""}]
[null,null,null,null,null,null,null,null,null,null,null,null,null,null,null,null,null,null,null,{"$f":"IF(S476<>\"\",(IF(COUNTIFS('Base Maestra'!$A$42:$A$535,N476,'Base Maestra'!$B$42:$B$535,O476,'Base Maestra'!$C$42:$C$535,P476)>0,\"Correcto\",\"Revisar Catálogo\")),\"\")","v":""},{"$f":"IF(S476<>\"\", IF(COUNTIFS(\n     'Base Maestra'!$F$43:$F$54,H476,\n     'Base Maestra'!$G$43:$G$54,I476)>0, \"Correcto\", \"Revisar Catálogo\"), \"\")","v":""}]
[null,null,null,null,null,null,null,null,null,null,null,null,null,null,null,null,null,null,null,{"$f":"IF(S477<>\"\",(IF(COUNTIFS('Base Maestra'!$A$42:$A$535,N477,'Base Maestra'!$B$42:$B$535,O477,'Base Maestra'!$C$42:$C$535,P477)>0,\"Correcto\",\"Revisar Catálogo\")),\"\")","v":""},{"$f":"IF(S477<>\"\", IF(COUNTIFS(\n     'Base Maestra'!$F$43:$F$54,H477,\n     'Base Maestra'!$G$43:$G$54,I477)>0, \"Correcto\", \"Revisar Catálogo\"), \"\")","v":""}]
[null,null,null,null,null,null,null,null,null,null,null,null,null,null,null,null,null,null,null,{"$f":"IF(S478<>\"\",(IF(COUNTIFS('Base Maestra'!$A$42:$A$535,N478,'Base Maestra'!$B$42:$B$535,O478,'Base Maestra'!$C$42:$C$535,P478)>0,\"Correcto\",\"Revisar Catálogo\")),\"\")","v":""},{"$f":"IF(S478<>\"\", IF(COUNTIFS(\n     'Base Maestra'!$F$43:$F$54,H478,\n     'Base Maestra'!$G$43:$G$54,I478)>0, \"Correcto\", \"Revisar Catálogo\"), \"\")","v":""}]
[null,null,null,null,null,null,null,null,null,null,null,null,null,null,null,null,null,null,null,{"$f":"IF(S479<>\"\",(IF(COUNTIFS('Base Maestra'!$A$42:$A$535,N479,'Base Maestra'!$B$42:$B$535,O479,'Base Maestra'!$C$42:$C$535,P479)>0,\"Correcto\",\"Revisar Catálogo\")),\"\")","v":""},{"$f":"IF(S479<>\"\", IF(COUNTIFS(\n     'Base Maestra'!$F$43:$F$54,H479,\n     'Base Maestra'!$G$43:$G$54,I479)>0, \"Correcto\", \"Revisar Catálogo\"), \"\")","v":""}]
[null,null,null,null,null,null,null,null,null,null,null,null,null,null,null,null,null,null,null,{"$f":"IF(S480<>\"\",(IF(COUNTIFS('Base Maestra'!$A$42:$A$535,N480,'Base Maestra'!$B$42:$B$535,O480,'Base Maestra'!$C$42:$C$535,P480)>0,\"Correcto\",\"Revisar Catálogo\")),\"\")","v":""},{"$f":"IF(S480<>\"\", IF(COUNTIFS(\n     'Base Maestra'!$F$43:$F$54,H480,\n     'Base Maestra'!$G$43:$G$54,I480)>0, \"Correcto\", \"Revisar Catálogo\"), \"\")","v":""}]
[null,null,null,null,null,null,null,null,null,null,null,null,null,null,null,null,null,null,null,{"$f":"IF(S481<>\"\",(IF(COUNTIFS('Base Maestra'!$A$42:$A$535,N481,'Base Maestra'!$B$42:$B$535,O481,'Base Maestra'!$C$42:$C$535,P481)>0,\"Correcto\",\"Revisar Catálogo\")),\"\")","v":""},{"$f":"IF(S481<>\"\", IF(COUNTIFS(\n     'Base Maestra'!$F$43:$F$54,H481,\n     'Base Maestra'!$G$43:$G$54,I481)>0, \"Correcto\", \"Revisar Catálogo\"), \"\")","v":""}]
[null,null,null,null,null,null,null,null,null,null,null,null,null,null,null,null,null,null,null,{"$f":"IF(S482<>\"\",(IF(COUNTIFS('Base Maestra'!$A$42:$A$535,N482,'Base Maestra'!$B$42:$B$535,O482,'Base Maestra'!$C$42:$C$535,P482)>0,\"Correcto\",\"Revisar Catálogo\")),\"\")","v":""},{"$f":"IF(S482<>\"\", IF(COUNTIFS(\n     'Base Maestra'!$F$43:$F$54,H482,\n     'Base Maestra'!$G$43:$G$54,I482)>0, \"Correcto\", \"Revisar Catálogo\"), \"\")","v":""}]
[null,null,null,null,null,null,null,null,null,null,null,null,null,null,null,null,null,null,null,{"$f":"IF(S483<>\"\",(IF(COUNTIFS('Base Maestra'!$A$42:$A$535,N483,'Base Maestra'!$B$42:$B$535,O483,'Base Maestra'!$C$42:$C$535,P483)>0,\"Correcto\",\"Revisar Catálogo\")),\"\")","v":""},{"$f":"IF(S483<>\"\", IF(COUNTIFS(\n     'Base Maestra'!$F$43:$F$54,H483,\n     'Base Maestra'!$G$43:$G$54,I483)>0, \"Correcto\", \"Revisar Catálogo\"), \"\")","v":""}]
[null,null,null,null,null,null,null,null,null,null,null,null,null,null,null,null,null,null,null,{"$f":"IF(S484<>\"\",(IF(COUNTIFS('Base Maestra'!$A$42:$A$535,N484,'Base Maestra'!$B$42:$B$535,O484,'Base Maestra'!$C$42:$C$535,P484)>0,\"Correcto\",\"Revisar Catálogo\")),\"\")","v":""},{"$f":"IF(S484<>\"\", IF(COUNTIFS(\n     'Base Maestra'!$F$43:$F$54,H484,\n     'Base Maestra'!$G$43:$G$54,I484)>0, \"Correcto\", \"Revisar Catálogo\"), \"\")","v":""}]
[null,null,null,null,null,null,null,null,null,null,null,null,null,null,null,null,null,null,null,{"$f":"IF(S485<>\"\",(IF(COUNTIFS('Base Maestra'!$A$42:$A$535,N485,'Base Maestra'!$B$42:$B$535,O485,'Base Maestra'!$C$42:$C$535,P485)>0,\"Correcto\",\"Revisar Catálogo\")),\"\")","v":""},{"$f":"IF(S485<>\"\", IF(COUNTIFS(\n     'Base Maestra'!$F$43:$F$54,H485,\n     'Base Maestra'!$G$43:$G$54,I485)>0, \"Correcto\", \"Revisar Catálogo\"), \"\")","v":""}]
[null,null,null,null,null,null,null,null,null,null,null,null,null,null,null,null,null,null,null,{"$f":"IF(S486<>\"\",(IF(COUNTIFS('Base Maestra'!$A$42:$A$535,N486,'Base Maestra'!$B$42:$B$535,O486,'Base Maestra'!$C$42:$C$535,P486)>0,\"Correcto\",\"Revisar Catálogo\")),\"\")","v":""},{"$f":"IF(S486<>\"\", IF(COUNTIFS(\n     'Base Maestra'!$F$43:$F$54,H486,\n     'Base Maestra'!$G$43:$G$54,I486)>0, \"Correcto\", \"Revisar Catálogo\"), \"\")","v":""}]
[null,null,null,null,null,null,null,null,null,null,null,null,null,null,null,null,null,null,null,{"$f":"IF(S487<>\"\",(IF(COUNTIFS('Base Maestra'!$A$42:$A$535,N487,'Base Maestra'!$B$42:$B$535,O487,'Base Maestra'!$C$42:$C$535,P487)>0,\"Correcto\",\"Revisar Catálogo\")),\"\")","v":""},{"$f":"IF(S487<>\"\", IF(COUNTIFS(\n     'Base Maestra'!$F$43:$F$54,H487,\n     'Base Maestra'!$G$43:$G$54,I487)>0, \"Correcto\", \"Revisar Catálogo\"), \"\")","v":""}]
[null,null,null,null,null,null,null,null,null,null,null,null,null,null,null,null,null,null,null,{"$f":"IF(S488<>\"\",(IF(COUNTIFS('Base Maestra'!$A$42:$A$535,N488,'Base Maestra'!$B$42:$B$535,O488,'Base Maestra'!$C$42:$C$535,P488)>0,\"Correcto\",\"Revisar Catálogo\")),\"\")","v":""},{"$f":"IF(S488<>\"\", IF(COUNTIFS(\n     'Base Maestra'!$F$43:$F$54,H488,\n     'Base Maestra'!$G$43:$G$54,I488)>0, \"Correcto\", \"Revisar Catálogo\"), \"\")","v":""}]
[null,null,null,null,null,null,null,null,null,null,null,null,null,null,null,null,null,null,null,{"$f":"IF(S489<>\"\",(IF(COUNTIFS('Base Maestra'!$A$42:$A$535,N489,'Base Maestra'!$B$42:$B$535,O489,'Base Maestra'!$C$42:$C$535,P489)>0,\"Correcto\",\"Revisar Catálogo\")),\"\")","v":""},{"$f":"IF(S489<>\"\", IF(COUNTIFS(\n     'Base Maestra'!$F$43:$F$54,H489,\n     'Base Maestra'!$G$43:$G$54,I489)>0, \"Correcto\", \"Revisar Catálogo\"), \"\")","v":""}]
[null,null,null,null,null,null,null,null,null,null,null,null,null,null,null,null,null,null,null,{"$f":"IF(S490<>\"\",(IF(COUNTIFS('Base Maestra'!$A$42:$A$535,N490,'Base Maestra'!$B$42:$B$535,O490,'Base Maestra'!$C$42:$C$535,P490)>0,\"Correcto\",\"Revisar Catálogo\")),\"\")","v":""},{"$f":"IF(S490<>\"\", IF(COUNTIFS(\n     'Base Maestra'!$F$43:$F$54,H490,\n     'Base Maestra'!$G$43:$G$54,I490)>0, \"Correcto\", \"Revisar Catálogo\"), \"\")","v":""}]
[null,null,null,null,null,null,null,null,null,null,null,null,null,null,null,null,null,null,null,{"$f":"IF(S491<>\"\",(IF(COUNTIFS('Base Maestra'!$A$42:$A$535,N491,'Base Maestra'!$B$42:$B$535,O491,'Base Maestra'!$C$42:$C$535,P491)>0,\"Correcto\",\"Revisar Catálogo\")),\"\")","v":""},{"$f":"IF(S491<>\"\", IF(COUNTIFS(\n     'Base Maestra'!$F$43:$F$54,H491,\n     'Base Maestra'!$G$43:$G$54,I491)>0, \"Correcto\", \"Revisar Catálogo\"), \"\")","v":""}]
[null,null,null,null,null,null,null,null,null,null,null,null,null,null,null,null,null,null,null,{"$f":"IF(S492<>\"\",(IF(COUNTIFS('Base Maestra'!$A$42:$A$535,N492,'Base Maestra'!$B$42:$B$535,O492,'Base Maestra'!$C$42:$C$535,P492)>0,\"Correcto\",\"Revisar Catálogo\")),\"\")","v":""},{"$f":"IF(S492<>\"\", IF(COUNTIFS(\n     'Base Maestra'!$F$43:$F$54,H492,\n     'Base Maestra'!$G$43:$G$54,I492)>0, \"Correcto\", \"Revisar Catálogo\"), \"\")","v":""}]
[null,null,null,null,null,null,null,null,null,null,null,null,null,null,null,null,null,null,null,{"$f":"IF(S493<>\"\",(IF(COUNTIFS('Base Maestra'!$A$42:$A$535,N493,'Base Maestra'!$B$42:$B$535,O493,'Base Maestra'!$C$42:$C$535,P493)>0,\"Correcto\",\"Revisar Catálogo\")),\"\")","v":""},{"$f":"IF(S493<>\"\", IF(COUNTIFS(\n     'Base Maestra'!$F$43:$F$54,H493,\n     'Base Maestra'!$G$43:$G$54,I493)>0, \"Correcto\", \"Revisar Catálogo\"), \"\")","v":""}]
[null,null,null,null,null,null,null,null,null,null,null,null,null,null,null,null,null,null,null,{"$f":"IF(S494<>\"\",(IF(COUNTIFS('Base Maestra'!$A$42:$A$535,N494,'Base Maestra'!$B$42:$B$535,O494,'Base Maestra'!$C$42:$C$535,P494)>0,\"Correcto\",\"Revisar Catálogo\")),\"\")","v":""},{"$f":"IF(S494<>\"\", IF(COUNTIFS(\n     'Base Maestra'!$F$43:$F$54,H494,\n     'Base Maestra'!$G$43:$G$54,I494)>0, \"Correcto\", \"Revisar Catálogo\"), \"\")","v":""}]
[null,null,null,null,null,null,null,null,null,null,null,null,null,null,null,null,null,null,null,{"$f":"IF(S495<>\"\",(IF(COUNTIFS('Base Maestra'!$A$42:$A$535,N495,'Base Maestra'!$B$42:$B$535,O495,'Base Maestra'!$C$42:$C$535,P495)>0,\"Correcto\",\"Revisar Catálogo\")),\"\")","v":""},{"$f":"IF(S495<>\"\", IF(COUNTIFS(\n     'Base Maestra'!$F$43:$F$54,H495,\n     'Base Maestra'!$G$43:$G$54,I495)>0, \"Correcto\", \"Revisar Catálogo\"), \"\")","v":""}]
[null,null,null,null,null,null,null,null,null,null,null,null,null,null,null,null,null,null,null,{"$f":"IF(S496<>\"\",(IF(COUNTIFS('Base Maestra'!$A$42:$A$535,N496,'Base Maestra'!$B$42:$B$535,O496,'Base Maestra'!$C$42:$C$535,P496)>0,\"Correcto\",\"Revisar Catálogo\")),\"\")","v":""},{"$f":"IF(S496<>\"\", IF(COUNTIFS(\n     'Base Maestra'!$F$43:$F$54,H496,\n     'Base Maestra'!$G$43:$G$54,I496)>0, \"Correcto\", \"Revisar Catálogo\"), \"\")","v":""}]
[null,null,null,null,null,null,null,null,null,null,null,null,null,null,null,null,null,null,null,{"$f":"IF(S497<>\"\",(IF(COUNTIFS('Base Maestra'!$A$42:$A$535,N497,'Base Maestra'!$B$42:$B$535,O497,'Base Maestra'!$C$42:$C$535,P497)>0,\"Correcto\",\"Revisar Catálogo\")),\"\")","v":""},{"$f":"IF(S497<>\"\", IF(COUNTIFS(\n     'Base Maestra'!$F$43:$F$54,H497,\n     'Base Maestra'!$G$43:$G$54,I497)>0, \"Correcto\", \"Revisar Catálogo\"), \"\")","v":""}]
[null,null,null,null,null,null,null,null,null,null,null,null,null,null,null,null,null,null,null,{"$f":"IF(S498<>\"\",(IF(COUNTIFS('Base Maestra'!$A$42:$A$535,N498,'Base Maestra'!$B$42:$B$535,O498,'Base Maestra'!$C$42:$C$535,P498)>0,\"Correcto\",\"Revisar Catálogo\")),\"\")","v":""},{"$f":"IF(S498<>\"\", IF(COUNTIFS(\n     'Base Maestra'!$F$43:$F$54,H498,\n     'Base Maestra'!$G$43:$G$54,I498)>0, \"Correcto\", \"Revisar Catálogo\"), \"\")","v":""}]
[null,null,null,null,null,null,null,null,null,null,null,null,null,null,null,null,null,null,null,{"$f":"IF(S499<>\"\",(IF(COUNTIFS('Base Maestra'!$A$42:$A$535,N499,'Base Maestra'!$B$42:$B$535,O499,'Base Maestra'!$C$42:$C$535,P499)>0,\"Correcto\",\"Revisar Catálogo\")),\"\")","v":""},{"$f":"IF(S499<>\"\", IF(COUNTIFS(\n     'Base Maestra'!$F$43:$F$54,H499,\n     'Base Maestra'!$G$43:$G$54,I499)>0, \"Correcto\", \"Revisar Catálogo\"), \"\")","v":""}]
[null,null,null,null,null,null,null,null,null,null,null,null,null,null,null,null,null,null,null,{"$f":"IF(S500<>\"\",(IF(COUNTIFS('Base Maestra'!$A$42:$A$535,N500,'Base Maestra'!$B$42:$B$535,O500,'Base Maestra'!$C$42:$C$535,P500)>0,\"Correcto\",\"Revisar Catálogo\")),\"\")","v":""},{"$f":"IF(S500<>\"\", IF(COUNTIFS(\n     'Base Maestra'!$F$43:$F$54,H500,\n     'Base Maestra'!$G$43:$G$54,I500)>0, \"Correcto\", \"Revisar Catálogo\"), \"\")","v":""}]
[null,null,null,null,null,null,null,null,null,null,null,null,null,null,null,null,null,null,null,{"$f":"IF(S501<>\"\",(IF(COUNTIFS('Base Maestra'!$A$42:$A$535,N501,'Base Maestra'!$B$42:$B$535,O501,'Base Maestra'!$C$42:$C$535,P501)>0,\"Correcto\",\"Revisar Catálogo\")),\"\")","v":""},{"$f":"IF(S501<>\"\", IF(COUNTIFS(\n     'Base Maestra'!$F$43:$F$54,H501,\n     'Base Maestra'!$G$43:$G$54,I501)>0, \"Correcto\", \"Revisar Catálogo\"), \"\")","v":""}]
[null,null,null,null,null,null,null,null,null,null,null,null,null,null,null,null,null,null,null,{"$f":"IF(S502<>\"\",(IF(COUNTIFS('Base Maestra'!$A$42:$A$535,N502,'Base Maestra'!$B$42:$B$535,O502,'Base Maestra'!$C$42:$C$535,P502)>0,\"Correcto\",\"Revisar Catálogo\")),\"\")","v":""},{"$f":"IF(S502<>\"\", IF(COUNTIFS(\n     'Base Maestra'!$F$43:$F$54,H502,\n     'Base Maestra'!$G$43:$G$54,I502)>0, \"Correcto\", \"Revisar Catálogo\"), \"\")","v":""}]
[null,null,null,null,null,null,null,null,null,null,null,null,null,null,null,null,null,null,null,{"$f":"IF(S503<>\"\",(IF(COUNTIFS('Base Maestra'!$A$42:$A$535,N503,'Base Maestra'!$B$42:$B$535,O503,'Base Maestra'!$C$42:$C$535,P503)>0,\"Correcto\",\"Revisar Catálogo\")),\"\")","v":""},{"$f":"IF(S503<>\"\", IF(COUNTIFS(\n     'Base Maestra'!$F$43:$F$54,H503,\n     'Base Maestra'!$G$43:$G$54,I503)>0, \"Correcto\", \"Revisar Catálogo\"), \"\")","v":""}]
[null,null,null,null,null,null,null,null,null,null,null,null,null,null,null,null,null,null,null,{"$f":"IF(S504<>\"\",(IF(COUNTIFS('Base Maestra'!$A$42:$A$535,N504,'Base Maestra'!$B$42:$B$535,O504,'Base Maestra'!$C$42:$C$535,P504)>0,\"Correcto\",\"Revisar Catálogo\")),\"\")","v":""},{"$f":"IF(S504<>\"\", IF(COUNTIFS(\n     'Base Maestra'!$F$43:$F$54,H504,\n     'Base Maestra'!$G$43:$G$54,I504)>0, \"Correcto\", \"Revisar Catálogo\"), \"\")","v":""}]
[null,null,null,null,null,null,null,null,null,null,null,null,null,null,null,null,null,null,null,{"$f":"IF(S505<>\"\",(IF(COUNTIFS('Base Maestra'!$A$42:$A$535,N505,'Base Maestra'!$B$42:$B$535,O505,'Base Maestra'!$C$42:$C$535,P505)>0,\"Correcto\",\"Revisar Catálogo\")),\"\")","v":""},{"$f":"IF(S505<>\"\", IF(COUNTIFS(\n     'Base Maestra'!$F$43:$F$54,H505,\n     'Base Maestra'!$G$43:$G$54,I505)>0, \"Correcto\", \"Revisar Catálogo\"), \"\")","v":""}]
[null,null,null,null,null,null,null,null,null,null,null,null,null,null,null,null,null,null,null,{"$f":"IF(S506<>\"\",(IF(COUNTIFS('Base Maestra'!$A$42:$A$535,N506,'Base Maestra'!$B$42:$B$535,O506,'Base Maestra'!$C$42:$C$535,P506)>0,\"Correcto\",\"Revisar Catálogo\")),\"\")","v":""},{"$f":"IF(S506<>\"\", IF(COUNTIFS(\n     'Base Maestra'!$F$43:$F$54,H506,\n     'Base Maestra'!$G$43:$G$54,I506)>0, \"Correcto\", \"Revisar Catálogo\"), \"\")","v":""}]
[null,null,null,null,null,null,null,null,null,null,null,null,null,null,null,null,null,null,null,{"$f":"IF(S507<>\"\",(IF(COUNTIFS('Base Maestra'!$A$42:$A$535,N507,'Base Maestra'!$B$42:$B$535,O507,'Base Maestra'!$C$42:$C$535,P507)>0,\"Correcto\",\"Revisar Catálogo\")),\"\")","v":""},{"$f":"IF(S507<>\"\", IF(COUNTIFS(\n     'Base Maestra'!$F$43:$F$54,H507,\n     'Base Maestra'!$G$43:$G$54,I507)>0, \"Correcto\", \"Revisar Catálogo\"), \"\")","v":""}]
[null,null,null,null,null,null,null,null,null,null,null,null,null,null,null,null,null,null,null,{"$f":"IF(S508<>\"\",(IF(COUNTIFS('Base Maestra'!$A$42:$A$535,N508,'Base Maestra'!$B$42:$B$535,O508,'Base Maestra'!$C$42:$C$535,P508)>0,\"Correcto\",\"Revisar Catálogo\")),\"\")","v":""},{"$f":"IF(S508<>\"\", IF(COUNTIFS(\n     'Base Maestra'!$F$43:$F$54,H508,\n     'Base Maestra'!$G$43:$G$54,I508)>0, \"Correcto\", \"Revisar Catálogo\"), \"\")","v":""}]
[null,null,null,null,null,null,null,null,null,null,null,null,null,null,null,null,null,null,null,{"$f":"IF(S509<>\"\",(IF(COUNTIFS('Base Maestra'!$A$42:$A$535,N509,'Base Maestra'!$B$42:$B$535,O509,'Base Maestra'!$C$42:$C$535,P509)>0,\"Correcto\",\"Revisar Catálogo\")),\"\")","v":""},{"$f":"IF(S509<>\"\", IF(COUNTIFS(\n     'Base Maestra'!$F$43:$F$54,H509,\n     'Base Maestra'!$G$43:$G$54,I509)>0, \"Correcto\", \"Revisar Catálogo\"), \"\")","v":""}]
[null,null,null,null,null,null,null,null,null,null,null,null,null,null,null,null,null,null,null,{"$f":"IF(S510<>\"\",(IF(COUNTIFS('Base Maestra'!$A$42:$A$535,N510,'Base Maestra'!$B$42:$B$535,O510,'Base Maestra'!$C$42:$C$535,P510)>0,\"Correcto\",\"Revisar Catálogo\")),\"\")","v":""},{"$f":"IF(S510<>\"\", IF(COUNTIFS(\n     'Base Maestra'!$F$43:$F$54,H510,\n     'Base Maestra'!$G$43:$G$54,I510)>0, \"Correcto\", \"Revisar Catálogo\"), \"\")","v":""}]
[null,null,null,null,null,null,null,null,null,null,null,null,null,null,null,null,null,null,null,{"$f":"IF(S511<>\"\",(IF(COUNTIFS('Base Maestra'!$A$42:$A$535,N511,'Base Maestra'!$B$42:$B$535,O511,'Base Maestra'!$C$42:$C$535,P511)>0,\"Correcto\",\"Revisar Catálogo\")),\"\")","v":""},{"$f":"IF(S511<>\"\", IF(COUNTIFS(\n     'Base Maestra'!$F$43:$F$54,H511,\n     'Base Maestra'!$G$43:$G$54,I511)>0, \"Correcto\", \"Revisar Catálogo\"), \"\")","v":""}]
[null,null,null,null,null,null,null,null,null,null,null,null,null,null,null,null,null,null,null,{"$f":"IF(S512<>\"\",(IF(COUNTIFS('Base Maestra'!$A$42:$A$535,N512,'Base Maestra'!$B$42:$B$535,O512,'Base Maestra'!$C$42:$C$535,P512)>0,\"Correcto\",\"Revisar Catálogo\")),\"\")","v":""},{"$f":"IF(S512<>\"\", IF(COUNTIFS(\n     'Base Maestra'!$F$43:$F$54,H512,\n     'Base Maestra'!$G$43:$G$54,I512)>0, \"Correcto\", \"Revisar Catálogo\"), \"\")","v":""}]
[null,null,null,null,null,null,null,null,null,null,null,null,null,null,null,null,null,null,null,{"$f":"IF(S513<>\"\",(IF(COUNTIFS('Base Maestra'!$A$42:$A$535,N513,'Base Maestra'!$B$42:$B$535,O513,'Base Maestra'!$C$42:$C$535,P513)>0,\"Correcto\",\"Revisar Catálogo\")),\"\")","v":""},{"$f":"IF(S513<>\"\", IF(COUNTIFS(\n     'Base Maestra'!$F$43:$F$54,H513,\n     'Base Maestra'!$G$43:$G$54,I513)>0, \"Correcto\", \"Revisar Catálogo\"), \"\")","v":""}]
[null,null,null,null,null,null,null,null,null,null,null,null,null,null,null,null,null,null,null,{"$f":"IF(S514<>\"\",(IF(COUNTIFS('Base Maestra'!$A$42:$A$535,N514,'Base Maestra'!$B$42:$B$535,O514,'Base Maestra'!$C$42:$C$535,P514)>0,\"Correcto\",\"Revisar Catálogo\")),\"\")","v":""},{"$f":"IF(S514<>\"\", IF(COUNTIFS(\n     'Base Maestra'!$F$43:$F$54,H514,\n     'Base Maestra'!$G$43:$G$54,I514)>0, \"Correcto\", \"Revisar Catálogo\"), \"\")","v":""}]
[null,null,null,null,null,null,null,null,null,null,null,null,null,null,null,null,null,null,null,{"$f":"IF(S515<>\"\",(IF(COUNTIFS('Base Maestra'!$A$42:$A$535,N515,'Base Maestra'!$B$42:$B$535,O515,'Base Maestra'!$C$42:$C$535,P515)>0,\"Correcto\",\"Revisar Catálogo\")),\"\")","v":""},{"$f":"IF(S515<>\"\", IF(COUNTIFS(\n     'Base Maestra'!$F$43:$F$54,H515,\n     'Base Maestra'!$G$43:$G$54,I515)>0, \"Correcto\", \"Revisar Catálogo\"), \"\")","v":""}]
[null,null,null,null,null,null,null,null,null,null,null,null,null,null,null,null,null,null,null,{"$f":"IF(S516<>\"\",(IF(COUNTIFS('Base Maestra'!$A$42:$A$535,N516,'Base Maestra'!$B$42:$B$535,O516,'Base Maestra'!$C$42:$C$535,P516)>0,\"Correcto\",\"Revisar Catálogo\")),\"\")","v":""},{"$f":"IF(S516<>\"\", IF(COUNTIFS(\n     'Base Maestra'!$F$43:$F$54,H516,\n     'Base Maestra'!$G$43:$G$54,I516)>0, \"Correcto\", \"Revisar Catálogo\"), \"\")","v":""}]
[null,null,null,null,null,null,null,null,null,null,null,null,null,null,null,null,null,null,null,{"$f":"IF(S517<>\"\",(IF(COUNTIFS('Base Maestra'!$A$42:$A$535,N517,'Base Maestra'!$B$42:$B$535,O517,'Base Maestra'!$C$42:$C$535,P517)>0,\"Correcto\",\"Revisar Catálogo\")),\"\")","v":""},{"$f":"IF(S517<>\"\", IF(COUNTIFS(\n     'Base Maestra'!$F$43:$F$54,H517,\n     'Base Maestra'!$G$43:$G$54,I517)>0, \"Correcto\", \"Revisar Catálogo\"), \"\")","v":""}]
[null,null,null,null,null,null,null,null,null,null,null,null,null,null,null,null,null,null,null,{"$f":"IF(S518<>\"\",(IF(COUNTIFS('Base Maestra'!$A$42:$A$535,N518,'Base Maestra'!$B$42:$B$535,O518,'Base Maestra'!$C$42:$C$535,P518)>0,\"Correcto\",\"Revisar Catálogo\")),\"\")","v":""},{"$f":"IF(S518<>\"\", IF(COUNTIFS(\n     'Base Maestra'!$F$43:$F$54,H518,\n     'Base Maestra'!$G$43:$G$54,I518)>0, \"Correcto\", \"Revisar Catálogo\"), \"\")","v":""}]
[null,null,null,null,null,null,null,null,null,null,null,null,null,null,null,null,null,null,null,{"$f":"IF(S519<>\"\",(IF(COUNTIFS('Base Maestra'!$A$42:$A$535,N519,'Base Maestra'!$B$42:$B$535,O519,'Base Maestra'!$C$42:$C$535,P519)>0,\"Correcto\",\"Revisar Catálogo\")),\"\")","v":""},{"$f":"IF(S519<>\"\", IF(COUNTIFS(\n     'Base Maestra'!$F$43:$F$54,H519,\n     'Base Maestra'!$G$43:$G$54,I519)>0, \"Correcto\", \"Revisar Catálogo\"), \"\")","v":""}]
[null,null,null,null,null,null,null,null,null,null,null,null,null,null,null,null,null,null,null,{"$f":"IF(S520<>\"\",(IF(COUNTIFS('Base Maestra'!$A$42:$A$535,N520,'Base Maestra'!$B$42:$B$535,O520,'Base Maestra'!$C$42:$C$535,P520)>0,\"Correcto\",\"Revisar Catálogo\")),\"\")","v":""},{"$f":"IF(S520<>\"\", IF(COUNTIFS(\n     'Base Maestra'!$F$43:$F$54,H520,\n     'Base Maestra'!$G$43:$G$54,I520)>0, \"Correcto\", \"Revisar Catálogo\"), \"\")","v":""}]
[null,null,null,null,null,null,null,null,null,null,null,null,null,null,null,null,null,null,null,{"$f":"IF(S521<>\"\",(IF(COUNTIFS('Base Maestra'!$A$42:$A$535,N521,'Base Maestra'!$B$42:$B$535,O521,'Base Maestra'!$C$42:$C$535,P521)>0,\"Correcto\",\"Revisar Catálogo\")),\"\")","v":""},{"$f":"IF(S521<>\"\", IF(COUNTIFS(\n     'Base Maestra'!$F$43:$F$54,H521,\n     'Base Maestra'!$G$43:$G$54,I521)>0, \"Correcto\", \"Revisar Catálogo\"), \"\")","v":""}]
[null,null,null,null,null,null,null,null,null,null,null,null,null,null,null,null,null,null,null,{"$f":"IF(S522<>\"\",(IF(COUNTIFS('Base Maestra'!$A$42:$A$535,N522,'Base Maestra'!$B$42:$B$535,O522,'Base Maestra'!$C$42:$C$535,P522)>0,\"Correcto\",\"Revisar Catálogo\")),\"\")","v":""},{"$f":"IF(S522<>\"\", IF(COUNTIFS(\n     'Base Maestra'!$F$43:$F$54,H522,\n     'Base Maestra'!$G$43:$G$54,I522)>0, \"Correcto\", \"Revisar Catálogo\"), \"\")","v":""}]
[null,null,null,null,null,null,null,null,null,null,null,null,null,null,null,null,null,null,null,{"$f":"IF(S523<>\"\",(IF(COUNTIFS('Base Maestra'!$A$42:$A$535,N523,'Base Maestra'!$B$42:$B$535,O523,'Base Maestra'!$C$42:$C$535,P523)>0,\"Correcto\",\"Revisar Catálogo\")),\"\")","v":""},{"$f":"IF(S523<>\"\", IF(COUNTIFS(\n     'Base Maestra'!$F$43:$F$54,H523,\n     'Base Maestra'!$G$43:$G$54,I523)>0, \"Correcto\", \"Revisar Catálogo\"), \"\")","v":""}]
[null,null,null,null,null,null,null,null,null,null,null,null,null,null,null,null,null,null,null,{"$f":"IF(S524<>\"\",(IF(COUNTIFS('Base Maestra'!$A$42:$A$535,N524,'Base Maestra'!$B$42:$B$535,O524,'Base Maestra'!$C$42:$C$535,P524)>0,\"Correcto\",\"Revisar Catálogo\")),\"\")","v":""},{"$f":"IF(S524<>\"\", IF(COUNTIFS(\n     'Base Maestra'!$F$43:$F$54,H524,\n     'Base Maestra'!$G$43:$G$54,I524)>0, \"Correcto\", \"Revisar Catálogo\"), \"\")","v":""}]
[null,null,null,null,null,null,null,null,null,null,null,null,null,null,null,null,null,null,null,{"$f":"IF(S525<>\"\",(IF(COUNTIFS('Base Maestra'!$A$42:$A$535,N525,'Base Maestra'!$B$42:$B$535,O525,'Base Maestra'!$C$42:$C$535,P525)>0,\"Correcto\",\"Revisar Catálogo\")),\"\")","v":""},{"$f":"IF(S525<>\"\", IF(COUNTIFS(\n     'Base Maestra'!$F$43:$F$54,H525,\n     'Base Maestra'!$G$43:$G$54,I525)>0, \"Correcto\", \"Revisar Catálogo\"), \"\")","v":""}]
[null,null,null,null,null,null,null,null,null,null,null,null,null,null,null,null,null,null,null,{"$f":"IF(S526<>\"\",(IF(COUNTIFS('Base Maestra'!$A$42:$A$535,N526,'Base Maestra'!$B$42:$B$535,O526,'Base Maestra'!$C$42:$C$535,P526)>0,\"Correcto\",\"Revisar Catálogo\")),\"\")","v":""},{"$f":"IF(S526<>\"\", IF(COUNTIFS(\n     'Base Maestra'!$F$43:$F$54,H526,\n     'Base Maestra'!$G$43:$G$54,I526)>0, \"Correcto\", \"Revisar Catálogo\"), \"\")","v":""}]
[null,null,null,null,null,null,null,null,null,null,null,null,null,null,null,null,null,null,null,{"$f":"IF(S527<>\"\",(IF(COUNTIFS('Base Maestra'!$A$42:$A$535,N527,'Base Maestra'!$B$42:$B$535,O527,'Base Maestra'!$C$42:$C$535,P527)>0,\"Correcto\",\"Revisar Catálogo\")),\"\")","v":""},{"$f":"IF(S527<>\"\", IF(COUNTIFS(\n     'Base Maestra'!$F$43:$F$54,H527,\n     'Base Maestra'!$G$43:$G$54,I527)>0, \"Correcto\", \"Revisar Catálogo\"), \"\")","v":""}]
[null,null,null,null,null,null,null,null,null,null,null,null,null,null,null,null,null,null,null,{"$f":"IF(S528<>\"\",(IF(COUNTIFS('Base Maestra'!$A$42:$A$535,N528,'Base Maestra'!$B$42:$B$535,O528,'Base Maestra'!$C$42:$C$535,P528)>0,\"Correcto\",\"Revisar Catálogo\")),\"\")","v":""},{"$f":"IF(S528<>\"\", IF(COUNTIFS(\n     'Base Maestra'!$F$43:$F$54,H528,\n     'Base Maestra'!$G$43:$G$54,I528)>0, \"Correcto\", \"Revisar Catálogo\"), \"\")","v":""}]
[null,null,null,null,null,null,null,null,null,null,null,null,null,null,null,null,null,null,null,{"$f":"IF(S529<>\"\",(IF(COUNTIFS('Base Maestra'!$A$42:$A$535,N529,'Base Maestra'!$B$42:$B$535,O529,'Base Maestra'!$C$42:$C$535,P529)>0,\"Correcto\",\"Revisar Catálogo\")),\"\")","v":""},{"$f":"IF(S529<>\"\", IF(COUNTIFS(\n     'Base Maestra'!$F$43:$F$54,H529,\n     'Base Maestra'!$G$43:$G$54,I529)>0, \"Correcto\", \"Revisar Catálogo\"), \"\")","v":""}]
[null,null,null,null,null,null,null,null,null,null,null,null,null,null,null,null,null,null,null,{"$f":"IF(S530<>\"\",(IF(COUNTIFS('Base Maestra'!$A$42:$A$535,N530,'Base Maestra'!$B$42:$B$535,O530,'Base Maestra'!$C$42:$C$535,P530)>0,\"Correcto\",\"Revisar Catálogo\")),\"\")","v":""},{"$f":"IF(S530<>\"\", IF(COUNTIFS(\n     'Base Maestra'!$F$43:$F$54,H530,\n     'Base Maestra'!$G$43:$G$54,I530)>0, \"Correcto\", \"Revisar Catálogo\"), \"\")","v":""}]
[null,null,null,null,null,null,null,null,null,null,null,null,null,null,null,null,null,null,null,{"$f":"IF(S531<>\"\",(IF(COUNTIFS('Base Maestra'!$A$42:$A$535,N531,'Base Maestra'!$B$42:$B$535,O531,'Base Maestra'!$C$42:$C$535,P531)>0,\"Correcto\",\"Revisar Catálogo\")),\"\")","v":""},{"$f":"IF(S531<>\"\", IF(COUNTIFS(\n     'Base Maestra'!$F$43:$F$54,H531,\n     'Base Maestra'!$G$43:$G$54,I531)>0, \"Correcto\", \"Revisar Catálogo\"), \"\")","v":""}]
[null,null,null,null,null,null,null,null,null,null,null,null,null,null,null,null,null,null,null,{"$f":"IF(S532<>\"\",(IF(COUNTIFS('Base Maestra'!$A$42:$A$535,N532,'Base Maestra'!$B$42:$B$535,O532,'Base Maestra'!$C$42:$C$535,P532)>0,\"Correcto\",\"Revisar Catálogo\")),\"\")","v":""},{"$f":"IF(S532<>\"\", IF(COUNTIFS(\n     'Base Maestra'!$F$43:$F$54,H532,\n     'Base Maestra'!$G$43:$G$54,I532)>0, \"Correcto\", \"Revisar Catálogo\"), \"\")","v":""}]
[null,null,null,null,null,null,null,null,null,null,null,null,null,null,null,null,null,null,null,{"$f":"IF(S533<>\"\",(IF(COUNTIFS('Base Maestra'!$A$42:$A$535,N533,'Base Maestra'!$B$42:$B$535,O533,'Base Maestra'!$C$42:$C$535,P533)>0,\"Correcto\",\"Revisar Catálogo\")),\"\")","v":""},{"$f":"IF(S533<>\"\", IF(COUNTIFS(\n     'Base Maestra'!$F$43:$F$54,H533,\n     'Base Maestra'!$G$43:$G$54,I533)>0, \"Correcto\", \"Revisar Catálogo\"), \"\")","v":""}]
[null,null,null,null,null,null,null,null,null,null,null,null,null,null,null,null,null,null,null,{"$f":"IF(S534<>\"\",(IF(COUNTIFS('Base Maestra'!$A$42:$A$535,N534,'Base Maestra'!$B$42:$B$535,O534,'Base Maestra'!$C$42:$C$535,P534)>0,\"Correcto\",\"Revisar Catálogo\")),\"\")","v":""},{"$f":"IF(S534<>\"\", IF(COUNTIFS(\n     'Base Maestra'!$F$43:$F$54,H534,\n     'Base Maestra'!$G$43:$G$54,I534)>0, \"Correcto\", \"Revisar Catálogo\"), \"\")","v":""}]
[null,null,null,null,null,null,null,null,null,null,null,null,null,null,null,null,null,null,null,{"$f":"IF(S535<>\"\",(IF(COUNTIFS('Base Maestra'!$A$42:$A$535,N535,'Base Maestra'!$B$42:$B$535,O535,'Base Maestra'!$C$42:$C$535,P535)>0,\"Correcto\",\"Revisar Catálogo\")),\"\")","v":""},{"$f":"IF(S535<>\"\", IF(COUNTIFS(\n     'Base Maestra'!$F$43:$F$54,H535,\n     'Base Maestra'!$G$43:$G$54,I535)>0, \"Correcto\", \"Revisar Catálogo\"), \"\")","v":""}]
[null,null,null,null,null,null,null,null,null,null,null,null,null,null,null,null,null,null,null,{"$f":"IF(S536<>\"\",(IF(COUNTIFS('Base Maestra'!$A$42:$A$535,N536,'Base Maestra'!$B$42:$B$535,O536,'Base Maestra'!$C$42:$C$535,P536)>0,\"Correcto\",\"Revisar Catálogo\")),\"\")","v":""},{"$f":"IF(S536<>\"\", IF(COUNTIFS(\n     'Base Maestra'!$F$43:$F$54,H536,\n     'Base Maestra'!$G$43:$G$54,I536)>0, \"Correcto\", \"Revisar Catálogo\"), \"\")","v":""}]
[null,null,null,null,null,null,null,null,null,null,null,null,null,null,null,null,null,null,null,{"$f":"IF(S537<>\"\",(IF(COUNTIFS('Base Maestra'!$A$42:$A$535,N537,'Base Maestra'!$B$42:$B$535,O537,'Base Maestra'!$C$42:$C$535,P537)>0,\"Correcto\",\"Revisar Catálogo\")),\"\")","v":""},{"$f":"IF(S537<>\"\", IF(COUNTIFS(\n     'Base Maestra'!$F$43:$F$54,H537,\n     'Base Maestra'!$G$43:$G$54,I537)>0, \"Correcto\", \"Revisar Catálogo\"), \"\")","v":""}]
[null,null,null,null,null,null,null,null,null,null,null,null,null,null,null,null,null,null,null,{"$f":"IF(S538<>\"\",(IF(COUNTIFS('Base Maestra'!$A$42:$A$535,N538,'Base Maestra'!$B$42:$B$535,O538,'Base Maestra'!$C$42:$C$535,P538)>0,\"Correcto\",\"Revisar Catálogo\")),\"\")","v":""},{"$f":"IF(S538<>\"\", IF(COUNTIFS(\n     'Base Maestra'!$F$43:$F$54,H538,\n     'Base Maestra'!$G$43:$G$54,I538)>0, \"Correcto\", \"Revisar Catálogo\"), \"\")","v":""}]
[null,null,null,null,null,null,null,null,null,null,null,null,null,null,null,null,null,null,null,{"$f":"IF(S539<>\"\",(IF(COUNTIFS('Base Maestra'!$A$42:$A$535,N539,'Base Maestra'!$B$42:$B$535,O539,'Base Maestra'!$C$42:$C$535,P539)>0,\"Correcto\",\"Revisar Catálogo\")),\"\")","v":""},{"$f":"IF(S539<>\"\", IF(COUNTIFS(\n     'Base Maestra'!$F$43:$F$54,H539,\n     'Base Maestra'!$G$43:$G$54,I539)>0, \"Correcto\", \"Revisar Catálogo\"), \"\")","v":""}]
[null,null,null,null,null,null,null,null,null,null,null,null,null,null,null,null,null,null,null,{"$f":"IF(S540<>\"\",(IF(COUNTIFS('Base Maestra'!$A$42:$A$535,N540,'Base Maestra'!$B$42:$B$535,O540,'Base Maestra'!$C$42:$C$535,P540)>0,\"Correcto\",\"Revisar Catálogo\")),\"\")","v":""},{"$f":"IF(S540<>\"\", IF(COUNTIFS(\n     'Base Maestra'!$F$43:$F$54,H540,\n     'Base Maestra'!$G$43:$G$54,I540)>0, \"Correcto\", \"Revisar Catálogo\"), \"\")","v":""}]
[null,null,null,null,null,null,null,null,null,null,null,null,null,null,null,null,null,null,null,{"$f":"IF(S541<>\"\",(IF(COUNTIFS('Base Maestra'!$A$42:$A$535,N541,'Base Maestra'!$B$42:$B$535,O541,'Base Maestra'!$C$42:$C$535,P541)>0,\"Correcto\",\"Revisar Catálogo\")),\"\")","v":""},{"$f":"IF(S541<>\"\", IF(COUNTIFS(\n     'Base Maestra'!$F$43:$F$54,H541,\n     'Base Maestra'!$G$43:$G$54,I541)>0, \"Correcto\", \"Revisar Catálogo\"), \"\")","v":""}]
[null,null,null,null,null,null,null,null,null,null,null,null,null,null,null,null,null,null,null,{"$f":"IF(S542<>\"\",(IF(COUNTIFS('Base Maestra'!$A$42:$A$535,N542,'Base Maestra'!$B$42:$B$535,O542,'Base Maestra'!$C$42:$C$535,P542)>0,\"Correcto\",\"Revisar Catálogo\")),\"\")","v":""},{"$f":"IF(S542<>\"\", IF(COUNTIFS(\n     'Base Maestra'!$F$43:$F$54,H542,\n     'Base Maestra'!$G$43:$G$54,I542)>0, \"Correcto\", \"Revisar Catálogo\"), \"\")","v":""}]
[null,null,null,null,null,null,null,null,null,null,null,null,null,null,null,null,null,null,null,{"$f":"IF(S543<>\"\",(IF(COUNTIFS('Base Maestra'!$A$42:$A$535,N543,'Base Maestra'!$B$42:$B$535,O543,'Base Maestra'!$C$42:$C$535,P543)>0,\"Correcto\",\"Revisar Catálogo\")),\"\")","v":""},{"$f":"IF(S543<>\"\", IF(COUNTIFS(\n     'Base Maestra'!$F$43:$F$54,H543,\n     'Base Maestra'!$G$43:$G$54,I543)>0, \"Correcto\", \"Revisar Catálogo\"), \"\")","v":""}]
[null,null,null,null,null,null,null,null,null,null,null,null,null,null,null,null,null,null,null,{"$f":"IF(S544<>\"\",(IF(COUNTIFS('Base Maestra'!$A$42:$A$535,N544,'Base Maestra'!$B$42:$B$535,O544,'Base Maestra'!$C$42:$C$535,P544)>0,\"Correcto\",\"Revisar Catálogo\")),\"\")","v":""},{"$f":"IF(S544<>\"\", IF(COUNTIFS(\n     'Base Maestra'!$F$43:$F$54,H544,\n     'Base Maestra'!$G$43:$G$54,I544)>0, \"Correcto\", \"Revisar Catálogo\"), \"\")","v":""}]
[null,null,null,null,null,null,null,null,null,null,null,null,null,null,null,null,null,null,null,{"$f":"IF(S545<>\"\",(IF(COUNTIFS('Base Maestra'!$A$42:$A$535,N545,'Base Maestra'!$B$42:$B$535,O545,'Base Maestra'!$C$42:$C$535,P545)>0,\"Correcto\",\"Revisar Catálogo\")),\"\")","v":""},{"$f":"IF(S545<>\"\", IF(COUNTIFS(\n     'Base Maestra'!$F$43:$F$54,H545,\n     'Base Maestra'!$G$43:$G$54,I545)>0, \"Correcto\", \"Revisar Catálogo\"), \"\")","v":""}]
[null,null,null,null,null,null,null,null,null,null,null,null,null,null,null,null,null,null,null,{"$f":"IF(S546<>\"\",(IF(COUNTIFS('Base Maestra'!$A$42:$A$535,N546,'Base Maestra'!$B$42:$B$535,O546,'Base Maestra'!$C$42:$C$535,P546)>0,\"Correcto\",\"Revisar Catálogo\")),\"\")","v":""},{"$f":"IF(S546<>\"\", IF(COUNTIFS(\n     'Base Maestra'!$F$43:$F$54,H546,\n     'Base Maestra'!$G$43:$G$54,I546)>0, \"Correcto\", \"Revisar Catálogo\"), \"\")","v":""}]
[null,null,null,null,null,null,null,null,null,null,null,null,null,null,null,null,null,null,null,{"$f":"IF(S547<>\"\",(IF(COUNTIFS('Base Maestra'!$A$42:$A$535,N547,'Base Maestra'!$B$42:$B$535,O547,'Base Maestra'!$C$42:$C$535,P547)>0,\"Correcto\",\"Revisar Catálogo\")),\"\")","v":""},{"$f":"IF(S547<>\"\", IF(COUNTIFS(\n     'Base Maestra'!$F$43:$F$54,H547,\n     'Base Maestra'!$G$43:$G$54,I547)>0, \"Correcto\", \"Revisar Catálogo\"), \"\")","v":""}]
[null,null,null,null,null,null,null,null,null,null,null,null,null,null,null,null,null,null,null,{"$f":"IF(S548<>\"\",(IF(COUNTIFS('Base Maestra'!$A$42:$A$535,N548,'Base Maestra'!$B$42:$B$535,O548,'Base Maestra'!$C$42:$C$535,P548)>0,\"Correcto\",\"Revisar Catálogo\")),\"\")","v":""},{"$f":"IF(S548<>\"\", IF(COUNTIFS(\n     'Base Maestra'!$F$43:$F$54,H548,\n     'Base Maestra'!$G$43:$G$54,I548)>0, \"Correcto\", \"Revisar Catálogo\"), \"\")","v":""}]
[null,null,null,null,null,null,null,null,null,null,null,null,null,null,null,null,null,null,null,{"$f":"IF(S549<>\"\",(IF(COUNTIFS('Base Maestra'!$A$42:$A$535,N549,'Base Maestra'!$B$42:$B$535,O549,'Base Maestra'!$C$42:$C$535,P549)>0,\"Correcto\",\"Revisar Catálogo\")),\"\")","v":""},{"$f":"IF(S549<>\"\", IF(COUNTIFS(\n     'Base Maestra'!$F$43:$F$54,H549,\n     'Base Maestra'!$G$43:$G$54,I549)>0, \"Correcto\", \"Revisar Catálogo\"), \"\")","v":""}]
[null,null,null,null,null,null,null,null,null,null,null,null,null,null,null,null,null,null,null,{"$f":"IF(S550<>\"\",(IF(COUNTIFS('Base Maestra'!$A$42:$A$535,N550,'Base Maestra'!$B$42:$B$535,O550,'Base Maestra'!$C$42:$C$535,P550)>0,\"Correcto\",\"Revisar Catálogo\")),\"\")","v":""},{"$f":"IF(S550<>\"\", IF(COUNTIFS(\n     'Base Maestra'!$F$43:$F$54,H550,\n     'Base Maestra'!$G$43:$G$54,I550)>0, \"Correcto\", \"Revisar Catálogo\"), \"\")","v":""}]
[null,null,null,null,null,null,null,null,null,null,null,null,null,null,null,null,null,null,null,{"$f":"IF(S551<>\"\",(IF(COUNTIFS('Base Maestra'!$A$42:$A$535,N551,'Base Maestra'!$B$42:$B$535,O551,'Base Maestra'!$C$42:$C$535,P551)>0,\"Correcto\",\"Revisar Catálogo\")),\"\")","v":""},{"$f":"IF(S551<>\"\", IF(COUNTIFS(\n     'Base Maestra'!$F$43:$F$54,H551,\n     'Base Maestra'!$G$43:$G$54,I551)>0, \"Correcto\", \"Revisar Catálogo\"), \"\")","v":""}]
[null,null,null,null,null,null,null,null,null,null,null,null,null,null,null,null,null,null,null,{"$f":"IF(S552<>\"\",(IF(COUNTIFS('Base Maestra'!$A$42:$A$535,N552,'Base Maestra'!$B$42:$B$535,O552,'Base Maestra'!$C$42:$C$535,P552)>0,\"Correcto\",\"Revisar Catálogo\")),\"\")","v":""},{"$f":"IF(S552<>\"\", IF(COUNTIFS(\n     'Base Maestra'!$F$43:$F$54,H552,\n     'Base Maestra'!$G$43:$G$54,I552)>0, \"Correcto\", \"Revisar Catálogo\"), \"\")","v":""}]
[null,null,null,null,null,null,null,null,null,null,null,null,null,null,null,null,null,null,null,{"$f":"IF(S553<>\"\",(IF(COUNTIFS('Base Maestra'!$A$42:$A$535,N553,'Base Maestra'!$B$42:$B$535,O553,'Base Maestra'!$C$42:$C$535,P553)>0,\"Correcto\",\"Revisar Catálogo\")),\"\")","v":""},{"$f":"IF(S553<>\"\", IF(COUNTIFS(\n     'Base Maestra'!$F$43:$F$54,H553,\n     'Base Maestra'!$G$43:$G$54,I553)>0, \"Correcto\", \"Revisar Catálogo\"), \"\")","v":""}]
[null,null,null,null,null,null,null,null,null,null,null,null,null,null,null,null,null,null,null,{"$f":"IF(S554<>\"\",(IF(COUNTIFS('Base Maestra'!$A$42:$A$535,N554,'Base Maestra'!$B$42:$B$535,O554,'Base Maestra'!$C$42:$C$535,P554)>0,\"Correcto\",\"Revisar Catálogo\")),\"\")","v":""},{"$f":"IF(S554<>\"\", IF(COUNTIFS(\n     'Base Maestra'!$F$43:$F$54,H554,\n     'Base Maestra'!$G$43:$G$54,I554)>0, \"Correcto\", \"Revisar Catálogo\"), \"\")","v":""}]
[null,null,null,null,null,null,null,null,null,null,null,null,null,null,null,null,null,null,null,{"$f":"IF(S555<>\"\",(IF(COUNTIFS('Base Maestra'!$A$42:$A$535,N555,'Base Maestra'!$B$42:$B$535,O555,'Base Maestra'!$C$42:$C$535,P555)>0,\"Correcto\",\"Revisar Catálogo\")),\"\")","v":""},{"$f":"IF(S555<>\"\", IF(COUNTIFS(\n     'Base Maestra'!$F$43:$F$54,H555,\n     'Base Maestra'!$G$43:$G$54,I555)>0, \"Correcto\", \"Revisar Catálogo\"), \"\")","v":""}]
[null,null,null,null,null,null,null,null,null,null,null,null,null,null,null,null,null,null,null,{"$f":"IF(S556<>\"\",(IF(COUNTIFS('Base Maestra'!$A$42:$A$535,N556,'Base Maestra'!$B$42:$B$535,O556,'Base Maestra'!$C$42:$C$535,P556)>0,\"Correcto\",\"Revisar Catálogo\")),\"\")","v":""},{"$f":"IF(S556<>\"\", IF(COUNTIFS(\n     'Base Maestra'!$F$43:$F$54,H556,\n     'Base Maestra'!$G$43:$G$54,I556)>0, \"Correcto\", \"Revisar Catálogo\"), \"\")","v":""}]
[null,null,null,null,null,null,null,null,null,null,null,null,null,null,null,null,null,null,null,{"$f":"IF(S557<>\"\",(IF(COUNTIFS('Base Maestra'!$A$42:$A$535,N557,'Base Maestra'!$B$42:$B$535,O557,'Base Maestra'!$C$42:$C$535,P557)>0,\"Correcto\",\"Revisar Catálogo\")),\"\")","v":""},{"$f":"IF(S557<>\"\", IF(COUNTIFS(\n     'Base Maestra'!$F$43:$F$54,H557,\n     'Base Maestra'!$G$43:$G$54,I557)>0, \"Correcto\", \"Revisar Catálogo\"), \"\")","v":""}]
[null,null,null,null,null,null,null,null,null,null,null,null,null,null,null,null,null,null,null,{"$f":"IF(S558<>\"\",(IF(COUNTIFS('Base Maestra'!$A$42:$A$535,N558,'Base Maestra'!$B$42:$B$535,O558,'Base Maestra'!$C$42:$C$535,P558)>0,\"Correcto\",\"Revisar Catálogo\")),\"\")","v":""},{"$f":"IF(S558<>\"\", IF(COUNTIFS(\n     'Base Maestra'!$F$43:$F$54,H558,\n     'Base Maestra'!$G$43:$G$54,I558)>0, \"Correcto\", \"Revisar Catálogo\"), \"\")","v":""}]
[null,null,null,null,null,null,null,null,null,null,null,null,null,null,null,null,null,null,null,{"$f":"IF(S559<>\"\",(IF(COUNTIFS('Base Maestra'!$A$42:$A$535,N559,'Base Maestra'!$B$42:$B$535,O559,'Base Maestra'!$C$42:$C$535,P559)>0,\"Correcto\",\"Revisar Catálogo\")),\"\")","v":""},{"$f":"IF(S559<>\"\", IF(COUNTIFS(\n     'Base Maestra'!$F$43:$F$54,H559,\n     'Base Maestra'!$G$43:$G$54,I559)>0, \"Correcto\", \"Revisar Catálogo\"), \"\")","v":""}]
[null,null,null,null,null,null,null,null,null,null,null,null,null,null,null,null,null,null,null,{"$f":"IF(S560<>\"\",(IF(COUNTIFS('Base Maestra'!$A$42:$A$535,N560,'Base Maestra'!$B$42:$B$535,O560,'Base Maestra'!$C$42:$C$535,P560)>0,\"Correcto\",\"Revisar Catálogo\")),\"\")","v":""},{"$f":"IF(S560<>\"\", IF(COUNTIFS(\n     'Base Maestra'!$F$43:$F$54,H560,\n     'Base Maestra'!$G$43:$G$54,I560)>0, \"Correcto\", \"Revisar Catálogo\"), \"\")","v":""}]
[null,null,null,null,null,null,null,null,null,null,null,null,null,null,null,null,null,null,null,{"$f":"IF(S561<>\"\",(IF(COUNTIFS('Base Maestra'!$A$42:$A$535,N561,'Base Maestra'!$B$42:$B$535,O561,'Base Maestra'!$C$42:$C$535,P561)>0,\"Correcto\",\"Revisar Catálogo\")),\"\")","v":""},{"$f":"IF(S561<>\"\", IF(COUNTIFS(\n     'Base Maestra'!$F$43:$F$54,H561,\n     'Base Maestra'!$G$43:$G$54,I561)>0, \"Correcto\", \"Revisar Catálogo\"), \"\")","v":""}]
[null,null,null,null,null,null,null,null,null,null,null,null,null,null,null,null,null,null,null,{"$f":"IF(S562<>\"\",(IF(COUNTIFS('Base Maestra'!$A$42:$A$535,N562,'Base Maestra'!$B$42:$B$535,O562,'Base Maestra'!$C$42:$C$535,P562)>0,\"Correcto\",\"Revisar Catálogo\")),\"\")","v":""},{"$f":"IF(S562<>\"\", IF(COUNTIFS(\n     'Base Maestra'!$F$43:$F$54,H562,\n     'Base Maestra'!$G$43:$G$54,I562)>0, \"Correcto\", \"Revisar Catálogo\"), \"\")","v":""}]
[null,null,null,null,null,null,null,null,null,null,null,null,null,null,null,null,null,null,null,{"$f":"IF(S563<>\"\",(IF(COUNTIFS('Base Maestra'!$A$42:$A$535,N563,'Base Maestra'!$B$42:$B$535,O563,'Base Maestra'!$C$42:$C$535,P563)>0,\"Correcto\",\"Revisar Catálogo\")),\"\")","v":""},{"$f":"IF(S563<>\"\", IF(COUNTIFS(\n     'Base Maestra'!$F$43:$F$54,H563,\n     'Base Maestra'!$G$43:$G$54,I563)>0, \"Correcto\", \"Revisar Catálogo\"), \"\")","v":""}]
[null,null,null,null,null,null,null,null,null,null,null,null,null,null,null,null,null,null,null,{"$f":"IF(S564<>\"\",(IF(COUNTIFS('Base Maestra'!$A$42:$A$535,N564,'Base Maestra'!$B$42:$B$535,O564,'Base Maestra'!$C$42:$C$535,P564)>0,\"Correcto\",\"Revisar Catálogo\")),\"\")","v":""},{"$f":"IF(S564<>\"\", IF(COUNTIFS(\n     'Base Maestra'!$F$43:$F$54,H564,\n     'Base Maestra'!$G$43:$G$54,I564)>0, \"Correcto\", \"Revisar Catálogo\"), \"\")","v":""}]
[null,null,null,null,null,null,null,null,null,null,null,null,null,null,null,null,null,null,null,{"$f":"IF(S565<>\"\",(IF(COUNTIFS('Base Maestra'!$A$42:$A$535,N565,'Base Maestra'!$B$42:$B$535,O565,'Base Maestra'!$C$42:$C$535,P565)>0,\"Correcto\",\"Revisar Catálogo\")),\"\")","v":""},{"$f":"IF(S565<>\"\", IF(COUNTIFS(\n     'Base Maestra'!$F$43:$F$54,H565,\n     'Base Maestra'!$G$43:$G$54,I565)>0, \"Correcto\", \"Revisar Catálogo\"), \"\")","v":""}]
[null,null,null,null,null,null,null,null,null,null,null,null,null,null,null,null,null,null,null,{"$f":"IF(S566<>\"\",(IF(COUNTIFS('Base Maestra'!$A$42:$A$535,N566,'Base Maestra'!$B$42:$B$535,O566,'Base Maestra'!$C$42:$C$535,P566)>0,\"Correcto\",\"Revisar Catálogo\")),\"\")","v":""},{"$f":"IF(S566<>\"\", IF(COUNTIFS(\n     'Base Maestra'!$F$43:$F$54,H566,\n     'Base Maestra'!$G$43:$G$54,I566)>0, \"Correcto\", \"Revisar Catálogo\"), \"\")","v":""}]
[null,null,null,null,null,null,null,null,null,null,null,null,null,null,null,null,null,null,null,{"$f":"IF(S567<>\"\",(IF(COUNTIFS('Base Maestra'!$A$42:$A$535,N567,'Base Maestra'!$B$42:$B$535,O567,'Base Maestra'!$C$42:$C$535,P567)>0,\"Correcto\",\"Revisar Catálogo\")),\"\")","v":""},{"$f":"IF(S567<>\"\", IF(COUNTIFS(\n     'Base Maestra'!$F$43:$F$54,H567,\n     'Base Maestra'!$G$43:$G$54,I567)>0, \"Correcto\", \"Revisar Catálogo\"), \"\")","v":""}]
[null,null,null,null,null,null,null,null,null,null,null,null,null,null,null,null,null,null,null,{"$f":"IF(S568<>\"\",(IF(COUNTIFS('Base Maestra'!$A$42:$A$535,N568,'Base Maestra'!$B$42:$B$535,O568,'Base Maestra'!$C$42:$C$535,P568)>0,\"Correcto\",\"Revisar Catálogo\")),\"\")","v":""},{"$f":"IF(S568<>\"\", IF(COUNTIFS(\n     'Base Maestra'!$F$43:$F$54,H568,\n     'Base Maestra'!$G$43:$G$54,I568)>0, \"Correcto\", \"Revisar Catálogo\"), \"\")","v":""}]
[null,null,null,null,null,null,null,null,null,null,null,null,null,null,null,null,null,null,null,{"$f":"IF(S569<>\"\",(IF(COUNTIFS('Base Maestra'!$A$42:$A$535,N569,'Base Maestra'!$B$42:$B$535,O569,'Base Maestra'!$C$42:$C$535,P569)>0,\"Correcto\",\"Revisar Catálogo\")),\"\")","v":""},{"$f":"IF(S569<>\"\", IF(COUNTIFS(\n     'Base Maestra'!$F$43:$F$54,H569,\n     'Base Maestra'!$G$43:$G$54,I569)>0, \"Correcto\", \"Revisar Catálogo\"), \"\")","v":""}]
[null,null,null,null,null,null,null,null,null,null,null,null,null,null,null,null,null,null,null,{"$f":"IF(S570<>\"\",(IF(COUNTIFS('Base Maestra'!$A$42:$A$535,N570,'Base Maestra'!$B$42:$B$535,O570,'Base Maestra'!$C$42:$C$535,P570)>0,\"Correcto\",\"Revisar Catálogo\")),\"\")","v":""},{"$f":"IF(S570<>\"\", IF(COUNTIFS(\n     'Base Maestra'!$F$43:$F$54,H570,\n     'Base Maestra'!$G$43:$G$54,I570)>0, \"Correcto\", \"Revisar Catálogo\"), \"\")","v":""}]
[null,null,null,null,null,null,null,null,null,null,null,null,null,null,null,null,null,null,null,{"$f":"IF(S571<>\"\",(IF(COUNTIFS('Base Maestra'!$A$42:$A$535,N571,'Base Maestra'!$B$42:$B$535,O571,'Base Maestra'!$C$42:$C$535,P571)>0,\"Correcto\",\"Revisar Catálogo\")),\"\")","v":""},{"$f":"IF(S571<>\"\", IF(COUNTIFS(\n     'Base Maestra'!$F$43:$F$54,H571,\n     'Base Maestra'!$G$43:$G$54,I571)>0, \"Correcto\", \"Revisar Catálogo\"), \"\")","v":""}]
[null,null,null,null,null,null,null,null,null,null,null,null,null,null,null,null,null,null,null,{"$f":"IF(S572<>\"\",(IF(COUNTIFS('Base Maestra'!$A$42:$A$535,N572,'Base Maestra'!$B$42:$B$535,O572,'Base Maestra'!$C$42:$C$535,P572)>0,\"Correcto\",\"Revisar Catálogo\")),\"\")","v":""},{"$f":"IF(S572<>\"\", IF(COUNTIFS(\n     'Base Maestra'!$F$43:$F$54,H572,\n     'Base Maestra'!$G$43:$G$54,I572)>0, \"Correcto\", \"Revisar Catálogo\"), \"\")","v":""}]
[null,null,null,null,null,null,null,null,null,null,null,null,null,null,null,null,null,null,null,{"$f":"IF(S573<>\"\",(IF(COUNTIFS('Base Maestra'!$A$42:$A$535,N573,'Base Maestra'!$B$42:$B$535,O573,'Base Maestra'!$C$42:$C$535,P573)>0,\"Correcto\",\"Revisar Catálogo\")),\"\")","v":""},{"$f":"IF(S573<>\"\", IF(COUNTIFS(\n     'Base Maestra'!$F$43:$F$54,H573,\n     'Base Maestra'!$G$43:$G$54,I573)>0, \"Correcto\", \"Revisar Catálogo\"), \"\")","v":""}]
[null,null,null,null,null,null,null,null,null,null,null,null,null,null,null,null,null,null,null,{"$f":"IF(S574<>\"\",(IF(COUNTIFS('Base Maestra'!$A$42:$A$535,N574,'Base Maestra'!$B$42:$B$535,O574,'Base Maestra'!$C$42:$C$535,P574)>0,\"Correcto\",\"Revisar Catálogo\")),\"\")","v":""},{"$f":"IF(S574<>\"\", IF(COUNTIFS(\n     'Base Maestra'!$F$43:$F$54,H574,\n     'Base Maestra'!$G$43:$G$54,I574)>0, \"Correcto\", \"Revisar Catálogo\"), \"\")","v":""}]
[null,null,null,null,null,null,null,null,null,null,null,null,null,null,null,null,null,null,null,{"$f":"IF(S575<>\"\",(IF(COUNTIFS('Base Maestra'!$A$42:$A$535,N575,'Base Maestra'!$B$42:$B$535,O575,'Base Maestra'!$C$42:$C$535,P575)>0,\"Correcto\",\"Revisar Catálogo\")),\"\")","v":""},{"$f":"IF(S575<>\"\", IF(COUNTIFS(\n     'Base Maestra'!$F$43:$F$54,H575,\n     'Base Maestra'!$G$43:$G$54,I575)>0, \"Correcto\", \"Revisar Catálogo\"), \"\")","v":""}]
[null,null,null,null,null,null,null,null,null,null,null,null,null,null,null,null,null,null,null,{"$f":"IF(S576<>\"\",(IF(COUNTIFS('Base Maestra'!$A$42:$A$535,N576,'Base Maestra'!$B$42:$B$535,O576,'Base Maestra'!$C$42:$C$535,P576)>0,\"Correcto\",\"Revisar Catálogo\")),\"\")","v":""},{"$f":"IF(S576<>\"\", IF(COUNTIFS(\n     'Base Maestra'!$F$43:$F$54,H576,\n     'Base Maestra'!$G$43:$G$54,I576)>0, \"Correcto\", \"Revisar Catálogo\"), \"\")","v":""}]
[null,null,null,null,null,null,null,null,null,null,null,null,null,null,null,null,null,null,null,{"$f":"IF(S577<>\"\",(IF(COUNTIFS('Base Maestra'!$A$42:$A$535,N577,'Base Maestra'!$B$42:$B$535,O577,'Base Maestra'!$C$42:$C$535,P577)>0,\"Correcto\",\"Revisar Catálogo\")),\"\")","v":""},{"$f":"IF(S577<>\"\", IF(COUNTIFS(\n     'Base Maestra'!$F$43:$F$54,H577,\n     'Base Maestra'!$G$43:$G$54,I577)>0, \"Correcto\", \"Revisar Catálogo\"), \"\")","v":""}]
[null,null,null,null,null,null,null,null,null,null,null,null,null,null,null,null,null,null,null,{"$f":"IF(S578<>\"\",(IF(COUNTIFS('Base Maestra'!$A$42:$A$535,N578,'Base Maestra'!$B$42:$B$535,O578,'Base Maestra'!$C$42:$C$535,P578)>0,\"Correcto\",\"Revisar Catálogo\")),\"\")","v":""},{"$f":"IF(S578<>\"\", IF(COUNTIFS(\n     'Base Maestra'!$F$43:$F$54,H578,\n     'Base Maestra'!$G$43:$G$54,I578)>0, \"Correcto\", \"Revisar Catálogo\"), \"\")","v":""}]
[null,null,null,null,null,null,null,null,null,null,null,null,null,null,null,null,null,null,null,{"$f":"IF(S579<>\"\",(IF(COUNTIFS('Base Maestra'!$A$42:$A$535,N579,'Base Maestra'!$B$42:$B$535,O579,'Base Maestra'!$C$42:$C$535,P579)>0,\"Correcto\",\"Revisar Catálogo\")),\"\")","v":""},{"$f":"IF(S579<>\"\", IF(COUNTIFS(\n     'Base Maestra'!$F$43:$F$54,H579,\n     'Base Maestra'!$G$43:$G$54,I579)>0, \"Correcto\", \"Revisar Catálogo\"), \"\")","v":""}]
[null,null,null,null,null,null,null,null,null,null,null,null,null,null,null,null,null,null,null,{"$f":"IF(S580<>\"\",(IF(COUNTIFS('Base Maestra'!$A$42:$A$535,N580,'Base Maestra'!$B$42:$B$535,O580,'Base Maestra'!$C$42:$C$535,P580)>0,\"Correcto\",\"Revisar Catálogo\")),\"\")","v":""},{"$f":"IF(S580<>\"\", IF(COUNTIFS(\n     'Base Maestra'!$F$43:$F$54,H580,\n     'Base Maestra'!$G$43:$G$54,I580)>0, \"Correcto\", \"Revisar Catálogo\"), \"\")","v":""}]
[null,null,null,null,null,null,null,null,null,null,null,null,null,null,null,null,null,null,null,{"$f":"IF(S581<>\"\",(IF(COUNTIFS('Base Maestra'!$A$42:$A$535,N581,'Base Maestra'!$B$42:$B$535,O581,'Base Maestra'!$C$42:$C$535,P581)>0,\"Correcto\",\"Revisar Catálogo\")),\"\")","v":""},{"$f":"IF(S581<>\"\", IF(COUNTIFS(\n     'Base Maestra'!$F$43:$F$54,H581,\n     'Base Maestra'!$G$43:$G$54,I581)>0, \"Correcto\", \"Revisar Catálogo\"), \"\")","v":""}]
[null,null,null,null,null,null,null,null,null,null,null,null,null,null,null,null,null,null,null,{"$f":"IF(S582<>\"\",(IF(COUNTIFS('Base Maestra'!$A$42:$A$535,N582,'Base Maestra'!$B$42:$B$535,O582,'Base Maestra'!$C$42:$C$535,P582)>0,\"Correcto\",\"Revisar Catálogo\")),\"\")","v":""},{"$f":"IF(S582<>\"\", IF(COUNTIFS(\n     'Base Maestra'!$F$43:$F$54,H582,\n     'Base Maestra'!$G$43:$G$54,I582)>0, \"Correcto\", \"Revisar Catálogo\"), \"\")","v":""}]
[null,null,null,null,null,null,null,null,null,null,null,null,null,null,null,null,null,null,null,{"$f":"IF(S583<>\"\",(IF(COUNTIFS('Base Maestra'!$A$42:$A$535,N583,'Base Maestra'!$B$42:$B$535,O583,'Base Maestra'!$C$42:$C$535,P583)>0,\"Correcto\",\"Revisar Catálogo\")),\"\")","v":""},{"$f":"IF(S583<>\"\", IF(COUNTIFS(\n     'Base Maestra'!$F$43:$F$54,H583,\n     'Base Maestra'!$G$43:$G$54,I583)>0, \"Correcto\", \"Revisar Catálogo\"), \"\")","v":""}]
[null,null,null,null,null,null,null,null,null,null,null,null,null,null,null,null,null,null,null,{"$f":"IF(S584<>\"\",(IF(COUNTIFS('Base Maestra'!$A$42:$A$535,N584,'Base Maestra'!$B$42:$B$535,O584,'Base Maestra'!$C$42:$C$535,P584)>0,\"Correcto\",\"Revisar Catálogo\")),\"\")","v":""},{"$f":"IF(S584<>\"\", IF(COUNTIFS(\n     'Base Maestra'!$F$43:$F$54,H584,\n     'Base Maestra'!$G$43:$G$54,I584)>0, \"Correcto\", \"Revisar Catálogo\"), \"\")","v":""}]
[null,null,null,null,null,null,null,null,null,null,null,null,null,null,null,null,null,null,null,{"$f":"IF(S585<>\"\",(IF(COUNTIFS('Base Maestra'!$A$42:$A$535,N585,'Base Maestra'!$B$42:$B$535,O585,'Base Maestra'!$C$42:$C$535,P585)>0,\"Correcto\",\"Revisar Catálogo\")),\"\")","v":""},{"$f":"IF(S585<>\"\", IF(COUNTIFS(\n     'Base Maestra'!$F$43:$F$54,H585,\n     'Base Maestra'!$G$43:$G$54,I585)>0, \"Correcto\", \"Revisar Catálogo\"), \"\")","v":""}]
[null,null,null,null,null,null,null,null,null,null,null,null,null,null,null,null,null,null,null,{"$f":"IF(S586<>\"\",(IF(COUNTIFS('Base Maestra'!$A$42:$A$535,N586,'Base Maestra'!$B$42:$B$535,O586,'Base Maestra'!$C$42:$C$535,P586)>0,\"Correcto\",\"Revisar Catálogo\")),\"\")","v":""},{"$f":"IF(S586<>\"\", IF(COUNTIFS(\n     'Base Maestra'!$F$43:$F$54,H586,\n     'Base Maestra'!$G$43:$G$54,I586)>0, \"Correcto\", \"Revisar Catálogo\"), \"\")","v":""}]
[null,null,null,null,null,null,null,null,null,null,null,null,null,null,null,null,null,null,null,{"$f":"IF(S587<>\"\",(IF(COUNTIFS('Base Maestra'!$A$42:$A$535,N587,'Base Maestra'!$B$42:$B$535,O587,'Base Maestra'!$C$42:$C$535,P587)>0,\"Correcto\",\"Revisar Catálogo\")),\"\")","v":""},{"$f":"IF(S587<>\"\", IF(COUNTIFS(\n     'Base Maestra'!$F$43:$F$54,H587,\n     'Base Maestra'!$G$43:$G$54,I587)>0, \"Correcto\", \"Revisar Catálogo\"), \"\")","v":""}]
[null,null,null,null,null,null,null,null,null,null,null,null,null,null,null,null,null,null,null,{"$f":"IF(S588<>\"\",(IF(COUNTIFS('Base Maestra'!$A$42:$A$535,N588,'Base Maestra'!$B$42:$B$535,O588,'Base Maestra'!$C$42:$C$535,P588)>0,\"Correcto\",\"Revisar Catálogo\")),\"\")","v":""},{"$f":"IF(S588<>\"\", IF(COUNTIFS(\n     'Base Maestra'!$F$43:$F$54,H588,\n     'Base Maestra'!$G$43:$G$54,I588)>0, \"Correcto\", \"Revisar Catálogo\"), \"\")","v":""}]
[null,null,null,null,null,null,null,null,null,null,null,null,null,null,null,null,null,null,null,{"$f":"IF(S589<>\"\",(IF(COUNTIFS('Base Maestra'!$A$42:$A$535,N589,'Base Maestra'!$B$42:$B$535,O589,'Base Maestra'!$C$42:$C$535,P589)>0,\"Correcto\",\"Revisar Catálogo\")),\"\")","v":""},{"$f":"IF(S589<>\"\", IF(COUNTIFS(\n     'Base Maestra'!$F$43:$F$54,H589,\n     'Base Maestra'!$G$43:$G$54,I589)>0, \"Correcto\", \"Revisar Catálogo\"), \"\")","v":""}]
[null,null,null,null,null,null,null,null,null,null,null,null,null,null,null,null,null,null,null,{"$f":"IF(S590<>\"\",(IF(COUNTIFS('Base Maestra'!$A$42:$A$535,N590,'Base Maestra'!$B$42:$B$535,O590,'Base Maestra'!$C$42:$C$535,P590)>0,\"Correcto\",\"Revisar Catálogo\")),\"\")","v":""},{"$f":"IF(S590<>\"\", IF(COUNTIFS(\n     'Base Maestra'!$F$43:$F$54,H590,\n     'Base Maestra'!$G$43:$G$54,I590)>0, \"Correcto\", \"Revisar Catálogo\"), \"\")","v":""}]
[null,null,null,null,null,null,null,null,null,null,null,null,null,null,null,null,null,null,null,{"$f":"IF(S591<>\"\",(IF(COUNTIFS('Base Maestra'!$A$42:$A$535,N591,'Base Maestra'!$B$42:$B$535,O591,'Base Maestra'!$C$42:$C$535,P591)>0,\"Correcto\",\"Revisar Catálogo\")),\"\")","v":""},{"$f":"IF(S591<>\"\", IF(COUNTIFS(\n     'Base Maestra'!$F$43:$F$54,H591,\n     'Base Maestra'!$G$43:$G$54,I591)>0, \"Correcto\", \"Revisar Catálogo\"), \"\")","v":""}]
[null,null,null,null,null,null,null,null,null,null,null,null,null,null,null,null,null,null,null,{"$f":"IF(S592<>\"\",(IF(COUNTIFS('Base Maestra'!$A$42:$A$535,N592,'Base Maestra'!$B$42:$B$535,O592,'Base Maestra'!$C$42:$C$535,P592)>0,\"Correcto\",\"Revisar Catálogo\")),\"\")","v":""},{"$f":"IF(S592<>\"\", IF(COUNTIFS(\n     'Base Maestra'!$F$43:$F$54,H592,\n     'Base Maestra'!$G$43:$G$54,I592)>0, \"Correcto\", \"Revisar Catálogo\"), \"\")","v":""}]
[null,null,null,null,null,null,null,null,null,null,null,null,null,null,null,null,null,null,null,{"$f":"IF(S593<>\"\",(IF(COUNTIFS('Base Maestra'!$A$42:$A$535,N593,'Base Maestra'!$B$42:$B$535,O593,'Base Maestra'!$C$42:$C$535,P593)>0,\"Correcto\",\"Revisar Catálogo\")),\"\")","v":""},{"$f":"IF(S593<>\"\", IF(COUNTIFS(\n     'Base Maestra'!$F$43:$F$54,H593,\n     'Base Maestra'!$G$43:$G$54,I593)>0, \"Correcto\", \"Revisar Catálogo\"), \"\")","v":""}]
[null,null,null,null,null,null,null,null,null,null,null,null,null,null,null,null,null,null,null,{"$f":"IF(S594<>\"\",(IF(COUNTIFS('Base Maestra'!$A$42:$A$535,N594,'Base Maestra'!$B$42:$B$535,O594,'Base Maestra'!$C$42:$C$535,P594)>0,\"Correcto\",\"Revisar Catálogo\")),\"\")","v":""},{"$f":"IF(S594<>\"\", IF(COUNTIFS(\n     'Base Maestra'!$F$43:$F$54,H594,\n     'Base Maestra'!$G$43:$G$54,I594)>0, \"Correcto\", \"Revisar Catálogo\"), \"\")","v":""}]
[null,null,null,null,null,null,null,null,null,null,null,null,null,null,null,null,null,null,null,{"$f":"IF(S595<>\"\",(IF(COUNTIFS('Base Maestra'!$A$42:$A$535,N595,'Base Maestra'!$B$42:$B$535,O595,'Base Maestra'!$C$42:$C$535,P595)>0,\"Correcto\",\"Revisar Catálogo\")),\"\")","v":""},{"$f":"IF(S595<>\"\", IF(COUNTIFS(\n     'Base Maestra'!$F$43:$F$54,H595,\n     'Base Maestra'!$G$43:$G$54,I595)>0, \"Correcto\", \"Revisar Catálogo\"), \"\")","v":""}]
[null,null,null,null,null,null,null,null,null,null,null,null,null,null,null,null,null,null,null,{"$f":"IF(S596<>\"\",(IF(COUNTIFS('Base Maestra'!$A$42:$A$535,N596,'Base Maestra'!$B$42:$B$535,O596,'Base Maestra'!$C$42:$C$535,P596)>0,\"Correcto\",\"Revisar Catálogo\")),\"\")","v":""},{"$f":"IF(S596<>\"\", IF(COUNTIFS(\n     'Base Maestra'!$F$43:$F$54,H596,\n     'Base Maestra'!$G$43:$G$54,I596)>0, \"Correcto\", \"Revisar Catálogo\"), \"\")","v":""}]
[null,null,null,null,null,null,null,null,null,null,null,null,null,null,null,null,null,null,null,{"$f":"IF(S597<>\"\",(IF(COUNTIFS('Base Maestra'!$A$42:$A$535,N597,'Base Maestra'!$B$42:$B$535,O597,'Base Maestra'!$C$42:$C$535,P597)>0,\"Correcto\",\"Revisar Catálogo\")),\"\")","v":""},{"$f":"IF(S597<>\"\", IF(COUNTIFS(\n     'Base Maestra'!$F$43:$F$54,H597,\n     'Base Maestra'!$G$43:$G$54,I597)>0, \"Correcto\", \"Revisar Catálogo\"), \"\")","v":""}]
[null,null,null,null,null,null,null,null,null,null,null,null,null,null,null,null,null,null,null,{"$f":"IF(S598<>\"\",(IF(COUNTIFS('Base Maestra'!$A$42:$A$535,N598,'Base Maestra'!$B$42:$B$535,O598,'Base Maestra'!$C$42:$C$535,P598)>0,\"Correcto\",\"Revisar Catálogo\")),\"\")","v":""},{"$f":"IF(S598<>\"\", IF(COUNTIFS(\n     'Base Maestra'!$F$43:$F$54,H598,\n     'Base Maestra'!$G$43:$G$54,I598)>0, \"Correcto\", \"Revisar Catálogo\"), \"\")","v":""}]
[null,null,null,null,null,null,null,null,null,null,null,null,null,null,null,null,null,null,null,{"$f":"IF(S599<>\"\",(IF(COUNTIFS('Base Maestra'!$A$42:$A$535,N599,'Base Maestra'!$B$42:$B$535,O599,'Base Maestra'!$C$42:$C$535,P599)>0,\"Correcto\",\"Revisar Catálogo\")),\"\")","v":""},{"$f":"IF(S599<>\"\", IF(COUNTIFS(\n     'Base Maestra'!$F$43:$F$54,H599,\n     'Base Maestra'!$G$43:$G$54,I599)>0, \"Correcto\", \"Revisar Catálogo\"), \"\")","v":""}]
[null,null,null,null,null,null,null,null,null,null,null,null,null,null,null,null,null,null,null,{"$f":"IF(S600<>\"\",(IF(COUNTIFS('Base Maestra'!$A$42:$A$535,N600,'Base Maestra'!$B$42:$B$535,O600,'Base Maestra'!$C$42:$C$535,P600)>0,\"Correcto\",\"Revisar Catálogo\")),\"\")","v":""},{"$f":"IF(S600<>\"\", IF(COUNTIFS(\n     'Base Maestra'!$F$43:$F$54,H600,\n     'Base Maestra'!$G$43:$G$54,I600)>0, \"Correcto\", \"Revisar Catálogo\"), \"\")","v":""}]
[null,null,null,null,null,null,null,null,null,null,null,null,null,null,null,null,null,null,null,{"$f":"IF(S601<>\"\",(IF(COUNTIFS('Base Maestra'!$A$42:$A$535,N601,'Base Maestra'!$B$42:$B$535,O601,'Base Maestra'!$C$42:$C$535,P601)>0,\"Correcto\",\"Revisar Catálogo\")),\"\")","v":""},{"$f":"IF(S601<>\"\", IF(COUNTIFS(\n     'Base Maestra'!$F$43:$F$54,H601,\n     'Base Maestra'!$G$43:$G$54,I601)>0, \"Correcto\", \"Revisar Catálogo\"), \"\")","v":""}]
[null,null,null,null,null,null,null,null,null,null,null,null,null,null,null,null,null,null,null,{"$f":"IF(S602<>\"\",(IF(COUNTIFS('Base Maestra'!$A$42:$A$535,N602,'Base Maestra'!$B$42:$B$535,O602,'Base Maestra'!$C$42:$C$535,P602)>0,\"Correcto\",\"Revisar Catálogo\")),\"\")","v":""},{"$f":"IF(S602<>\"\", IF(COUNTIFS(\n     'Base Maestra'!$F$43:$F$54,H602,\n     'Base Maestra'!$G$43:$G$54,I602)>0, \"Correcto\", \"Revisar Catálogo\"), \"\")","v":""}]
[null,null,null,null,null,null,null,null,null,null,null,null,null,null,null,null,null,null,null,{"$f":"IF(S603<>\"\",(IF(COUNTIFS('Base Maestra'!$A$42:$A$535,N603,'Base Maestra'!$B$42:$B$535,O603,'Base Maestra'!$C$42:$C$535,P603)>0,\"Correcto\",\"Revisar Catálogo\")),\"\")","v":""},{"$f":"IF(S603<>\"\", IF(COUNTIFS(\n     'Base Maestra'!$F$43:$F$54,H603,\n     'Base Maestra'!$G$43:$G$54,I603)>0, \"Correcto\", \"Revisar Catálogo\"), \"\")","v":""}]
[null,null,null,null,null,null,null,null,null,null,null,null,null,null,null,null,null,null,null,{"$f":"IF(S604<>\"\",(IF(COUNTIFS('Base Maestra'!$A$42:$A$535,N604,'Base Maestra'!$B$42:$B$535,O604,'Base Maestra'!$C$42:$C$535,P604)>0,\"Correcto\",\"Revisar Catálogo\")),\"\")","v":""},{"$f":"IF(S604<>\"\", IF(COUNTIFS(\n     'Base Maestra'!$F$43:$F$54,H604,\n     'Base Maestra'!$G$43:$G$54,I604)>0, \"Correcto\", \"Revisar Catálogo\"), \"\")","v":""}]
[null,null,null,null,null,null,null,null,null,null,null,null,null,null,null,null,null,null,null,{"$f":"IF(S605<>\"\",(IF(COUNTIFS('Base Maestra'!$A$42:$A$535,N605,'Base Maestra'!$B$42:$B$535,O605,'Base Maestra'!$C$42:$C$535,P605)>0,\"Correcto\",\"Revisar Catálogo\")),\"\")","v":""},{"$f":"IF(S605<>\"\", IF(COUNTIFS(\n     'Base Maestra'!$F$43:$F$54,H605,\n     'Base Maestra'!$G$43:$G$54,I605)>0, \"Correcto\", \"Revisar Catálogo\"), \"\")","v":""}]
[null,null,null,null,null,null,null,null,null,null,null,null,null,null,null,null,null,null,null,{"$f":"IF(S606<>\"\",(IF(COUNTIFS('Base Maestra'!$A$42:$A$535,N606,'Base Maestra'!$B$42:$B$535,O606,'Base Maestra'!$C$42:$C$535,P606)>0,\"Correcto\",\"Revisar Catálogo\")),\"\")","v":""},{"$f":"IF(S606<>\"\", IF(COUNTIFS(\n     'Base Maestra'!$F$43:$F$54,H606,\n     'Base Maestra'!$G$43:$G$54,I606)>0, \"Correcto\", \"Revisar Catálogo\"), \"\")","v":""}]
[null,null,null,null,null,null,null,null,null,null,null,null,null,null,null,null,null,null,null,{"$f":"IF(S607<>\"\",(IF(COUNTIFS('Base Maestra'!$A$42:$A$535,N607,'Base Maestra'!$B$42:$B$535,O607,'Base Maestra'!$C$42:$C$535,P607)>0,\"Correcto\",\"Revisar Catálogo\")),\"\")","v":""},{"$f":"IF(S607<>\"\", IF(COUNTIFS(\n     'Base Maestra'!$F$43:$F$54,H607,\n     'Base Maestra'!$G$43:$G$54,I607)>0, \"Correcto\", \"Revisar Catálogo\"), \"\")","v":""}]
[null,null,null,null,null,null,null,null,null,null,null,null,null,null,null,null,null,null,null,{"$f":"IF(S608<>\"\",(IF(COUNTIFS('Base Maestra'!$A$42:$A$535,N608,'Base Maestra'!$B$42:$B$535,O608,'Base Maestra'!$C$42:$C$535,P608)>0,\"Correcto\",\"Revisar Catálogo\")),\"\")","v":""},{"$f":"IF(S608<>\"\", IF(COUNTIFS(\n     'Base Maestra'!$F$43:$F$54,H608,\n     'Base Maestra'!$G$43:$G$54,I608)>0, \"Correcto\", \"Revisar Catálogo\"), \"\")","v":""}]
[null,null,null,null,null,null,null,null,null,null,null,null,null,null,null,null,null,null,null,{"$f":"IF(S609<>\"\",(IF(COUNTIFS('Base Maestra'!$A$42:$A$535,N609,'Base Maestra'!$B$42:$B$535,O609,'Base Maestra'!$C$42:$C$535,P609)>0,\"Correcto\",\"Revisar Catálogo\")),\"\")","v":""},{"$f":"IF(S609<>\"\", IF(COUNTIFS(\n     'Base Maestra'!$F$43:$F$54,H609,\n     'Base Maestra'!$G$43:$G$54,I609)>0, \"Correcto\", \"Revisar Catálogo\"), \"\")","v":""}]
[null,null,null,null,null,null,null,null,null,null,null,null,null,null,null,null,null,null,null,{"$f":"IF(S610<>\"\",(IF(COUNTIFS('Base Maestra'!$A$42:$A$535,N610,'Base Maestra'!$B$42:$B$535,O610,'Base Maestra'!$C$42:$C$535,P610)>0,\"Correcto\",\"Revisar Catálogo\")),\"\")","v":""},{"$f":"IF(S610<>\"\", IF(COUNTIFS(\n     'Base Maestra'!$F$43:$F$54,H610,\n     'Base Maestra'!$G$43:$G$54,I610)>0, \"Correcto\", \"Revisar Catálogo\"), \"\")","v":""}]
[null,null,null,null,null,null,null,null,null,null,null,null,null,null,null,null,null,null,null,{"$f":"IF(S611<>\"\",(IF(COUNTIFS('Base Maestra'!$A$42:$A$535,N611,'Base Maestra'!$B$42:$B$535,O611,'Base Maestra'!$C$42:$C$535,P611)>0,\"Correcto\",\"Revisar Catálogo\")),\"\")","v":""},{"$f":"IF(S611<>\"\", IF(COUNTIFS(\n     'Base Maestra'!$F$43:$F$54,H611,\n     'Base Maestra'!$G$43:$G$54,I611)>0, \"Correcto\", \"Revisar Catálogo\"), \"\")","v":""}]
[null,null,null,null,null,null,null,null,null,null,null,null,null,null,null,null,null,null,null,{"$f":"IF(S612<>\"\",(IF(COUNTIFS('Base Maestra'!$A$42:$A$535,N612,'Base Maestra'!$B$42:$B$535,O612,'Base Maestra'!$C$42:$C$535,P612)>0,\"Correcto\",\"Revisar Catálogo\")),\"\")","v":""},{"$f":"IF(S612<>\"\", IF(COUNTIFS(\n     'Base Maestra'!$F$43:$F$54,H612,\n     'Base Maestra'!$G$43:$G$54,I612)>0, \"Correcto\", \"Revisar Catálogo\"), \"\")","v":""}]
[null,null,null,null,null,null,null,null,null,null,null,null,null,null,null,null,null,null,null,{"$f":"IF(S613<>\"\",(IF(COUNTIFS('Base Maestra'!$A$42:$A$535,N613,'Base Maestra'!$B$42:$B$535,O613,'Base Maestra'!$C$42:$C$535,P613)>0,\"Correcto\",\"Revisar Catálogo\")),\"\")","v":""},{"$f":"IF(S613<>\"\", IF(COUNTIFS(\n     'Base Maestra'!$F$43:$F$54,H613,\n     'Base Maestra'!$G$43:$G$54,I613)>0, \"Correcto\", \"Revisar Catálogo\"), \"\")","v":""}]
[null,null,null,null,null,null,null,null,null,null,null,null,null,null,null,null,null,null,null,{"$f":"IF(S614<>\"\",(IF(COUNTIFS('Base Maestra'!$A$42:$A$535,N614,'Base Maestra'!$B$42:$B$535,O614,'Base Maestra'!$C$42:$C$535,P614)>0,\"Correcto\",\"Revisar Catálogo\")),\"\")","v":""},{"$f":"IF(S614<>\"\", IF(COUNTIFS(\n     'Base Maestra'!$F$43:$F$54,H614,\n     'Base Maestra'!$G$43:$G$54,I614)>0, \"Correcto\", \"Revisar Catálogo\"), \"\")","v":""}]
[null,null,null,null,null,null,null,null,null,null,null,null,null,null,null,null,null,null,null,{"$f":"IF(S615<>\"\",(IF(COUNTIFS('Base Maestra'!$A$42:$A$535,N615,'Base Maestra'!$B$42:$B$535,O615,'Base Maestra'!$C$42:$C$535,P615)>0,\"Correcto\",\"Revisar Catálogo\")),\"\")","v":""},{"$f":"IF(S615<>\"\", IF(COUNTIFS(\n     'Base Maestra'!$F$43:$F$54,H615,\n     'Base Maestra'!$G$43:$G$54,I615)>0, \"Correcto\", \"Revisar Catálogo\"), \"\")","v":""}]
[null,null,null,null,null,null,null,null,null,null,null,null,null,null,null,null,null,null,null,{"$f":"IF(S616<>\"\",(IF(COUNTIFS('Base Maestra'!$A$42:$A$535,N616,'Base Maestra'!$B$42:$B$535,O616,'Base Maestra'!$C$42:$C$535,P616)>0,\"Correcto\",\"Revisar Catálogo\")),\"\")","v":""},{"$f":"IF(S616<>\"\", IF(COUNTIFS(\n     'Base Maestra'!$F$43:$F$54,H616,\n     'Base Maestra'!$G$43:$G$54,I616)>0, \"Correcto\", \"Revisar Catálogo\"), \"\")","v":""}]
[null,null,null,null,null,null,null,null,null,null,null,null,null,null,null,null,null,null,null,{"$f":"IF(S617<>\"\",(IF(COUNTIFS('Base Maestra'!$A$42:$A$535,N617,'Base Maestra'!$B$42:$B$535,O617,'Base Maestra'!$C$42:$C$535,P617)>0,\"Correcto\",\"Revisar Catálogo\")),\"\")","v":""},{"$f":"IF(S617<>\"\", IF(COUNTIFS(\n     'Base Maestra'!$F$43:$F$54,H617,\n     'Base Maestra'!$G$43:$G$54,I617)>0, \"Correcto\", \"Revisar Catálogo\"), \"\")","v":""}]
[null,null,null,null,null,null,null,null,null,null,null,null,null,null,null,null,null,null,null,{"$f":"IF(S618<>\"\",(IF(COUNTIFS('Base Maestra'!$A$42:$A$535,N618,'Base Maestra'!$B$42:$B$535,O618,'Base Maestra'!$C$42:$C$535,P618)>0,\"Correcto\",\"Revisar Catálogo\")),\"\")","v":""},{"$f":"IF(S618<>\"\", IF(COUNTIFS(\n     'Base Maestra'!$F$43:$F$54,H618,\n     'Base Maestra'!$G$43:$G$54,I618)>0, \"Correcto\", \"Revisar Catálogo\"), \"\")","v":""}]
[null,null,null,null,null,null,null,null,null,null,null,null,null,null,null,null,null,null,null,{"$f":"IF(S619<>\"\",(IF(COUNTIFS('Base Maestra'!$A$42:$A$535,N619,'Base Maestra'!$B$42:$B$535,O619,'Base Maestra'!$C$42:$C$535,P619)>0,\"Correcto\",\"Revisar Catálogo\")),\"\")","v":""},{"$f":"IF(S619<>\"\", IF(COUNTIFS(\n     'Base Maestra'!$F$43:$F$54,H619,\n     'Base Maestra'!$G$43:$G$54,I619)>0, \"Correcto\", \"Revisar Catálogo\"), \"\")","v":""}]
[null,null,null,null,null,null,null,null,null,null,null,null,null,null,null,null,null,null,null,{"$f":"IF(S620<>\"\",(IF(COUNTIFS('Base Maestra'!$A$42:$A$535,N620,'Base Maestra'!$B$42:$B$535,O620,'Base Maestra'!$C$42:$C$535,P620)>0,\"Correcto\",\"Revisar Catálogo\")),\"\")","v":""},{"$f":"IF(S620<>\"\", IF(COUNTIFS(\n     'Base Maestra'!$F$43:$F$54,H620,\n     'Base Maestra'!$G$43:$G$54,I620)>0, \"Correcto\", \"Revisar Catálogo\"), \"\")","v":""}]
[null,null,null,null,null,null,null,null,null,null,null,null,null,null,null,null,null,null,null,{"$f":"IF(S621<>\"\",(IF(COUNTIFS('Base Maestra'!$A$42:$A$535,N621,'Base Maestra'!$B$42:$B$535,O621,'Base Maestra'!$C$42:$C$535,P621)>0,\"Correcto\",\"Revisar Catálogo\")),\"\")","v":""},{"$f":"IF(S621<>\"\", IF(COUNTIFS(\n     'Base Maestra'!$F$43:$F$54,H621,\n     'Base Maestra'!$G$43:$G$54,I621)>0, \"Correcto\", \"Revisar Catálogo\"), \"\")","v":""}]
[null,null,null,null,null,null,null,null,null,null,null,null,null,null,null,null,null,null,null,{"$f":"IF(S622<>\"\",(IF(COUNTIFS('Base Maestra'!$A$42:$A$535,N622,'Base Maestra'!$B$42:$B$535,O622,'Base Maestra'!$C$42:$C$535,P622)>0,\"Correcto\",\"Revisar Catálogo\")),\"\")","v":""},{"$f":"IF(S622<>\"\", IF(COUNTIFS(\n     'Base Maestra'!$F$43:$F$54,H622,\n     'Base Maestra'!$G$43:$G$54,I622)>0, \"Correcto\", \"Revisar Catálogo\"), \"\")","v":""}]
[null,null,null,null,null,null,null,null,null,null,null,null,null,null,null,null,null,null,null,{"$f":"IF(S623<>\"\",(IF(COUNTIFS('Base Maestra'!$A$42:$A$535,N623,'Base Maestra'!$B$42:$B$535,O623,'Base Maestra'!$C$42:$C$535,P623)>0,\"Correcto\",\"Revisar Catálogo\")),\"\")","v":""},{"$f":"IF(S623<>\"\", IF(COUNTIFS(\n     'Base Maestra'!$F$43:$F$54,H623,\n     'Base Maestra'!$G$43:$G$54,I623)>0, \"Correcto\", \"Revisar Catálogo\"), \"\")","v":""}]
[null,null,null,null,null,null,null,null,null,null,null,null,null,null,null,null,null,null,null,{"$f":"IF(S624<>\"\",(IF(COUNTIFS('Base Maestra'!$A$42:$A$535,N624,'Base Maestra'!$B$42:$B$535,O624,'Base Maestra'!$C$42:$C$535,P624)>0,\"Correcto\",\"Revisar Catálogo\")),\"\")","v":""},{"$f":"IF(S624<>\"\", IF(COUNTIFS(\n     'Base Maestra'!$F$43:$F$54,H624,\n     'Base Maestra'!$G$43:$G$54,I624)>0, \"Correcto\", \"Revisar Catálogo\"), \"\")","v":""}]
[null,null,null,null,null,null,null,null,null,null,null,null,null,null,null,null,null,null,null,{"$f":"IF(S625<>\"\",(IF(COUNTIFS('Base Maestra'!$A$42:$A$535,N625,'Base Maestra'!$B$42:$B$535,O625,'Base Maestra'!$C$42:$C$535,P625)>0,\"Correcto\",\"Revisar Catálogo\")),\"\")","v":""},{"$f":"IF(S625<>\"\", IF(COUNTIFS(\n     'Base Maestra'!$F$43:$F$54,H625,\n     'Base Maestra'!$G$43:$G$54,I625)>0, \"Correcto\", \"Revisar Catálogo\"), \"\")","v":""}]
[null,null,null,null,null,null,null,null,null,null,null,null,null,null,null,null,null,null,null,{"$f":"IF(S626<>\"\",(IF(COUNTIFS('Base Maestra'!$A$42:$A$535,N626,'Base Maestra'!$B$42:$B$535,O626,'Base Maestra'!$C$42:$C$535,P626)>0,\"Correcto\",\"Revisar Catálogo\")),\"\")","v":""},{"$f":"IF(S626<>\"\", IF(COUNTIFS(\n     'Base Maestra'!$F$43:$F$54,H626,\n     'Base Maestra'!$G$43:$G$54,I626)>0, \"Correcto\", \"Revisar Catálogo\"), \"\")","v":""}]
[null,null,null,null,null,null,null,null,null,null,null,null,null,null,null,null,null,null,null,{"$f":"IF(S627<>\"\",(IF(COUNTIFS('Base Maestra'!$A$42:$A$535,N627,'Base Maestra'!$B$42:$B$535,O627,'Base Maestra'!$C$42:$C$535,P627)>0,\"Correcto\",\"Revisar Catálogo\")),\"\")","v":""},{"$f":"IF(S627<>\"\", IF(COUNTIFS(\n     'Base Maestra'!$F$43:$F$54,H627,\n     'Base Maestra'!$G$43:$G$54,I627)>0, \"Correcto\", \"Revisar Catálogo\"), \"\")","v":""}]
[null,null,null,null,null,null,null,null,null,null,null,null,null,null,null,null,null,null,null,{"$f":"IF(S628<>\"\",(IF(COUNTIFS('Base Maestra'!$A$42:$A$535,N628,'Base Maestra'!$B$42:$B$535,O628,'Base Maestra'!$C$42:$C$535,P628)>0,\"Correcto\",\"Revisar Catálogo\")),\"\")","v":""},{"$f":"IF(S628<>\"\", IF(COUNTIFS(\n     'Base Maestra'!$F$43:$F$54,H628,\n     'Base Maestra'!$G$43:$G$54,I628)>0, \"Correcto\", \"Revisar Catálogo\"), \"\")","v":""}]
[null,null,null,null,null,null,null,null,null,null,null,null,null,null,null,null,null,null,null,{"$f":"IF(S629<>\"\",(IF(COUNTIFS('Base Maestra'!$A$42:$A$535,N629,'Base Maestra'!$B$42:$B$535,O629,'Base Maestra'!$C$42:$C$535,P629)>0,\"Correcto\",\"Revisar Catálogo\")),\"\")","v":""},{"$f":"IF(S629<>\"\", IF(COUNTIFS(\n     'Base Maestra'!$F$43:$F$54,H629,\n     'Base Maestra'!$G$43:$G$54,I629)>0, \"Correcto\", \"Revisar Catálogo\"), \"\")","v":""}]
[null,null,null,null,null,null,null,null,null,null,null,null,null,null,null,null,null,null,null,{"$f":"IF(S630<>\"\",(IF(COUNTIFS('Base Maestra'!$A$42:$A$535,N630,'Base Maestra'!$B$42:$B$535,O630,'Base Maestra'!$C$42:$C$535,P630)>0,\"Correcto\",\"Revisar Catálogo\")),\"\")","v":""},{"$f":"IF(S630<>\"\", IF(COUNTIFS(\n     'Base Maestra'!$F$43:$F$54,H630,\n     'Base Maestra'!$G$43:$G$54,I630)>0, \"Correcto\", \"Revisar Catálogo\"), \"\")","v":""}]
[null,null,null,null,null,null,null,null,null,null,null,null,null,null,null,null,null,null,null,{"$f":"IF(S631<>\"\",(IF(COUNTIFS('Base Maestra'!$A$42:$A$535,N631,'Base Maestra'!$B$42:$B$535,O631,'Base Maestra'!$C$42:$C$535,P631)>0,\"Correcto\",\"Revisar Catálogo\")),\"\")","v":""},{"$f":"IF(S631<>\"\", IF(COUNTIFS(\n     'Base Maestra'!$F$43:$F$54,H631,\n     'Base Maestra'!$G$43:$G$54,I631)>0, \"Correcto\", \"Revisar Catálogo\"), \"\")","v":""}]
[null,null,null,null,null,null,null,null,null,null,null,null,null,null,null,null,null,null,null,{"$f":"IF(S632<>\"\",(IF(COUNTIFS('Base Maestra'!$A$42:$A$535,N632,'Base Maestra'!$B$42:$B$535,O632,'Base Maestra'!$C$42:$C$535,P632)>0,\"Correcto\",\"Revisar Catálogo\")),\"\")","v":""},{"$f":"IF(S632<>\"\", IF(COUNTIFS(\n     'Base Maestra'!$F$43:$F$54,H632,\n     'Base Maestra'!$G$43:$G$54,I632)>0, \"Correcto\", \"Revisar Catálogo\"), \"\")","v":""}]
[null,null,null,null,null,null,null,null,null,null,null,null,null,null,null,null,null,null,null,{"$f":"IF(S633<>\"\",(IF(COUNTIFS('Base Maestra'!$A$42:$A$535,N633,'Base Maestra'!$B$42:$B$535,O633,'Base Maestra'!$C$42:$C$535,P633)>0,\"Correcto\",\"Revisar Catálogo\")),\"\")","v":""},{"$f":"IF(S633<>\"\", IF(COUNTIFS(\n     'Base Maestra'!$F$43:$F$54,H633,\n     'Base Maestra'!$G$43:$G$54,I633)>0, \"Correcto\", \"Revisar Catálogo\"), \"\")","v":""}]
[null,null,null,null,null,null,null,null,null,null,null,null,null,null,null,null,null,null,null,{"$f":"IF(S634<>\"\",(IF(COUNTIFS('Base Maestra'!$A$42:$A$535,N634,'Base Maestra'!$B$42:$B$535,O634,'Base Maestra'!$C$42:$C$535,P634)>0,\"Correcto\",\"Revisar Catálogo\")),\"\")","v":""},{"$f":"IF(S634<>\"\", IF(COUNTIFS(\n     'Base Maestra'!$F$43:$F$54,H634,\n     'Base Maestra'!$G$43:$G$54,I634)>0, \"Correcto\", \"Revisar Catálogo\"), \"\")","v":""}]
[null,null,null,null,null,null,null,null,null,null,null,null,null,null,null,null,null,null,null,{"$f":"IF(S635<>\"\",(IF(COUNTIFS('Base Maestra'!$A$42:$A$535,N635,'Base Maestra'!$B$42:$B$535,O635,'Base Maestra'!$C$42:$C$535,P635)>0,\"Correcto\",\"Revisar Catálogo\")),\"\")","v":""},{"$f":"IF(S635<>\"\", IF(COUNTIFS(\n     'Base Maestra'!$F$43:$F$54,H635,\n     'Base Maestra'!$G$43:$G$54,I635)>0, \"Correcto\", \"Revisar Catálogo\"), \"\")","v":""}]
[null,null,null,null,null,null,null,null,null,null,null,null,null,null,null,null,null,null,null,{"$f":"IF(S636<>\"\",(IF(COUNTIFS('Base Maestra'!$A$42:$A$535,N636,'Base Maestra'!$B$42:$B$535,O636,'Base Maestra'!$C$42:$C$535,P636)>0,\"Correcto\",\"Revisar Catálogo\")),\"\")","v":""},{"$f":"IF(S636<>\"\", IF(COUNTIFS(\n     'Base Maestra'!$F$43:$F$54,H636,\n     'Base Maestra'!$G$43:$G$54,I636)>0, \"Correcto\", \"Revisar Catálogo\"), \"\")","v":""}]
[null,null,null,null,null,null,null,null,null,null,null,null,null,null,null,null,null,null,null,{"$f":"IF(S637<>\"\",(IF(COUNTIFS('Base Maestra'!$A$42:$A$535,N637,'Base Maestra'!$B$42:$B$535,O637,'Base Maestra'!$C$42:$C$535,P637)>0,\"Correcto\",\"Revisar Catálogo\")),\"\")","v":""},{"$f":"IF(S637<>\"\", IF(COUNTIFS(\n     'Base Maestra'!$F$43:$F$54,H637,\n     'Base Maestra'!$G$43:$G$54,I637)>0, \"Correcto\", \"Revisar Catálogo\"), \"\")","v":""}]
[null,null,null,null,null,null,null,null,null,null,null,null,null,null,null,null,null,null,null,{"$f":"IF(S638<>\"\",(IF(COUNTIFS('Base Maestra'!$A$42:$A$535,N638,'Base Maestra'!$B$42:$B$535,O638,'Base Maestra'!$C$42:$C$535,P638)>0,\"Correcto\",\"Revisar Catálogo\")),\"\")","v":""},{"$f":"IF(S638<>\"\", IF(COUNTIFS(\n     'Base Maestra'!$F$43:$F$54,H638,\n     'Base Maestra'!$G$43:$G$54,I638)>0, \"Correcto\", \"Revisar Catálogo\"), \"\")","v":""}]
[null,null,null,null,null,null,null,null,null,null,null,null,null,null,null,null,null,null,null,{"$f":"IF(S639<>\"\",(IF(COUNTIFS('Base Maestra'!$A$42:$A$535,N639,'Base Maestra'!$B$42:$B$535,O639,'Base Maestra'!$C$42:$C$535,P639)>0,\"Correcto\",\"Revisar Catálogo\")),\"\")","v":""},{"$f":"IF(S639<>\"\", IF(COUNTIFS(\n     'Base Maestra'!$F$43:$F$54,H639,\n     'Base Maestra'!$G$43:$G$54,I639)>0, \"Correcto\", \"Revisar Catálogo\"), \"\")","v":""}]
[null,null,null,null,null,null,null,null,null,null,null,null,null,null,null,null,null,null,null,{"$f":"IF(S640<>\"\",(IF(COUNTIFS('Base Maestra'!$A$42:$A$535,N640,'Base Maestra'!$B$42:$B$535,O640,'Base Maestra'!$C$42:$C$535,P640)>0,\"Correcto\",\"Revisar Catálogo\")),\"\")","v":""},{"$f":"IF(S640<>\"\", IF(COUNTIFS(\n     'Base Maestra'!$F$43:$F$54,H640,\n     'Base Maestra'!$G$43:$G$54,I640)>0, \"Correcto\", \"Revisar Catálogo\"), \"\")","v":""}]
[null,null,null,null,null,null,null,null,null,null,null,null,null,null,null,null,null,null,null,{"$f":"IF(S641<>\"\",(IF(COUNTIFS('Base Maestra'!$A$42:$A$535,N641,'Base Maestra'!$B$42:$B$535,O641,'Base Maestra'!$C$42:$C$535,P641)>0,\"Correcto\",\"Revisar Catálogo\")),\"\")","v":""},{"$f":"IF(S641<>\"\", IF(COUNTIFS(\n     'Base Maestra'!$F$43:$F$54,H641,\n     'Base Maestra'!$G$43:$G$54,I641)>0, \"Correcto\", \"Revisar Catálogo\"), \"\")","v":""}]
[null,null,null,null,null,null,null,null,null,null,null,null,null,null,null,null,null,null,null,{"$f":"IF(S642<>\"\",(IF(COUNTIFS('Base Maestra'!$A$42:$A$535,N642,'Base Maestra'!$B$42:$B$535,O642,'Base Maestra'!$C$42:$C$535,P642)>0,\"Correcto\",\"Revisar Catálogo\")),\"\")","v":""},{"$f":"IF(S642<>\"\", IF(COUNTIFS(\n     'Base Maestra'!$F$43:$F$54,H642,\n     'Base Maestra'!$G$43:$G$54,I642)>0, \"Correcto\", \"Revisar Catálogo\"), \"\")","v":""}]
[null,null,null,null,null,null,null,null,null,null,null,null,null,null,null,null,null,null,null,{"$f":"IF(S643<>\"\",(IF(COUNTIFS('Base Maestra'!$A$42:$A$535,N643,'Base Maestra'!$B$42:$B$535,O643,'Base Maestra'!$C$42:$C$535,P643)>0,\"Correcto\",\"Revisar Catálogo\")),\"\")","v":""},{"$f":"IF(S643<>\"\", IF(COUNTIFS(\n     'Base Maestra'!$F$43:$F$54,H643,\n     'Base Maestra'!$G$43:$G$54,I643)>0, \"Correcto\", \"Revisar Catálogo\"), \"\")","v":""}]
[null,null,null,null,null,null,null,null,null,null,null,null,null,null,null,null,null,null,null,{"$f":"IF(S644<>\"\",(IF(COUNTIFS('Base Maestra'!$A$42:$A$535,N644,'Base Maestra'!$B$42:$B$535,O644,'Base Maestra'!$C$42:$C$535,P644)>0,\"Correcto\",\"Revisar Catálogo\")),\"\")","v":""},{"$f":"IF(S644<>\"\", IF(COUNTIFS(\n     'Base Maestra'!$F$43:$F$54,H644,\n     'Base Maestra'!$G$43:$G$54,I644)>0, \"Correcto\", \"Revisar Catálogo\"), \"\")","v":""}]
[null,null,null,null,null,null,null,null,null,null,null,null,null,null,null,null,null,null,null,{"$f":"IF(S645<>\"\",(IF(COUNTIFS('Base Maestra'!$A$42:$A$535,N645,'Base Maestra'!$B$42:$B$535,O645,'Base Maestra'!$C$42:$C$535,P645)>0,\"Correcto\",\"Revisar Catálogo\")),\"\")","v":""},{"$f":"IF(S645<>\"\", IF(COUNTIFS(\n     'Base Maestra'!$F$43:$F$54,H645,\n     'Base Maestra'!$G$43:$G$54,I645)>0, \"Correcto\", \"Revisar Catálogo\"), \"\")","v":""}]
[null,null,null,null,null,null,null,null,null,null,null,null,null,null,null,null,null,null,null,{"$f":"IF(S646<>\"\",(IF(COUNTIFS('Base Maestra'!$A$42:$A$535,N646,'Base Maestra'!$B$42:$B$535,O646,'Base Maestra'!$C$42:$C$535,P646)>0,\"Correcto\",\"Revisar Catálogo\")),\"\")","v":""},{"$f":"IF(S646<>\"\", IF(COUNTIFS(\n     'Base Maestra'!$F$43:$F$54,H646,\n     'Base Maestra'!$G$43:$G$54,I646)>0, \"Correcto\", \"Revisar Catálogo\"), \"\")","v":""}]
[null,null,null,null,null,null,null,null,null,null,null,null,null,null,null,null,null,null,null,{"$f":"IF(S647<>\"\",(IF(COUNTIFS('Base Maestra'!$A$42:$A$535,N647,'Base Maestra'!$B$42:$B$535,O647,'Base Maestra'!$C$42:$C$535,P647)>0,\"Correcto\",\"Revisar Catálogo\")),\"\")","v":""},{"$f":"IF(S647<>\"\", IF(COUNTIFS(\n     'Base Maestra'!$F$43:$F$54,H647,\n     'Base Maestra'!$G$43:$G$54,I647)>0, \"Correcto\", \"Revisar Catálogo\"), \"\")","v":""}]
[null,null,null,null,null,null,null,null,null,null,null,null,null,null,null,null,null,null,null,{"$f":"IF(S648<>\"\",(IF(COUNTIFS('Base Maestra'!$A$42:$A$535,N648,'Base Maestra'!$B$42:$B$535,O648,'Base Maestra'!$C$42:$C$535,P648)>0,\"Correcto\",\"Revisar Catálogo\")),\"\")","v":""},{"$f":"IF(S648<>\"\", IF(COUNTIFS(\n     'Base Maestra'!$F$43:$F$54,H648,\n     'Base Maestra'!$G$43:$G$54,I648)>0, \"Correcto\", \"Revisar Catálogo\"), \"\")","v":""}]
[null,null,null,null,null,null,null,null,null,null,null,null,null,null,null,null,null,null,null,{"$f":"IF(S649<>\"\",(IF(COUNTIFS('Base Maestra'!$A$42:$A$535,N649,'Base Maestra'!$B$42:$B$535,O649,'Base Maestra'!$C$42:$C$535,P649)>0,\"Correcto\",\"Revisar Catálogo\")),\"\")","v":""},{"$f":"IF(S649<>\"\", IF(COUNTIFS(\n     'Base Maestra'!$F$43:$F$54,H649,\n     'Base Maestra'!$G$43:$G$54,I649)>0, \"Correcto\", \"Revisar Catálogo\"), \"\")","v":""}]
[null,null,null,null,null,null,null,null,null,null,null,null,null,null,null,null,null,null,null,{"$f":"IF(S650<>\"\",(IF(COUNTIFS('Base Maestra'!$A$42:$A$535,N650,'Base Maestra'!$B$42:$B$535,O650,'Base Maestra'!$C$42:$C$535,P650)>0,\"Correcto\",\"Revisar Catálogo\")),\"\")","v":""},{"$f":"IF(S650<>\"\", IF(COUNTIFS(\n     'Base Maestra'!$F$43:$F$54,H650,\n     'Base Maestra'!$G$43:$G$54,I650)>0, \"Correcto\", \"Revisar Catálogo\"), \"\")","v":""}]
[null,null,null,null,null,null,null,null,null,null,null,null,null,null,null,null,null,null,null,{"$f":"IF(S651<>\"\",(IF(COUNTIFS('Base Maestra'!$A$42:$A$535,N651,'Base Maestra'!$B$42:$B$535,O651,'Base Maestra'!$C$42:$C$535,P651)>0,\"Correcto\",\"Revisar Catálogo\")),\"\")","v":""},{"$f":"IF(S651<>\"\", IF(COUNTIFS(\n     'Base Maestra'!$F$43:$F$54,H651,\n     'Base Maestra'!$G$43:$G$54,I651)>0, \"Correcto\", \"Revisar Catálogo\"), \"\")","v":""}]
[null,null,null,null,null,null,null,null,null,null,null,null,null,null,null,null,null,null,null,{"$f":"IF(S652<>\"\",(IF(COUNTIFS('Base Maestra'!$A$42:$A$535,N652,'Base Maestra'!$B$42:$B$535,O652,'Base Maestra'!$C$42:$C$535,P652)>0,\"Correcto\",\"Revisar Catálogo\")),\"\")","v":""},{"$f":"IF(S652<>\"\", IF(COUNTIFS(\n     'Base Maestra'!$F$43:$F$54,H652,\n     'Base Maestra'!$G$43:$G$54,I652)>0, \"Correcto\", \"Revisar Catálogo\"), \"\")","v":""}]
[null,null,null,null,null,null,null,null,null,null,null,null,null,null,null,null,null,null,null,{"$f":"IF(S653<>\"\",(IF(COUNTIFS('Base Maestra'!$A$42:$A$535,N653,'Base Maestra'!$B$42:$B$535,O653,'Base Maestra'!$C$42:$C$535,P653)>0,\"Correcto\",\"Revisar Catálogo\")),\"\")","v":""},{"$f":"IF(S653<>\"\", IF(COUNTIFS(\n     'Base Maestra'!$F$43:$F$54,H653,\n     'Base Maestra'!$G$43:$G$54,I653)>0, \"Correcto\", \"Revisar Catálogo\"), \"\")","v":""}]
[null,null,null,null,null,null,null,null,null,null,null,null,null,null,null,null,null,null,null,{"$f":"IF(S654<>\"\",(IF(COUNTIFS('Base Maestra'!$A$42:$A$535,N654,'Base Maestra'!$B$42:$B$535,O654,'Base Maestra'!$C$42:$C$535,P654)>0,\"Correcto\",\"Revisar Catálogo\")),\"\")","v":""},{"$f":"IF(S654<>\"\", IF(COUNTIFS(\n     'Base Maestra'!$F$43:$F$54,H654,\n     'Base Maestra'!$G$43:$G$54,I654)>0, \"Correcto\", \"Revisar Catálogo\"), \"\")","v":""}]
[null,null,null,null,null,null,null,null,null,null,null,null,null,null,null,null,null,null,null,{"$f":"IF(S655<>\"\",(IF(COUNTIFS('Base Maestra'!$A$42:$A$535,N655,'Base Maestra'!$B$42:$B$535,O655,'Base Maestra'!$C$42:$C$535,P655)>0,\"Correcto\",\"Revisar Catálogo\")),\"\")","v":""},{"$f":"IF(S655<>\"\", IF(COUNTIFS(\n     'Base Maestra'!$F$43:$F$54,H655,\n     'Base Maestra'!$G$43:$G$54,I655)>0, \"Correcto\", \"Revisar Catálogo\"), \"\")","v":""}]
[null,null,null,null,null,null,null,null,null,null,null,null,null,null,null,null,null,null,null,{"$f":"IF(S656<>\"\",(IF(COUNTIFS('Base Maestra'!$A$42:$A$535,N656,'Base Maestra'!$B$42:$B$535,O656,'Base Maestra'!$C$42:$C$535,P656)>0,\"Correcto\",\"Revisar Catálogo\")),\"\")","v":""},{"$f":"IF(S656<>\"\", IF(COUNTIFS(\n     'Base Maestra'!$F$43:$F$54,H656,\n     'Base Maestra'!$G$43:$G$54,I656)>0, \"Correcto\", \"Revisar Catálogo\"), \"\")","v":""}]
[null,null,null,null,null,null,null,null,null,null,null,null,null,null,null,null,null,null,null,{"$f":"IF(S657<>\"\",(IF(COUNTIFS('Base Maestra'!$A$42:$A$535,N657,'Base Maestra'!$B$42:$B$535,O657,'Base Maestra'!$C$42:$C$535,P657)>0,\"Correcto\",\"Revisar Catálogo\")),\"\")","v":""},{"$f":"IF(S657<>\"\", IF(COUNTIFS(\n     'Base Maestra'!$F$43:$F$54,H657,\n     'Base Maestra'!$G$43:$G$54,I657)>0, \"Correcto\", \"Revisar Catálogo\"), \"\")","v":""}]
[null,null,null,null,null,null,null,null,null,null,null,null,null,null,null,null,null,null,null,{"$f":"IF(S658<>\"\",(IF(COUNTIFS('Base Maestra'!$A$42:$A$535,N658,'Base Maestra'!$B$42:$B$535,O658,'Base Maestra'!$C$42:$C$535,P658)>0,\"Correcto\",\"Revisar Catálogo\")),\"\")","v":""},{"$f":"IF(S658<>\"\", IF(COUNTIFS(\n     'Base Maestra'!$F$43:$F$54,H658,\n     'Base Maestra'!$G$43:$G$54,I658)>0, \"Correcto\", \"Revisar Catálogo\"), \"\")","v":""}]
[null,null,null,null,null,null,null,null,null,null,null,null,null,null,null,null,null,null,null,{"$f":"IF(S659<>\"\",(IF(COUNTIFS('Base Maestra'!$A$42:$A$535,N659,'Base Maestra'!$B$42:$B$535,O659,'Base Maestra'!$C$42:$C$535,P659)>0,\"Correcto\",\"Revisar Catálogo\")),\"\")","v":""},{"$f":"IF(S659<>\"\", IF(COUNTIFS(\n     'Base Maestra'!$F$43:$F$54,H659,\n     'Base Maestra'!$G$43:$G$54,I659)>0, \"Correcto\", \"Revisar Catálogo\"), \"\")","v":""}]
[null,null,null,null,null,null,null,null,null,null,null,null,null,null,null,null,null,null,null,{"$f":"IF(S660<>\"\",(IF(COUNTIFS('Base Maestra'!$A$42:$A$535,N660,'Base Maestra'!$B$42:$B$535,O660,'Base Maestra'!$C$42:$C$535,P660)>0,\"Correcto\",\"Revisar Catálogo\")),\"\")","v":""},{"$f":"IF(S660<>\"\", IF(COUNTIFS(\n     'Base Maestra'!$F$43:$F$54,H660,\n     'Base Maestra'!$G$43:$G$54,I660)>0, \"Correcto\", \"Revisar Catálogo\"), \"\")","v":""}]
[null,null,null,null,null,null,null,null,null,null,null,null,null,null,null,null,null,null,null,{"$f":"IF(S661<>\"\",(IF(COUNTIFS('Base Maestra'!$A$42:$A$535,N661,'Base Maestra'!$B$42:$B$535,O661,'Base Maestra'!$C$42:$C$535,P661)>0,\"Correcto\",\"Revisar Catálogo\")),\"\")","v":""},{"$f":"IF(S661<>\"\", IF(COUNTIFS(\n     'Base Maestra'!$F$43:$F$54,H661,\n     'Base Maestra'!$G$43:$G$54,I661)>0, \"Correcto\", \"Revisar Catálogo\"), \"\")","v":""}]
[null,null,null,null,null,null,null,null,null,null,null,null,null,null,null,null,null,null,null,{"$f":"IF(S662<>\"\",(IF(COUNTIFS('Base Maestra'!$A$42:$A$535,N662,'Base Maestra'!$B$42:$B$535,O662,'Base Maestra'!$C$42:$C$535,P662)>0,\"Correcto\",\"Revisar Catálogo\")),\"\")","v":""},{"$f":"IF(S662<>\"\", IF(COUNTIFS(\n     'Base Maestra'!$F$43:$F$54,H662,\n     'Base Maestra'!$G$43:$G$54,I662)>0, \"Correcto\", \"Revisar Catálogo\"), \"\")","v":""}]
[null,null,null,null,null,null,null,null,null,null,null,null,null,null,null,null,null,null,null,{"$f":"IF(S663<>\"\",(IF(COUNTIFS('Base Maestra'!$A$42:$A$535,N663,'Base Maestra'!$B$42:$B$535,O663,'Base Maestra'!$C$42:$C$535,P663)>0,\"Correcto\",\"Revisar Catálogo\")),\"\")","v":""},{"$f":"IF(S663<>\"\", IF(COUNTIFS(\n     'Base Maestra'!$F$43:$F$54,H663,\n     'Base Maestra'!$G$43:$G$54,I663)>0, \"Correcto\", \"Revisar Catálogo\"), \"\")","v":""}]
[null,null,null,null,null,null,null,null,null,null,null,null,null,null,null,null,null,null,null,{"$f":"IF(S664<>\"\",(IF(COUNTIFS('Base Maestra'!$A$42:$A$535,N664,'Base Maestra'!$B$42:$B$535,O664,'Base Maestra'!$C$42:$C$535,P664)>0,\"Correcto\",\"Revisar Catálogo\")),\"\")","v":""},{"$f":"IF(S664<>\"\", IF(COUNTIFS(\n     'Base Maestra'!$F$43:$F$54,H664,\n     'Base Maestra'!$G$43:$G$54,I664)>0, \"Correcto\", \"Revisar Catálogo\"), \"\")","v":""}]
[null,null,null,null,null,null,null,null,null,null,null,null,null,null,null,null,null,null,null,{"$f":"IF(S665<>\"\",(IF(COUNTIFS('Base Maestra'!$A$42:$A$535,N665,'Base Maestra'!$B$42:$B$535,O665,'Base Maestra'!$C$42:$C$535,P665)>0,\"Correcto\",\"Revisar Catálogo\")),\"\")","v":""},{"$f":"IF(S665<>\"\", IF(COUNTIFS(\n     'Base Maestra'!$F$43:$F$54,H665,\n     'Base Maestra'!$G$43:$G$54,I665)>0, \"Correcto\", \"Revisar Catálogo\"), \"\")","v":""}]
[null,null,null,null,null,null,null,null,null,null,null,null,null,null,null,null,null,null,null,{"$f":"IF(S666<>\"\",(IF(COUNTIFS('Base Maestra'!$A$42:$A$535,N666,'Base Maestra'!$B$42:$B$535,O666,'Base Maestra'!$C$42:$C$535,P666)>0,\"Correcto\",\"Revisar Catálogo\")),\"\")","v":""},{"$f":"IF(S666<>\"\", IF(COUNTIFS(\n     'Base Maestra'!$F$43:$F$54,H666,\n     'Base Maestra'!$G$43:$G$54,I666)>0, \"Correcto\", \"Revisar Catálogo\"), \"\")","v":""}]
[null,null,null,null,null,null,null,null,null,null,null,null,null,null,null,null,null,null,null,{"$f":"IF(S667<>\"\",(IF(COUNTIFS('Base Maestra'!$A$42:$A$535,N667,'Base Maestra'!$B$42:$B$535,O667,'Base Maestra'!$C$42:$C$535,P667)>0,\"Correcto\",\"Revisar Catálogo\")),\"\")","v":""},{"$f":"IF(S667<>\"\", IF(COUNTIFS(\n     'Base Maestra'!$F$43:$F$54,H667,\n     'Base Maestra'!$G$43:$G$54,I667)>0, \"Correcto\", \"Revisar Catálogo\"), \"\")","v":""}]
[null,null,null,null,null,null,null,null,null,null,null,null,null,null,null,null,null,null,null,{"$f":"IF(S668<>\"\",(IF(COUNTIFS('Base Maestra'!$A$42:$A$535,N668,'Base Maestra'!$B$42:$B$535,O668,'Base Maestra'!$C$42:$C$535,P668)>0,\"Correcto\",\"Revisar Catálogo\")),\"\")","v":""},{"$f":"IF(S668<>\"\", IF(COUNTIFS(\n     'Base Maestra'!$F$43:$F$54,H668,\n     'Base Maestra'!$G$43:$G$54,I668)>0, \"Correcto\", \"Revisar Catálogo\"), \"\")","v":""}]
[null,null,null,null,null,null,null,null,null,null,null,null,null,null,null,null,null,null,null,{"$f":"IF(S669<>\"\",(IF(COUNTIFS('Base Maestra'!$A$42:$A$535,N669,'Base Maestra'!$B$42:$B$535,O669,'Base Maestra'!$C$42:$C$535,P669)>0,\"Correcto\",\"Revisar Catálogo\")),\"\")","v":""},{"$f":"IF(S669<>\"\", IF(COUNTIFS(\n     'Base Maestra'!$F$43:$F$54,H669,\n     'Base Maestra'!$G$43:$G$54,I669)>0, \"Correcto\", \"Revisar Catálogo\"), \"\")","v":""}]
[null,null,null,null,null,null,null,null,null,null,null,null,null,null,null,null,null,null,null,{"$f":"IF(S670<>\"\",(IF(COUNTIFS('Base Maestra'!$A$42:$A$535,N670,'Base Maestra'!$B$42:$B$535,O670,'Base Maestra'!$C$42:$C$535,P670)>0,\"Correcto\",\"Revisar Catálogo\")),\"\")","v":""},{"$f":"IF(S670<>\"\", IF(COUNTIFS(\n     'Base Maestra'!$F$43:$F$54,H670,\n     'Base Maestra'!$G$43:$G$54,I670)>0, \"Correcto\", \"Revisar Catálogo\"), \"\")","v":""}]
[null,null,null,null,null,null,null,null,null,null,null,null,null,null,null,null,null,null,null,{"$f":"IF(S671<>\"\",(IF(COUNTIFS('Base Maestra'!$A$42:$A$535,N671,'Base Maestra'!$B$42:$B$535,O671,'Base Maestra'!$C$42:$C$535,P671)>0,\"Correcto\",\"Revisar Catálogo\")),\"\")","v":""},{"$f":"IF(S671<>\"\", IF(COUNTIFS(\n     'Base Maestra'!$F$43:$F$54,H671,\n     'Base Maestra'!$G$43:$G$54,I671)>0, \"Correcto\", \"Revisar Catálogo\"), \"\")","v":""}]
[null,null,null,null,null,null,null,null,null,null,null,null,null,null,null,null,null,null,null,{"$f":"IF(S672<>\"\",(IF(COUNTIFS('Base Maestra'!$A$42:$A$535,N672,'Base Maestra'!$B$42:$B$535,O672,'Base Maestra'!$C$42:$C$535,P672)>0,\"Correcto\",\"Revisar Catálogo\")),\"\")","v":""},{"$f":"IF(S672<>\"\", IF(COUNTIFS(\n     'Base Maestra'!$F$43:$F$54,H672,\n     'Base Maestra'!$G$43:$G$54,I672)>0, \"Correcto\", \"Revisar Catálogo\"), \"\")","v":""}]
[null,null,null,null,null,null,null,null,null,null,null,null,null,null,null,null,null,null,null,{"$f":"IF(S673<>\"\",(IF(COUNTIFS('Base Maestra'!$A$42:$A$535,N673,'Base Maestra'!$B$42:$B$535,O673,'Base Maestra'!$C$42:$C$535,P673)>0,\"Correcto\",\"Revisar Catálogo\")),\"\")","v":""},{"$f":"IF(S673<>\"\", IF(COUNTIFS(\n     'Base Maestra'!$F$43:$F$54,H673,\n     'Base Maestra'!$G$43:$G$54,I673)>0, \"Correcto\", \"Revisar Catálogo\"), \"\")","v":""}]
[null,null,null,null,null,null,null,null,null,null,null,null,null,null,null,null,null,null,null,{"$f":"IF(S674<>\"\",(IF(COUNTIFS('Base Maestra'!$A$42:$A$535,N674,'Base Maestra'!$B$42:$B$535,O674,'Base Maestra'!$C$42:$C$535,P674)>0,\"Correcto\",\"Revisar Catálogo\")),\"\")","v":""},{"$f":"IF(S674<>\"\", IF(COUNTIFS(\n     'Base Maestra'!$F$43:$F$54,H674,\n     'Base Maestra'!$G$43:$G$54,I674)>0, \"Correcto\", \"Revisar Catálogo\"), \"\")","v":""}]
[null,null,null,null,null,null,null,null,null,null,null,null,null,null,null,null,null,null,null,{"$f":"IF(S675<>\"\",(IF(COUNTIFS('Base Maestra'!$A$42:$A$535,N675,'Base Maestra'!$B$42:$B$535,O675,'Base Maestra'!$C$42:$C$535,P675)>0,\"Correcto\",\"Revisar Catálogo\")),\"\")","v":""},{"$f":"IF(S675<>\"\", IF(COUNTIFS(\n     'Base Maestra'!$F$43:$F$54,H675,\n     'Base Maestra'!$G$43:$G$54,I675)>0, \"Correcto\", \"Revisar Catálogo\"), \"\")","v":""}]
[null,null,null,null,null,null,null,null,null,null,null,null,null,null,null,null,null,null,null,{"$f":"IF(S676<>\"\",(IF(COUNTIFS('Base Maestra'!$A$42:$A$535,N676,'Base Maestra'!$B$42:$B$535,O676,'Base Maestra'!$C$42:$C$535,P676)>0,\"Correcto\",\"Revisar Catálogo\")),\"\")","v":""},{"$f":"IF(S676<>\"\", IF(COUNTIFS(\n     'Base Maestra'!$F$43:$F$54,H676,\n     'Base Maestra'!$G$43:$G$54,I676)>0, \"Correcto\", \"Revisar Catálogo\"), \"\")","v":""}]
[null,null,null,null,null,null,null,null,null,null,null,null,null,null,null,null,null,null,null,{"$f":"IF(S677<>\"\",(IF(COUNTIFS('Base Maestra'!$A$42:$A$535,N677,'Base Maestra'!$B$42:$B$535,O677,'Base Maestra'!$C$42:$C$535,P677)>0,\"Correcto\",\"Revisar Catálogo\")),\"\")","v":""},{"$f":"IF(S677<>\"\", IF(COUNTIFS(\n     'Base Maestra'!$F$43:$F$54,H677,\n     'Base Maestra'!$G$43:$G$54,I677)>0, \"Correcto\", \"Revisar Catálogo\"), \"\")","v":""}]
[null,null,null,null,null,null,null,null,null,null,null,null,null,null,null,null,null,null,null,{"$f":"IF(S678<>\"\",(IF(COUNTIFS('Base Maestra'!$A$42:$A$535,N678,'Base Maestra'!$B$42:$B$535,O678,'Base Maestra'!$C$42:$C$535,P678)>0,\"Correcto\",\"Revisar Catálogo\")),\"\")","v":""},{"$f":"IF(S678<>\"\", IF(COUNTIFS(\n     'Base Maestra'!$F$43:$F$54,H678,\n     'Base Maestra'!$G$43:$G$54,I678)>0, \"Correcto\", \"Revisar Catálogo\"), \"\")","v":""}]
[null,null,null,null,null,null,null,null,null,null,null,null,null,null,null,null,null,null,null,{"$f":"IF(S679<>\"\",(IF(COUNTIFS('Base Maestra'!$A$42:$A$535,N679,'Base Maestra'!$B$42:$B$535,O679,'Base Maestra'!$C$42:$C$535,P679)>0,\"Correcto\",\"Revisar Catálogo\")),\"\")","v":""},{"$f":"IF(S679<>\"\", IF(COUNTIFS(\n     'Base Maestra'!$F$43:$F$54,H679,\n     'Base Maestra'!$G$43:$G$54,I679)>0, \"Correcto\", \"Revisar Catálogo\"), \"\")","v":""}]
[null,null,null,null,null,null,null,null,null,null,null,null,null,null,null,null,null,null,null,{"$f":"IF(S680<>\"\",(IF(COUNTIFS('Base Maestra'!$A$42:$A$535,N680,'Base Maestra'!$B$42:$B$535,O680,'Base Maestra'!$C$42:$C$535,P680)>0,\"Correcto\",\"Revisar Catálogo\")),\"\")","v":""},{"$f":"IF(S680<>\"\", IF(COUNTIFS(\n     'Base Maestra'!$F$43:$F$54,H680,\n     'Base Maestra'!$G$43:$G$54,I680)>0, \"Correcto\", \"Revisar Catálogo\"), \"\")","v":""}]
[null,null,null,null,null,null,null,null,null,null,null,null,null,null,null,null,null,null,null,{"$f":"IF(S681<>\"\",(IF(COUNTIFS('Base Maestra'!$A$42:$A$535,N681,'Base Maestra'!$B$42:$B$535,O681,'Base Maestra'!$C$42:$C$535,P681)>0,\"Correcto\",\"Revisar Catálogo\")),\"\")","v":""},{"$f":"IF(S681<>\"\", IF(COUNTIFS(\n     'Base Maestra'!$F$43:$F$54,H681,\n     'Base Maestra'!$G$43:$G$54,I681)>0, \"Correcto\", \"Revisar Catálogo\"), \"\")","v":""}]
[null,null,null,null,null,null,null,null,null,null,null,null,null,null,null,null,null,null,null,{"$f":"IF(S682<>\"\",(IF(COUNTIFS('Base Maestra'!$A$42:$A$535,N682,'Base Maestra'!$B$42:$B$535,O682,'Base Maestra'!$C$42:$C$535,P682)>0,\"Correcto\",\"Revisar Catálogo\")),\"\")","v":""},{"$f":"IF(S682<>\"\", IF(COUNTIFS(\n     'Base Maestra'!$F$43:$F$54,H682,\n     'Base Maestra'!$G$43:$G$54,I682)>0, \"Correcto\", \"Revisar Catálogo\"), \"\")","v":""}]
[null,null,null,null,null,null,null,null,null,null,null,null,null,null,null,null,null,null,null,{"$f":"IF(S683<>\"\",(IF(COUNTIFS('Base Maestra'!$A$42:$A$535,N683,'Base Maestra'!$B$42:$B$535,O683,'Base Maestra'!$C$42:$C$535,P683)>0,\"Correcto\",\"Revisar Catálogo\")),\"\")","v":""},{"$f":"IF(S683<>\"\", IF(COUNTIFS(\n     'Base Maestra'!$F$43:$F$54,H683,\n     'Base Maestra'!$G$43:$G$54,I683)>0, \"Correcto\", \"Revisar Catálogo\"), \"\")","v":""}]
[null,null,null,null,null,null,null,null,null,null,null,null,null,null,null,null,null,null,null,{"$f":"IF(S684<>\"\",(IF(COUNTIFS('Base Maestra'!$A$42:$A$535,N684,'Base Maestra'!$B$42:$B$535,O684,'Base Maestra'!$C$42:$C$535,P684)>0,\"Correcto\",\"Revisar Catálogo\")),\"\")","v":""},{"$f":"IF(S684<>\"\", IF(COUNTIFS(\n     'Base Maestra'!$F$43:$F$54,H684,\n     'Base Maestra'!$G$43:$G$54,I684)>0, \"Correcto\", \"Revisar Catálogo\"), \"\")","v":""}]
[null,null,null,null,null,null,null,null,null,null,null,null,null,null,null,null,null,null,null,{"$f":"IF(S685<>\"\",(IF(COUNTIFS('Base Maestra'!$A$42:$A$535,N685,'Base Maestra'!$B$42:$B$535,O685,'Base Maestra'!$C$42:$C$535,P685)>0,\"Correcto\",\"Revisar Catálogo\")),\"\")","v":""},{"$f":"IF(S685<>\"\", IF(COUNTIFS(\n     'Base Maestra'!$F$43:$F$54,H685,\n     'Base Maestra'!$G$43:$G$54,I685)>0, \"Correcto\", \"Revisar Catálogo\"), \"\")","v":""}]
[null,null,null,null,null,null,null,null,null,null,null,null,null,null,null,null,null,null,null,{"$f":"IF(S686<>\"\",(IF(COUNTIFS('Base Maestra'!$A$42:$A$535,N686,'Base Maestra'!$B$42:$B$535,O686,'Base Maestra'!$C$42:$C$535,P686)>0,\"Correcto\",\"Revisar Catálogo\")),\"\")","v":""},{"$f":"IF(S686<>\"\", IF(COUNTIFS(\n     'Base Maestra'!$F$43:$F$54,H686,\n     'Base Maestra'!$G$43:$G$54,I686)>0, \"Correcto\", \"Revisar Catálogo\"), \"\")","v":""}]
[null,null,null,null,null,null,null,null,null,null,null,null,null,null,null,null,null,null,null,{"$f":"IF(S687<>\"\",(IF(COUNTIFS('Base Maestra'!$A$42:$A$535,N687,'Base Maestra'!$B$42:$B$535,O687,'Base Maestra'!$C$42:$C$535,P687)>0,\"Correcto\",\"Revisar Catálogo\")),\"\")","v":""},{"$f":"IF(S687<>\"\", IF(COUNTIFS(\n     'Base Maestra'!$F$43:$F$54,H687,\n     'Base Maestra'!$G$43:$G$54,I687)>0, \"Correcto\", \"Revisar Catálogo\"), \"\")","v":""}]
[null,null,null,null,null,null,null,null,null,null,null,null,null,null,null,null,null,null,null,{"$f":"IF(S688<>\"\",(IF(COUNTIFS('Base Maestra'!$A$42:$A$535,N688,'Base Maestra'!$B$42:$B$535,O688,'Base Maestra'!$C$42:$C$535,P688)>0,\"Correcto\",\"Revisar Catálogo\")),\"\")","v":""},{"$f":"IF(S688<>\"\", IF(COUNTIFS(\n     'Base Maestra'!$F$43:$F$54,H688,\n     'Base Maestra'!$G$43:$G$54,I688)>0, \"Correcto\", \"Revisar Catálogo\"), \"\")","v":""}]
[null,null,null,null,null,null,null,null,null,null,null,null,null,null,null,null,null,null,null,{"$f":"IF(S689<>\"\",(IF(COUNTIFS('Base Maestra'!$A$42:$A$535,N689,'Base Maestra'!$B$42:$B$535,O689,'Base Maestra'!$C$42:$C$535,P689)>0,\"Correcto\",\"Revisar Catálogo\")),\"\")","v":""},{"$f":"IF(S689<>\"\", IF(COUNTIFS(\n     'Base Maestra'!$F$43:$F$54,H689,\n     'Base Maestra'!$G$43:$G$54,I689)>0, \"Correcto\", \"Revisar Catálogo\"), \"\")","v":""}]
[null,null,null,null,null,null,null,null,null,null,null,null,null,null,null,null,null,null,null,{"$f":"IF(S690<>\"\",(IF(COUNTIFS('Base Maestra'!$A$42:$A$535,N690,'Base Maestra'!$B$42:$B$535,O690,'Base Maestra'!$C$42:$C$535,P690)>0,\"Correcto\",\"Revisar Catálogo\")),\"\")","v":""},{"$f":"IF(S690<>\"\", IF(COUNTIFS(\n     'Base Maestra'!$F$43:$F$54,H690,\n     'Base Maestra'!$G$43:$G$54,I690)>0, \"Correcto\", \"Revisar Catálogo\"), \"\")","v":""}]
[null,null,null,null,null,null,null,null,null,null,null,null,null,null,null,null,null,null,null,{"$f":"IF(S691<>\"\",(IF(COUNTIFS('Base Maestra'!$A$42:$A$535,N691,'Base Maestra'!$B$42:$B$535,O691,'Base Maestra'!$C$42:$C$535,P691)>0,\"Correcto\",\"Revisar Catálogo\")),\"\")","v":""},{"$f":"IF(S691<>\"\", IF(COUNTIFS(\n     'Base Maestra'!$F$43:$F$54,H691,\n     'Base Maestra'!$G$43:$G$54,I691)>0, \"Correcto\", \"Revisar Catálogo\"), \"\")","v":""}]
[null,null,null,null,null,null,null,null,null,null,null,null,null,null,null,null,null,null,null,{"$f":"IF(S692<>\"\",(IF(COUNTIFS('Base Maestra'!$A$42:$A$535,N692,'Base Maestra'!$B$42:$B$535,O692,'Base Maestra'!$C$42:$C$535,P692)>0,\"Correcto\",\"Revisar Catálogo\")),\"\")","v":""},{"$f":"IF(S692<>\"\", IF(COUNTIFS(\n     'Base Maestra'!$F$43:$F$54,H692,\n     'Base Maestra'!$G$43:$G$54,I692)>0, \"Correcto\", \"Revisar Catálogo\"), \"\")","v":""}]
[null,null,null,null,null,null,null,null,null,null,null,null,null,null,null,null,null,null,null,{"$f":"IF(S693<>\"\",(IF(COUNTIFS('Base Maestra'!$A$42:$A$535,N693,'Base Maestra'!$B$42:$B$535,O693,'Base Maestra'!$C$42:$C$535,P693)>0,\"Correcto\",\"Revisar Catálogo\")),\"\")","v":""},{"$f":"IF(S693<>\"\", IF(COUNTIFS(\n     'Base Maestra'!$F$43:$F$54,H693,\n     'Base Maestra'!$G$43:$G$54,I693)>0, \"Correcto\", \"Revisar Catálogo\"), \"\")","v":""}]
[null,null,null,null,null,null,null,null,null,null,null,null,null,null,null,null,null,null,null,{"$f":"IF(S694<>\"\",(IF(COUNTIFS('Base Maestra'!$A$42:$A$535,N694,'Base Maestra'!$B$42:$B$535,O694,'Base Maestra'!$C$42:$C$535,P694)>0,\"Correcto\",\"Revisar Catálogo\")),\"\")","v":""},{"$f":"IF(S694<>\"\", IF(COUNTIFS(\n     'Base Maestra'!$F$43:$F$54,H694,\n     'Base Maestra'!$G$43:$G$54,I694)>0, \"Correcto\", \"Revisar Catálogo\"), \"\")","v":""}]
[null,null,null,null,null,null,null,null,null,null,null,null,null,null,null,null,null,null,null,{"$f":"IF(S695<>\"\",(IF(COUNTIFS('Base Maestra'!$A$42:$A$535,N695,'Base Maestra'!$B$42:$B$535,O695,'Base Maestra'!$C$42:$C$535,P695)>0,\"Correcto\",\"Revisar Catálogo\")),\"\")","v":""},{"$f":"IF(S695<>\"\", IF(COUNTIFS(\n     'Base Maestra'!$F$43:$F$54,H695,\n     'Base Maestra'!$G$43:$G$54,I695)>0, \"Correcto\", \"Revisar Catálogo\"), \"\")","v":""}]
[null,null,null,null,null,null,null,null,null,null,null,null,null,null,null,null,null,null,null,{"$f":"IF(S696<>\"\",(IF(COUNTIFS('Base Maestra'!$A$42:$A$535,N696,'Base Maestra'!$B$42:$B$535,O696,'Base Maestra'!$C$42:$C$535,P696)>0,\"Correcto\",\"Revisar Catálogo\")),\"\")","v":""},{"$f":"IF(S696<>\"\", IF(COUNTIFS(\n     'Base Maestra'!$F$43:$F$54,H696,\n     'Base Maestra'!$G$43:$G$54,I696)>0, \"Correcto\", \"Revisar Catálogo\"), \"\")","v":""}]
[null,null,null,null,null,null,null,null,null,null,null,null,null,null,null,null,null,null,null,{"$f":"IF(S697<>\"\",(IF(COUNTIFS('Base Maestra'!$A$42:$A$535,N697,'Base Maestra'!$B$42:$B$535,O697,'Base Maestra'!$C$42:$C$535,P697)>0,\"Correcto\",\"Revisar Catálogo\")),\"\")","v":""},{"$f":"IF(S697<>\"\", IF(COUNTIFS(\n     'Base Maestra'!$F$43:$F$54,H697,\n     'Base Maestra'!$G$43:$G$54,I697)>0, \"Correcto\", \"Revisar Catálogo\"), \"\")","v":""}]
[null,null,null,null,null,null,null,null,null,null,null,null,null,null,null,null,null,null,null,{"$f":"IF(S698<>\"\",(IF(COUNTIFS('Base Maestra'!$A$42:$A$535,N698,'Base Maestra'!$B$42:$B$535,O698,'Base Maestra'!$C$42:$C$535,P698)>0,\"Correcto\",\"Revisar Catálogo\")),\"\")","v":""},{"$f":"IF(S698<>\"\", IF(COUNTIFS(\n     'Base Maestra'!$F$43:$F$54,H698,\n     'Base Maestra'!$G$43:$G$54,I698)>0, \"Correcto\", \"Revisar Catálogo\"), \"\")","v":""}]
[null,null,null,null,null,null,null,null,null,null,null,null,null,null,null,null,null,null,null,{"$f":"IF(S699<>\"\",(IF(COUNTIFS('Base Maestra'!$A$42:$A$535,N699,'Base Maestra'!$B$42:$B$535,O699,'Base Maestra'!$C$42:$C$535,P699)>0,\"Correcto\",\"Revisar Catálogo\")),\"\")","v":""},{"$f":"IF(S699<>\"\", IF(COUNTIFS(\n     'Base Maestra'!$F$43:$F$54,H699,\n     'Base Maestra'!$G$43:$G$54,I699)>0, \"Correcto\", \"Revisar Catálogo\"), \"\")","v":""}]
[null,null,null,null,null,null,null,null,null,null,null,null,null,null,null,null,null,null,null,{"$f":"IF(S700<>\"\",(IF(COUNTIFS('Base Maestra'!$A$42:$A$535,N700,'Base Maestra'!$B$42:$B$535,O700,'Base Maestra'!$C$42:$C$535,P700)>0,\"Correcto\",\"Revisar Catálogo\")),\"\")","v":""},{"$f":"IF(S700<>\"\", IF(COUNTIFS(\n     'Base Maestra'!$F$43:$F$54,H700,\n     'Base Maestra'!$G$43:$G$54,I700)>0, \"Correcto\", \"Revisar Catálogo\"), \"\")","v":""}]
[null,null,null,null,null,null,null,null,null,null,null,null,null,null,null,null,null,null,null,{"$f":"IF(S701<>\"\",(IF(COUNTIFS('Base Maestra'!$A$42:$A$535,N701,'Base Maestra'!$B$42:$B$535,O701,'Base Maestra'!$C$42:$C$535,P701)>0,\"Correcto\",\"Revisar Catálogo\")),\"\")","v":""},{"$f":"IF(S701<>\"\", IF(COUNTIFS(\n     'Base Maestra'!$F$43:$F$54,H701,\n     'Base Maestra'!$G$43:$G$54,I701)>0, \"Correcto\", \"Revisar Catálogo\"), \"\")","v":""}]
[null,null,null,null,null,null,null,null,null,null,null,null,null,null,null,null,null,null,null,{"$f":"IF(S702<>\"\",(IF(COUNTIFS('Base Maestra'!$A$42:$A$535,N702,'Base Maestra'!$B$42:$B$535,O702,'Base Maestra'!$C$42:$C$535,P702)>0,\"Correcto\",\"Revisar Catálogo\")),\"\")","v":""},{"$f":"IF(S702<>\"\", IF(COUNTIFS(\n     'Base Maestra'!$F$43:$F$54,H702,\n     'Base Maestra'!$G$43:$G$54,I702)>0, \"Correcto\", \"Revisar Catálogo\"), \"\")","v":""}]
[null,null,null,null,null,null,null,null,null,null,null,null,null,null,null,null,null,null,null,{"$f":"IF(S703<>\"\",(IF(COUNTIFS('Base Maestra'!$A$42:$A$535,N703,'Base Maestra'!$B$42:$B$535,O703,'Base Maestra'!$C$42:$C$535,P703)>0,\"Correcto\",\"Revisar Catálogo\")),\"\")","v":""},{"$f":"IF(S703<>\"\", IF(COUNTIFS(\n     'Base Maestra'!$F$43:$F$54,H703,\n     'Base Maestra'!$G$43:$G$54,I703)>0, \"Correcto\", \"Revisar Catálogo\"), \"\")","v":""}]
[null,null,null,null,null,null,null,null,null,null,null,null,null,null,null,null,null,null,null,{"$f":"IF(S704<>\"\",(IF(COUNTIFS('Base Maestra'!$A$42:$A$535,N704,'Base Maestra'!$B$42:$B$535,O704,'Base Maestra'!$C$42:$C$535,P704)>0,\"Correcto\",\"Revisar Catálogo\")),\"\")","v":""},{"$f":"IF(S704<>\"\", IF(COUNTIFS(\n     'Base Maestra'!$F$43:$F$54,H704,\n     'Base Maestra'!$G$43:$G$54,I704)>0, \"Correcto\", \"Revisar Catálogo\"), \"\")","v":""}]
[null,null,null,null,null,null,null,null,null,null,null,null,null,null,null,null,null,null,null,{"$f":"IF(S705<>\"\",(IF(COUNTIFS('Base Maestra'!$A$42:$A$535,N705,'Base Maestra'!$B$42:$B$535,O705,'Base Maestra'!$C$42:$C$535,P705)>0,\"Correcto\",\"Revisar Catálogo\")),\"\")","v":""},{"$f":"IF(S705<>\"\", IF(COUNTIFS(\n     'Base Maestra'!$F$43:$F$54,H705,\n     'Base Maestra'!$G$43:$G$54,I705)>0, \"Correcto\", \"Revisar Catálogo\"), \"\")","v":""}]
[null,null,null,null,null,null,null,null,null,null,null,null,null,null,null,null,null,null,null,{"$f":"IF(S706<>\"\",(IF(COUNTIFS('Base Maestra'!$A$42:$A$535,N706,'Base Maestra'!$B$42:$B$535,O706,'Base Maestra'!$C$42:$C$535,P706)>0,\"Correcto\",\"Revisar Catálogo\")),\"\")","v":""},{"$f":"IF(S706<>\"\", IF(COUNTIFS(\n     'Base Maestra'!$F$43:$F$54,H706,\n     'Base Maestra'!$G$43:$G$54,I706)>0, \"Correcto\", \"Revisar Catálogo\"), \"\")","v":""}]
[null,null,null,null,null,null,null,null,null,null,null,null,null,null,null,null,null,null,null,{"$f":"IF(S707<>\"\",(IF(COUNTIFS('Base Maestra'!$A$42:$A$535,N707,'Base Maestra'!$B$42:$B$535,O707,'Base Maestra'!$C$42:$C$535,P707)>0,\"Correcto\",\"Revisar Catálogo\")),\"\")","v":""},{"$f":"IF(S707<>\"\", IF(COUNTIFS(\n     'Base Maestra'!$F$43:$F$54,H707,\n     'Base Maestra'!$G$43:$G$54,I707)>0, \"Correcto\", \"Revisar Catálogo\"), \"\")","v":""}]
[null,null,null,null,null,null,null,null,null,null,null,null,null,null,null,null,null,null,null,{"$f":"IF(S708<>\"\",(IF(COUNTIFS('Base Maestra'!$A$42:$A$535,N708,'Base Maestra'!$B$42:$B$535,O708,'Base Maestra'!$C$42:$C$535,P708)>0,\"Correcto\",\"Revisar Catálogo\")),\"\")","v":""},{"$f":"IF(S708<>\"\", IF(COUNTIFS(\n     'Base Maestra'!$F$43:$F$54,H708,\n     'Base Maestra'!$G$43:$G$54,I708)>0, \"Correcto\", \"Revisar Catálogo\"), \"\")","v":""}]
[null,null,null,null,null,null,null,null,null,null,null,null,null,null,null,null,null,null,null,{"$f":"IF(S709<>\"\",(IF(COUNTIFS('Base Maestra'!$A$42:$A$535,N709,'Base Maestra'!$B$42:$B$535,O709,'Base Maestra'!$C$42:$C$535,P709)>0,\"Correcto\",\"Revisar Catálogo\")),\"\")","v":""},{"$f":"IF(S709<>\"\", IF(COUNTIFS(\n     'Base Maestra'!$F$43:$F$54,H709,\n     'Base Maestra'!$G$43:$G$54,I709)>0, \"Correcto\", \"Revisar Catálogo\"), \"\")","v":""}]
[null,null,null,null,null,null,null,null,null,null,null,null,null,null,null,null,null,null,null,{"$f":"IF(S710<>\"\",(IF(COUNTIFS('Base Maestra'!$A$42:$A$535,N710,'Base Maestra'!$B$42:$B$535,O710,'Base Maestra'!$C$42:$C$535,P710)>0,\"Correcto\",\"Revisar Catálogo\")),\"\")","v":""},{"$f":"IF(S710<>\"\", IF(COUNTIFS(\n     'Base Maestra'!$F$43:$F$54,H710,\n     'Base Maestra'!$G$43:$G$54,I710)>0, \"Correcto\", \"Revisar Catálogo\"), \"\")","v":""}]
[null,null,null,null,null,null,null,null,null,null,null,null,null,null,null,null,null,null,null,{"$f":"IF(S711<>\"\",(IF(COUNTIFS('Base Maestra'!$A$42:$A$535,N711,'Base Maestra'!$B$42:$B$535,O711,'Base Maestra'!$C$42:$C$535,P711)>0,\"Correcto\",\"Revisar Catálogo\")),\"\")","v":""},{"$f":"IF(S711<>\"\", IF(COUNTIFS(\n     'Base Maestra'!$F$43:$F$54,H711,\n     'Base Maestra'!$G$43:$G$54,I711)>0, \"Correcto\", \"Revisar Catálogo\"), \"\")","v":""}]
[null,null,null,null,null,null,null,null,null,null,null,null,null,null,null,null,null,null,null,{"$f":"IF(S712<>\"\",(IF(COUNTIFS('Base Maestra'!$A$42:$A$535,N712,'Base Maestra'!$B$42:$B$535,O712,'Base Maestra'!$C$42:$C$535,P712)>0,\"Correcto\",\"Revisar Catálogo\")),\"\")","v":""},{"$f":"IF(S712<>\"\", IF(COUNTIFS(\n     'Base Maestra'!$F$43:$F$54,H712,\n     'Base Maestra'!$G$43:$G$54,I712)>0, \"Correcto\", \"Revisar Catálogo\"), \"\")","v":""}]
[null,null,null,null,null,null,null,null,null,null,null,null,null,null,null,null,null,null,null,{"$f":"IF(S713<>\"\",(IF(COUNTIFS('Base Maestra'!$A$42:$A$535,N713,'Base Maestra'!$B$42:$B$535,O713,'Base Maestra'!$C$42:$C$535,P713)>0,\"Correcto\",\"Revisar Catálogo\")),\"\")","v":""},{"$f":"IF(S713<>\"\", IF(COUNTIFS(\n     'Base Maestra'!$F$43:$F$54,H713,\n     'Base Maestra'!$G$43:$G$54,I713)>0, \"Correcto\", \"Revisar Catálogo\"), \"\")","v":""}]
[null,null,null,null,null,null,null,null,null,null,null,null,null,null,null,null,null,null,null,{"$f":"IF(S714<>\"\",(IF(COUNTIFS('Base Maestra'!$A$42:$A$535,N714,'Base Maestra'!$B$42:$B$535,O714,'Base Maestra'!$C$42:$C$535,P714)>0,\"Correcto\",\"Revisar Catálogo\")),\"\")","v":""},{"$f":"IF(S714<>\"\", IF(COUNTIFS(\n     'Base Maestra'!$F$43:$F$54,H714,\n     'Base Maestra'!$G$43:$G$54,I714)>0, \"Correcto\", \"Revisar Catálogo\"), \"\")","v":""}]
[null,null,null,null,null,null,null,null,null,null,null,null,null,null,null,null,null,null,null,{"$f":"IF(S715<>\"\",(IF(COUNTIFS('Base Maestra'!$A$42:$A$535,N715,'Base Maestra'!$B$42:$B$535,O715,'Base Maestra'!$C$42:$C$535,P715)>0,\"Correcto\",\"Revisar Catálogo\")),\"\")","v":""},{"$f":"IF(S715<>\"\", IF(COUNTIFS(\n     'Base Maestra'!$F$43:$F$54,H715,\n     'Base Maestra'!$G$43:$G$54,I715)>0, \"Correcto\", \"Revisar Catálogo\"), \"\")","v":""}]
[null,null,null,null,null,null,null,null,null,null,null,null,null,null,null,null,null,null,null,{"$f":"IF(S716<>\"\",(IF(COUNTIFS('Base Maestra'!$A$42:$A$535,N716,'Base Maestra'!$B$42:$B$535,O716,'Base Maestra'!$C$42:$C$535,P716)>0,\"Correcto\",\"Revisar Catálogo\")),\"\")","v":""},{"$f":"IF(S716<>\"\", IF(COUNTIFS(\n     'Base Maestra'!$F$43:$F$54,H716,\n     'Base Maestra'!$G$43:$G$54,I716)>0, \"Correcto\", \"Revisar Catálogo\"), \"\")","v":""}]
[null,null,null,null,null,null,null,null,null,null,null,null,null,null,null,null,null,null,null,{"$f":"IF(S717<>\"\",(IF(COUNTIFS('Base Maestra'!$A$42:$A$535,N717,'Base Maestra'!$B$42:$B$535,O717,'Base Maestra'!$C$42:$C$535,P717)>0,\"Correcto\",\"Revisar Catálogo\")),\"\")","v":""},{"$f":"IF(S717<>\"\", IF(COUNTIFS(\n     'Base Maestra'!$F$43:$F$54,H717,\n     'Base Maestra'!$G$43:$G$54,I717)>0, \"Correcto\", \"Revisar Catálogo\"), \"\")","v":""}]
[null,null,null,null,null,null,null,null,null,null,null,null,null,null,null,null,null,null,null,{"$f":"IF(S718<>\"\",(IF(COUNTIFS('Base Maestra'!$A$42:$A$535,N718,'Base Maestra'!$B$42:$B$535,O718,'Base Maestra'!$C$42:$C$535,P718)>0,\"Correcto\",\"Revisar Catálogo\")),\"\")","v":""},{"$f":"IF(S718<>\"\", IF(COUNTIFS(\n     'Base Maestra'!$F$43:$F$54,H718,\n     'Base Maestra'!$G$43:$G$54,I718)>0, \"Correcto\", \"Revisar Catálogo\"), \"\")","v":""}]
[null,null,null,null,null,null,null,null,null,null,null,null,null,null,null,null,null,null,null,{"$f":"IF(S719<>\"\",(IF(COUNTIFS('Base Maestra'!$A$42:$A$535,N719,'Base Maestra'!$B$42:$B$535,O719,'Base Maestra'!$C$42:$C$535,P719)>0,\"Correcto\",\"Revisar Catálogo\")),\"\")","v":""},{"$f":"IF(S719<>\"\", IF(COUNTIFS(\n     'Base Maestra'!$F$43:$F$54,H719,\n     'Base Maestra'!$G$43:$G$54,I719)>0, \"Correcto\", \"Revisar Catálogo\"), \"\")","v":""}]
[null,null,null,null,null,null,null,null,null,null,null,null,null,null,null,null,null,null,null,{"$f":"IF(S720<>\"\",(IF(COUNTIFS('Base Maestra'!$A$42:$A$535,N720,'Base Maestra'!$B$42:$B$535,O720,'Base Maestra'!$C$42:$C$535,P720)>0,\"Correcto\",\"Revisar Catálogo\")),\"\")","v":""},{"$f":"IF(S720<>\"\", IF(COUNTIFS(\n     'Base Maestra'!$F$43:$F$54,H720,\n     'Base Maestra'!$G$43:$G$54,I720)>0, \"Correcto\", \"Revisar Catálogo\"), \"\")","v":""}]
[null,null,null,null,null,null,null,null,null,null,null,null,null,null,null,null,null,null,null,{"$f":"IF(S721<>\"\",(IF(COUNTIFS('Base Maestra'!$A$42:$A$535,N721,'Base Maestra'!$B$42:$B$535,O721,'Base Maestra'!$C$42:$C$535,P721)>0,\"Correcto\",\"Revisar Catálogo\")),\"\")","v":""},{"$f":"IF(S721<>\"\", IF(COUNTIFS(\n     'Base Maestra'!$F$43:$F$54,H721,\n     'Base Maestra'!$G$43:$G$54,I721)>0, \"Correcto\", \"Revisar Catálogo\"), \"\")","v":""}]
[null,null,null,null,null,null,null,null,null,null,null,null,null,null,null,null,null,null,null,{"$f":"IF(S722<>\"\",(IF(COUNTIFS('Base Maestra'!$A$42:$A$535,N722,'Base Maestra'!$B$42:$B$535,O722,'Base Maestra'!$C$42:$C$535,P722)>0,\"Correcto\",\"Revisar Catálogo\")),\"\")","v":""},{"$f":"IF(S722<>\"\", IF(COUNTIFS(\n     'Base Maestra'!$F$43:$F$54,H722,\n     'Base Maestra'!$G$43:$G$54,I722)>0, \"Correcto\", \"Revisar Catálogo\"), \"\")","v":""}]
[null,null,null,null,null,null,null,null,null,null,null,null,null,null,null,null,null,null,null,{"$f":"IF(S723<>\"\",(IF(COUNTIFS('Base Maestra'!$A$42:$A$535,N723,'Base Maestra'!$B$42:$B$535,O723,'Base Maestra'!$C$42:$C$535,P723)>0,\"Correcto\",\"Revisar Catálogo\")),\"\")","v":""},{"$f":"IF(S723<>\"\", IF(COUNTIFS(\n     'Base Maestra'!$F$43:$F$54,H723,\n     'Base Maestra'!$G$43:$G$54,I723)>0, \"Correcto\", \"Revisar Catálogo\"), \"\")","v":""}]
[null,null,null,null,null,null,null,null,null,null,null,null,null,null,null,null,null,null,null,{"$f":"IF(S724<>\"\",(IF(COUNTIFS('Base Maestra'!$A$42:$A$535,N724,'Base Maestra'!$B$42:$B$535,O724,'Base Maestra'!$C$42:$C$535,P724)>0,\"Correcto\",\"Revisar Catálogo\")),\"\")","v":""},{"$f":"IF(S724<>\"\", IF(COUNTIFS(\n     'Base Maestra'!$F$43:$F$54,H724,\n     'Base Maestra'!$G$43:$G$54,I724)>0, \"Correcto\", \"Revisar Catálogo\"), \"\")","v":""}]
[null,null,null,null,null,null,null,null,null,null,null,null,null,null,null,null,null,null,null,{"$f":"IF(S725<>\"\",(IF(COUNTIFS('Base Maestra'!$A$42:$A$535,N725,'Base Maestra'!$B$42:$B$535,O725,'Base Maestra'!$C$42:$C$535,P725)>0,\"Correcto\",\"Revisar Catálogo\")),\"\")","v":""},{"$f":"IF(S725<>\"\", IF(COUNTIFS(\n     'Base Maestra'!$F$43:$F$54,H725,\n     'Base Maestra'!$G$43:$G$54,I725)>0, \"Correcto\", \"Revisar Catálogo\"), \"\")","v":""}]
[null,null,null,null,null,null,null,null,null,null,null,null,null,null,null,null,null,null,null,{"$f":"IF(S726<>\"\",(IF(COUNTIFS('Base Maestra'!$A$42:$A$535,N726,'Base Maestra'!$B$42:$B$535,O726,'Base Maestra'!$C$42:$C$535,P726)>0,\"Correcto\",\"Revisar Catálogo\")),\"\")","v":""},{"$f":"IF(S726<>\"\", IF(COUNTIFS(\n     'Base Maestra'!$F$43:$F$54,H726,\n     'Base Maestra'!$G$43:$G$54,I726)>0, \"Correcto\", \"Revisar Catálogo\"), \"\")","v":""}]
[null,null,null,null,null,null,null,null,null,null,null,null,null,null,null,null,null,null,null,{"$f":"IF(S727<>\"\",(IF(COUNTIFS('Base Maestra'!$A$42:$A$535,N727,'Base Maestra'!$B$42:$B$535,O727,'Base Maestra'!$C$42:$C$535,P727)>0,\"Correcto\",\"Revisar Catálogo\")),\"\")","v":""},{"$f":"IF(S727<>\"\", IF(COUNTIFS(\n     'Base Maestra'!$F$43:$F$54,H727,\n     'Base Maestra'!$G$43:$G$54,I727)>0, \"Correcto\", \"Revisar Catálogo\"), \"\")","v":""}]
[null,null,null,null,null,null,null,null,null,null,null,null,null,null,null,null,null,null,null,{"$f":"IF(S728<>\"\",(IF(COUNTIFS('Base Maestra'!$A$42:$A$535,N728,'Base Maestra'!$B$42:$B$535,O728,'Base Maestra'!$C$42:$C$535,P728)>0,\"Correcto\",\"Revisar Catálogo\")),\"\")","v":""},{"$f":"IF(S728<>\"\", IF(COUNTIFS(\n     'Base Maestra'!$F$43:$F$54,H728,\n     'Base Maestra'!$G$43:$G$54,I728)>0, \"Correcto\", \"Revisar Catálogo\"), \"\")","v":""}]
[null,null,null,null,null,null,null,null,null,null,null,null,null,null,null,null,null,null,null,{"$f":"IF(S729<>\"\",(IF(COUNTIFS('Base Maestra'!$A$42:$A$535,N729,'Base Maestra'!$B$42:$B$535,O729,'Base Maestra'!$C$42:$C$535,P729)>0,\"Correcto\",\"Revisar Catálogo\")),\"\")","v":""},{"$f":"IF(S729<>\"\", IF(COUNTIFS(\n     'Base Maestra'!$F$43:$F$54,H729,\n     'Base Maestra'!$G$43:$G$54,I729)>0, \"Correcto\", \"Revisar Catálogo\"), \"\")","v":""}]
[null,null,null,null,null,null,null,null,null,null,null,null,null,null,null,null,null,null,null,{"$f":"IF(S730<>\"\",(IF(COUNTIFS('Base Maestra'!$A$42:$A$535,N730,'Base Maestra'!$B$42:$B$535,O730,'Base Maestra'!$C$42:$C$535,P730)>0,\"Correcto\",\"Revisar Catálogo\")),\"\")","v":""},{"$f":"IF(S730<>\"\", IF(COUNTIFS(\n     'Base Maestra'!$F$43:$F$54,H730,\n     'Base Maestra'!$G$43:$G$54,I730)>0, \"Correcto\", \"Revisar Catálogo\"), \"\")","v":""}]
[null,null,null,null,null,null,null,null,null,null,null,null,null,null,null,null,null,null,null,{"$f":"IF(S731<>\"\",(IF(COUNTIFS('Base Maestra'!$A$42:$A$535,N731,'Base Maestra'!$B$42:$B$535,O731,'Base Maestra'!$C$42:$C$535,P731)>0,\"Correcto\",\"Revisar Catálogo\")),\"\")","v":""},{"$f":"IF(S731<>\"\", IF(COUNTIFS(\n     'Base Maestra'!$F$43:$F$54,H731,\n     'Base Maestra'!$G$43:$G$54,I731)>0, \"Correcto\", \"Revisar Catálogo\"), \"\")","v":""}]
[null,null,null,null,null,null,null,null,null,null,null,null,null,null,null,null,null,null,null,{"$f":"IF(S732<>\"\",(IF(COUNTIFS('Base Maestra'!$A$42:$A$535,N732,'Base Maestra'!$B$42:$B$535,O732,'Base Maestra'!$C$42:$C$535,P732)>0,\"Correcto\",\"Revisar Catálogo\")),\"\")","v":""},{"$f":"IF(S732<>\"\", IF(COUNTIFS(\n     'Base Maestra'!$F$43:$F$54,H732,\n     'Base Maestra'!$G$43:$G$54,I732)>0, \"Correcto\", \"Revisar Catálogo\"), \"\")","v":""}]
[null,null,null,null,null,null,null,null,null,null,null,null,null,null,null,null,null,null,null,{"$f":"IF(S733<>\"\",(IF(COUNTIFS('Base Maestra'!$A$42:$A$535,N733,'Base Maestra'!$B$42:$B$535,O733,'Base Maestra'!$C$42:$C$535,P733)>0,\"Correcto\",\"Revisar Catálogo\")),\"\")","v":""},{"$f":"IF(S733<>\"\", IF(COUNTIFS(\n     'Base Maestra'!$F$43:$F$54,H733,\n     'Base Maestra'!$G$43:$G$54,I733)>0, \"Correcto\", \"Revisar Catálogo\"), \"\")","v":""}]
[null,null,null,null,null,null,null,null,null,null,null,null,null,null,null,null,null,null,null,{"$f":"IF(S734<>\"\",(IF(COUNTIFS('Base Maestra'!$A$42:$A$535,N734,'Base Maestra'!$B$42:$B$535,O734,'Base Maestra'!$C$42:$C$535,P734)>0,\"Correcto\",\"Revisar Catálogo\")),\"\")","v":""},{"$f":"IF(S734<>\"\", IF(COUNTIFS(\n     'Base Maestra'!$F$43:$F$54,H734,\n     'Base Maestra'!$G$43:$G$54,I734)>0, \"Correcto\", \"Revisar Catálogo\"), \"\")","v":""}]
[null,null,null,null,null,null,null,null,null,null,null,null,null,null,null,null,null,null,null,{"$f":"IF(S735<>\"\",(IF(COUNTIFS('Base Maestra'!$A$42:$A$535,N735,'Base Maestra'!$B$42:$B$535,O735,'Base Maestra'!$C$42:$C$535,P735)>0,\"Correcto\",\"Revisar Catálogo\")),\"\")","v":""},{"$f":"IF(S735<>\"\", IF(COUNTIFS(\n     'Base Maestra'!$F$43:$F$54,H735,\n     'Base Maestra'!$G$43:$G$54,I735)>0, \"Correcto\", \"Revisar Catálogo\"), \"\")","v":""}]
[null,null,null,null,null,null,null,null,null,null,null,null,null,null,null,null,null,null,null,{"$f":"IF(S736<>\"\",(IF(COUNTIFS('Base Maestra'!$A$42:$A$535,N736,'Base Maestra'!$B$42:$B$535,O736,'Base Maestra'!$C$42:$C$535,P736)>0,\"Correcto\",\"Revisar Catálogo\")),\"\")","v":""},{"$f":"IF(S736<>\"\", IF(COUNTIFS(\n     'Base Maestra'!$F$43:$F$54,H736,\n     'Base Maestra'!$G$43:$G$54,I736)>0, \"Correcto\", \"Revisar Catálogo\"), \"\")","v":""}]
[null,null,null,null,null,null,null,null,null,null,null,null,null,null,null,null,null,null,null,{"$f":"IF(S737<>\"\",(IF(COUNTIFS('Base Maestra'!$A$42:$A$535,N737,'Base Maestra'!$B$42:$B$535,O737,'Base Maestra'!$C$42:$C$535,P737)>0,\"Correcto\",\"Revisar Catálogo\")),\"\")","v":""},{"$f":"IF(S737<>\"\", IF(COUNTIFS(\n     'Base Maestra'!$F$43:$F$54,H737,\n     'Base Maestra'!$G$43:$G$54,I737)>0, \"Correcto\", \"Revisar Catálogo\"), \"\")","v":""}]
[null,null,null,null,null,null,null,null,null,null,null,null,null,null,null,null,null,null,null,{"$f":"IF(S738<>\"\",(IF(COUNTIFS('Base Maestra'!$A$42:$A$535,N738,'Base Maestra'!$B$42:$B$535,O738,'Base Maestra'!$C$42:$C$535,P738)>0,\"Correcto\",\"Revisar Catálogo\")),\"\")","v":""},{"$f":"IF(S738<>\"\", IF(COUNTIFS(\n     'Base Maestra'!$F$43:$F$54,H738,\n     'Base Maestra'!$G$43:$G$54,I738)>0, \"Correcto\", \"Revisar Catálogo\"), \"\")","v":""}]
[null,null,null,null,null,null,null,null,null,null,null,null,null,null,null,null,null,null,null,{"$f":"IF(S739<>\"\",(IF(COUNTIFS('Base Maestra'!$A$42:$A$535,N739,'Base Maestra'!$B$42:$B$535,O739,'Base Maestra'!$C$42:$C$535,P739)>0,\"Correcto\",\"Revisar Catálogo\")),\"\")","v":""},{"$f":"IF(S739<>\"\", IF(COUNTIFS(\n     'Base Maestra'!$F$43:$F$54,H739,\n     'Base Maestra'!$G$43:$G$54,I739)>0, \"Correcto\", \"Revisar Catálogo\"), \"\")","v":""}]
[null,null,null,null,null,null,null,null,null,null,null,null,null,null,null,null,null,null,null,{"$f":"IF(S740<>\"\",(IF(COUNTIFS('Base Maestra'!$A$42:$A$535,N740,'Base Maestra'!$B$42:$B$535,O740,'Base Maestra'!$C$42:$C$535,P740)>0,\"Correcto\",\"Revisar Catálogo\")),\"\")","v":""},{"$f":"IF(S740<>\"\", IF(COUNTIFS(\n     'Base Maestra'!$F$43:$F$54,H740,\n     'Base Maestra'!$G$43:$G$54,I740)>0, \"Correcto\", \"Revisar Catálogo\"), \"\")","v":""}]
[null,null,null,null,null,null,null,null,null,null,null,null,null,null,null,null,null,null,null,{"$f":"IF(S741<>\"\",(IF(COUNTIFS('Base Maestra'!$A$42:$A$535,N741,'Base Maestra'!$B$42:$B$535,O741,'Base Maestra'!$C$42:$C$535,P741)>0,\"Correcto\",\"Revisar Catálogo\")),\"\")","v":""},{"$f":"IF(S741<>\"\", IF(COUNTIFS(\n     'Base Maestra'!$F$43:$F$54,H741,\n     'Base Maestra'!$G$43:$G$54,I741)>0, \"Correcto\", \"Revisar Catálogo\"), \"\")","v":""}]
[null,null,null,null,null,null,null,null,null,null,null,null,null,null,null,null,null,null,null,{"$f":"IF(S742<>\"\",(IF(COUNTIFS('Base Maestra'!$A$42:$A$535,N742,'Base Maestra'!$B$42:$B$535,O742,'Base Maestra'!$C$42:$C$535,P742)>0,\"Correcto\",\"Revisar Catálogo\")),\"\")","v":""},{"$f":"IF(S742<>\"\", IF(COUNTIFS(\n     'Base Maestra'!$F$43:$F$54,H742,\n     'Base Maestra'!$G$43:$G$54,I742)>0, \"Correcto\", \"Revisar Catálogo\"), \"\")","v":""}]
[null,null,null,null,null,null,null,null,null,null,null,null,null,null,null,null,null,null,null,{"$f":"IF(S743<>\"\",(IF(COUNTIFS('Base Maestra'!$A$42:$A$535,N743,'Base Maestra'!$B$42:$B$535,O743,'Base Maestra'!$C$42:$C$535,P743)>0,\"Correcto\",\"Revisar Catálogo\")),\"\")","v":""},{"$f":"IF(S743<>\"\", IF(COUNTIFS(\n     'Base Maestra'!$F$43:$F$54,H743,\n     'Base Maestra'!$G$43:$G$54,I743)>0, \"Correcto\", \"Revisar Catálogo\"), \"\")","v":""}]
[null,null,null,null,null,null,null,null,null,null,null,null,null,null,null,null,null,null,null,{"$f":"IF(S744<>\"\",(IF(COUNTIFS('Base Maestra'!$A$42:$A$535,N744,'Base Maestra'!$B$42:$B$535,O744,'Base Maestra'!$C$42:$C$535,P744)>0,\"Correcto\",\"Revisar Catálogo\")),\"\")","v":""},{"$f":"IF(S744<>\"\", IF(COUNTIFS(\n     'Base Maestra'!$F$43:$F$54,H744,\n     'Base Maestra'!$G$43:$G$54,I744)>0, \"Correcto\", \"Revisar Catálogo\"), \"\")","v":""}]
[null,null,null,null,null,null,null,null,null,null,null,null,null,null,null,null,null,null,null,{"$f":"IF(S745<>\"\",(IF(COUNTIFS('Base Maestra'!$A$42:$A$535,N745,'Base Maestra'!$B$42:$B$535,O745,'Base Maestra'!$C$42:$C$535,P745)>0,\"Correcto\",\"Revisar Catálogo\")),\"\")","v":""},{"$f":"IF(S745<>\"\", IF(COUNTIFS(\n     'Base Maestra'!$F$43:$F$54,H745,\n     'Base Maestra'!$G$43:$G$54,I745)>0, \"Correcto\", \"Revisar Catálogo\"), \"\")","v":""}]
[null,null,null,null,null,null,null,null,null,null,null,null,null,null,null,null,null,null,null,{"$f":"IF(S746<>\"\",(IF(COUNTIFS('Base Maestra'!$A$42:$A$535,N746,'Base Maestra'!$B$42:$B$535,O746,'Base Maestra'!$C$42:$C$535,P746)>0,\"Correcto\",\"Revisar Catálogo\")),\"\")","v":""},{"$f":"IF(S746<>\"\", IF(COUNTIFS(\n     'Base Maestra'!$F$43:$F$54,H746,\n     'Base Maestra'!$G$43:$G$54,I746)>0, \"Correcto\", \"Revisar Catálogo\"), \"\")","v":""}]
[null,null,null,null,null,null,null,null,null,null,null,null,null,null,null,null,null,null,null,{"$f":"IF(S747<>\"\",(IF(COUNTIFS('Base Maestra'!$A$42:$A$535,N747,'Base Maestra'!$B$42:$B$535,O747,'Base Maestra'!$C$42:$C$535,P747)>0,\"Correcto\",\"Revisar Catálogo\")),\"\")","v":""},{"$f":"IF(S747<>\"\", IF(COUNTIFS(\n     'Base Maestra'!$F$43:$F$54,H747,\n     'Base Maestra'!$G$43:$G$54,I747)>0, \"Correcto\", \"Revisar Catálogo\"), \"\")","v":""}]
[null,null,null,null,null,null,null,null,null,null,null,null,null,null,null,null,null,null,null,{"$f":"IF(S748<>\"\",(IF(COUNTIFS('Base Maestra'!$A$42:$A$535,N748,'Base Maestra'!$B$42:$B$535,O748,'Base Maestra'!$C$42:$C$535,P748)>0,\"Correcto\",\"Revisar Catálogo\")),\"\")","v":""},{"$f":"IF(S748<>\"\", IF(COUNTIFS(\n     'Base Maestra'!$F$43:$F$54,H748,\n     'Base Maestra'!$G$43:$G$54,I748)>0, \"Correcto\", \"Revisar Catálogo\"), \"\")","v":""}]
[null,null,null,null,null,null,null,null,null,null,null,null,null,null,null,null,null,null,null,{"$f":"IF(S749<>\"\",(IF(COUNTIFS('Base Maestra'!$A$42:$A$535,N749,'Base Maestra'!$B$42:$B$535,O749,'Base Maestra'!$C$42:$C$535,P749)>0,\"Correcto\",\"Revisar Catálogo\")),\"\")","v":""},{"$f":"IF(S749<>\"\", IF(COUNTIFS(\n     'Base Maestra'!$F$43:$F$54,H749,\n     'Base Maestra'!$G$43:$G$54,I749)>0, \"Correcto\", \"Revisar Catálogo\"), \"\")","v":""}]
[null,null,null,null,null,null,null,null,null,null,null,null,null,null,null,null,null,null,null,{"$f":"IF(S750<>\"\",(IF(COUNTIFS('Base Maestra'!$A$42:$A$535,N750,'Base Maestra'!$B$42:$B$535,O750,'Base Maestra'!$C$42:$C$535,P750)>0,\"Correcto\",\"Revisar Catálogo\")),\"\")","v":""},{"$f":"IF(S750<>\"\", IF(COUNTIFS(\n     'Base Maestra'!$F$43:$F$54,H750,\n     'Base Maestra'!$G$43:$G$54,I750)>0, \"Correcto\", \"Revisar Catálogo\"), \"\")","v":""}]
[null,null,null,null,null,null,null,null,null,null,null,null,null,null,null,null,null,null,null,{"$f":"IF(S751<>\"\",(IF(COUNTIFS('Base Maestra'!$A$42:$A$535,N751,'Base Maestra'!$B$42:$B$535,O751,'Base Maestra'!$C$42:$C$535,P751)>0,\"Correcto\",\"Revisar Catálogo\")),\"\")","v":""},{"$f":"IF(S751<>\"\", IF(COUNTIFS(\n     'Base Maestra'!$F$43:$F$54,H751,\n     'Base Maestra'!$G$43:$G$54,I751)>0, \"Correcto\", \"Revisar Catálogo\"), \"\")","v":""}]
[null,null,null,null,null,null,null,null,null,null,null,null,null,null,null,null,null,null,null,{"$f":"IF(S752<>\"\",(IF(COUNTIFS('Base Maestra'!$A$42:$A$535,N752,'Base Maestra'!$B$42:$B$535,O752,'Base Maestra'!$C$42:$C$535,P752)>0,\"Correcto\",\"Revisar Catálogo\")),\"\")","v":""},{"$f":"IF(S752<>\"\", IF(COUNTIFS(\n     'Base Maestra'!$F$43:$F$54,H752,\n     'Base Maestra'!$G$43:$G$54,I752)>0, \"Correcto\", \"Revisar Catálogo\"), \"\")","v":""}]
[null,null,null,null,null,null,null,null,null,null,null,null,null,null,null,null,null,null,null,{"$f":"IF(S753<>\"\",(IF(COUNTIFS('Base Maestra'!$A$42:$A$535,N753,'Base Maestra'!$B$42:$B$535,O753,'Base Maestra'!$C$42:$C$535,P753)>0,\"Correcto\",\"Revisar Catálogo\")),\"\")","v":""},{"$f":"IF(S753<>\"\", IF(COUNTIFS(\n     'Base Maestra'!$F$43:$F$54,H753,\n     'Base Maestra'!$G$43:$G$54,I753)>0, \"Correcto\", \"Revisar Catálogo\"), \"\")","v":""}]
[null,null,null,null,null,null,null,null,null,null,null,null,null,null,null,null,null,null,null,{"$f":"IF(S754<>\"\",(IF(COUNTIFS('Base Maestra'!$A$42:$A$535,N754,'Base Maestra'!$B$42:$B$535,O754,'Base Maestra'!$C$42:$C$535,P754)>0,\"Correcto\",\"Revisar Catálogo\")),\"\")","v":""},{"$f":"IF(S754<>\"\", IF(COUNTIFS(\n     'Base Maestra'!$F$43:$F$54,H754,\n     'Base Maestra'!$G$43:$G$54,I754)>0, \"Correcto\", \"Revisar Catálogo\"), \"\")","v":""}]
[null,null,null,null,null,null,null,null,null,null,null,null,null,null,null,null,null,null,null,{"$f":"IF(S755<>\"\",(IF(COUNTIFS('Base Maestra'!$A$42:$A$535,N755,'Base Maestra'!$B$42:$B$535,O755,'Base Maestra'!$C$42:$C$535,P755)>0,\"Correcto\",\"Revisar Catálogo\")),\"\")","v":""},{"$f":"IF(S755<>\"\", IF(COUNTIFS(\n     'Base Maestra'!$F$43:$F$54,H755,\n     'Base Maestra'!$G$43:$G$54,I755)>0, \"Correcto\", \"Revisar Catálogo\"), \"\")","v":""}]
[null,null,null,null,null,null,null,null,null,null,null,null,null,null,null,null,null,null,null,{"$f":"IF(S756<>\"\",(IF(COUNTIFS('Base Maestra'!$A$42:$A$535,N756,'Base Maestra'!$B$42:$B$535,O756,'Base Maestra'!$C$42:$C$535,P756)>0,\"Correcto\",\"Revisar Catálogo\")),\"\")","v":""},{"$f":"IF(S756<>\"\", IF(COUNTIFS(\n     'Base Maestra'!$F$43:$F$54,H756,\n     'Base Maestra'!$G$43:$G$54,I756)>0, \"Correcto\", \"Revisar Catálogo\"), \"\")","v":""}]
[null,null,null,null,null,null,null,null,null,null,null,null,null,null,null,null,null,null,null,{"$f":"IF(S757<>\"\",(IF(COUNTIFS('Base Maestra'!$A$42:$A$535,N757,'Base Maestra'!$B$42:$B$535,O757,'Base Maestra'!$C$42:$C$535,P757)>0,\"Correcto\",\"Revisar Catálogo\")),\"\")","v":""},{"$f":"IF(S757<>\"\", IF(COUNTIFS(\n     'Base Maestra'!$F$43:$F$54,H757,\n     'Base Maestra'!$G$43:$G$54,I757)>0, \"Correcto\", \"Revisar Catálogo\"), \"\")","v":""}]
[null,null,null,null,null,null,null,null,null,null,null,null,null,null,null,null,null,null,null,{"$f":"IF(S758<>\"\",(IF(COUNTIFS('Base Maestra'!$A$42:$A$535,N758,'Base Maestra'!$B$42:$B$535,O758,'Base Maestra'!$C$42:$C$535,P758)>0,\"Correcto\",\"Revisar Catálogo\")),\"\")","v":""},{"$f":"IF(S758<>\"\", IF(COUNTIFS(\n     'Base Maestra'!$F$43:$F$54,H758,\n     'Base Maestra'!$G$43:$G$54,I758)>0, \"Correcto\", \"Revisar Catálogo\"), \"\")","v":""}]
[null,null,null,null,null,null,null,null,null,null,null,null,null,null,null,null,null,null,null,{"$f":"IF(S759<>\"\",(IF(COUNTIFS('Base Maestra'!$A$42:$A$535,N759,'Base Maestra'!$B$42:$B$535,O759,'Base Maestra'!$C$42:$C$535,P759)>0,\"Correcto\",\"Revisar Catálogo\")),\"\")","v":""},{"$f":"IF(S759<>\"\", IF(COUNTIFS(\n     'Base Maestra'!$F$43:$F$54,H759,\n     'Base Maestra'!$G$43:$G$54,I759)>0, \"Correcto\", \"Revisar Catálogo\"), \"\")","v":""}]
[null,null,null,null,null,null,null,null,null,null,null,null,null,null,null,null,null,null,null,{"$f":"IF(S760<>\"\",(IF(COUNTIFS('Base Maestra'!$A$42:$A$535,N760,'Base Maestra'!$B$42:$B$535,O760,'Base Maestra'!$C$42:$C$535,P760)>0,\"Correcto\",\"Revisar Catálogo\")),\"\")","v":""},{"$f":"IF(S760<>\"\", IF(COUNTIFS(\n     'Base Maestra'!$F$43:$F$54,H760,\n     'Base Maestra'!$G$43:$G$54,I760)>0, \"Correcto\", \"Revisar Catálogo\"), \"\")","v":""}]
[null,null,null,null,null,null,null,null,null,null,null,null,null,null,null,null,null,null,null,{"$f":"IF(S761<>\"\",(IF(COUNTIFS('Base Maestra'!$A$42:$A$535,N761,'Base Maestra'!$B$42:$B$535,O761,'Base Maestra'!$C$42:$C$535,P761)>0,\"Correcto\",\"Revisar Catálogo\")),\"\")","v":""},{"$f":"IF(S761<>\"\", IF(COUNTIFS(\n     'Base Maestra'!$F$43:$F$54,H761,\n     'Base Maestra'!$G$43:$G$54,I761)>0, \"Correcto\", \"Revisar Catálogo\"), \"\")","v":""}]
[null,null,null,null,null,null,null,null,null,null,null,null,null,null,null,null,null,null,null,{"$f":"IF(S762<>\"\",(IF(COUNTIFS('Base Maestra'!$A$42:$A$535,N762,'Base Maestra'!$B$42:$B$535,O762,'Base Maestra'!$C$42:$C$535,P762)>0,\"Correcto\",\"Revisar Catálogo\")),\"\")","v":""},{"$f":"IF(S762<>\"\", IF(COUNTIFS(\n     'Base Maestra'!$F$43:$F$54,H762,\n     'Base Maestra'!$G$43:$G$54,I762)>0, \"Correcto\", \"Revisar Catálogo\"), \"\")","v":""}]
[null,null,null,null,null,null,null,null,null,null,null,null,null,null,null,null,null,null,null,{"$f":"IF(S763<>\"\",(IF(COUNTIFS('Base Maestra'!$A$42:$A$535,N763,'Base Maestra'!$B$42:$B$535,O763,'Base Maestra'!$C$42:$C$535,P763)>0,\"Correcto\",\"Revisar Catálogo\")),\"\")","v":""},{"$f":"IF(S763<>\"\", IF(COUNTIFS(\n     'Base Maestra'!$F$43:$F$54,H763,\n     'Base Maestra'!$G$43:$G$54,I763)>0, \"Correcto\", \"Revisar Catálogo\"), \"\")","v":""}]
[null,null,null,null,null,null,null,null,null,null,null,null,null,null,null,null,null,null,null,{"$f":"IF(S764<>\"\",(IF(COUNTIFS('Base Maestra'!$A$42:$A$535,N764,'Base Maestra'!$B$42:$B$535,O764,'Base Maestra'!$C$42:$C$535,P764)>0,\"Correcto\",\"Revisar Catálogo\")),\"\")","v":""},{"$f":"IF(S764<>\"\", IF(COUNTIFS(\n     'Base Maestra'!$F$43:$F$54,H764,\n     'Base Maestra'!$G$43:$G$54,I764)>0, \"Correcto\", \"Revisar Catálogo\"), \"\")","v":""}]
[null,null,null,null,null,null,null,null,null,null,null,null,null,null,null,null,null,null,null,{"$f":"IF(S765<>\"\",(IF(COUNTIFS('Base Maestra'!$A$42:$A$535,N765,'Base Maestra'!$B$42:$B$535,O765,'Base Maestra'!$C$42:$C$535,P765)>0,\"Correcto\",\"Revisar Catálogo\")),\"\")","v":""},{"$f":"IF(S765<>\"\", IF(COUNTIFS(\n     'Base Maestra'!$F$43:$F$54,H765,\n     'Base Maestra'!$G$43:$G$54,I765)>0, \"Correcto\", \"Revisar Catálogo\"), \"\")","v":""}]
[null,null,null,null,null,null,null,null,null,null,null,null,null,null,null,null,null,null,null,{"$f":"IF(S766<>\"\",(IF(COUNTIFS('Base Maestra'!$A$42:$A$535,N766,'Base Maestra'!$B$42:$B$535,O766,'Base Maestra'!$C$42:$C$535,P766)>0,\"Correcto\",\"Revisar Catálogo\")),\"\")","v":""},{"$f":"IF(S766<>\"\", IF(COUNTIFS(\n     'Base Maestra'!$F$43:$F$54,H766,\n     'Base Maestra'!$G$43:$G$54,I766)>0, \"Correcto\", \"Revisar Catálogo\"), \"\")","v":""}]
[null,null,null,null,null,null,null,null,null,null,null,null,null,null,null,null,null,null,null,{"$f":"IF(S767<>\"\",(IF(COUNTIFS('Base Maestra'!$A$42:$A$535,N767,'Base Maestra'!$B$42:$B$535,O767,'Base Maestra'!$C$42:$C$535,P767)>0,\"Correcto\",\"Revisar Catálogo\")),\"\")","v":""},{"$f":"IF(S767<>\"\", IF(COUNTIFS(\n     'Base Maestra'!$F$43:$F$54,H767,\n     'Base Maestra'!$G$43:$G$54,I767)>0, \"Correcto\", \"Revisar Catálogo\"), \"\")","v":""}]
[null,null,null,null,null,null,null,null,null,null,null,null,null,null,null,null,null,null,null,{"$f":"IF(S768<>\"\",(IF(COUNTIFS('Base Maestra'!$A$42:$A$535,N768,'Base Maestra'!$B$42:$B$535,O768,'Base Maestra'!$C$42:$C$535,P768)>0,\"Correcto\",\"Revisar Catálogo\")),\"\")","v":""},{"$f":"IF(S768<>\"\", IF(COUNTIFS(\n     'Base Maestra'!$F$43:$F$54,H768,\n     'Base Maestra'!$G$43:$G$54,I768)>0, \"Correcto\", \"Revisar Catálogo\"), \"\")","v":""}]
[null,null,null,null,null,null,null,null,null,null,null,null,null,null,null,null,null,null,null,{"$f":"IF(S769<>\"\",(IF(COUNTIFS('Base Maestra'!$A$42:$A$535,N769,'Base Maestra'!$B$42:$B$535,O769,'Base Maestra'!$C$42:$C$535,P769)>0,\"Correcto\",\"Revisar Catálogo\")),\"\")","v":""},{"$f":"IF(S769<>\"\", IF(COUNTIFS(\n     'Base Maestra'!$F$43:$F$54,H769,\n     'Base Maestra'!$G$43:$G$54,I769)>0, \"Correcto\", \"Revisar Catálogo\"), \"\")","v":""}]
[null,null,null,null,null,null,null,null,null,null,null,null,null,null,null,null,null,null,null,{"$f":"IF(S770<>\"\",(IF(COUNTIFS('Base Maestra'!$A$42:$A$535,N770,'Base Maestra'!$B$42:$B$535,O770,'Base Maestra'!$C$42:$C$535,P770)>0,\"Correcto\",\"Revisar Catálogo\")),\"\")","v":""},{"$f":"IF(S770<>\"\", IF(COUNTIFS(\n     'Base Maestra'!$F$43:$F$54,H770,\n     'Base Maestra'!$G$43:$G$54,I770)>0, \"Correcto\", \"Revisar Catálogo\"), \"\")","v":""}]
[null,null,null,null,null,null,null,null,null,null,null,null,null,null,null,null,null,null,null,{"$f":"IF(S771<>\"\",(IF(COUNTIFS('Base Maestra'!$A$42:$A$535,N771,'Base Maestra'!$B$42:$B$535,O771,'Base Maestra'!$C$42:$C$535,P771)>0,\"Correcto\",\"Revisar Catálogo\")),\"\")","v":""},{"$f":"IF(S771<>\"\", IF(COUNTIFS(\n     'Base Maestra'!$F$43:$F$54,H771,\n     'Base Maestra'!$G$43:$G$54,I771)>0, \"Correcto\", \"Revisar Catálogo\"), \"\")","v":""}]
[null,null,null,null,null,null,null,null,null,null,null,null,null,null,null,null,null,null,null,{"$f":"IF(S772<>\"\",(IF(COUNTIFS('Base Maestra'!$A$42:$A$535,N772,'Base Maestra'!$B$42:$B$535,O772,'Base Maestra'!$C$42:$C$535,P772)>0,\"Correcto\",\"Revisar Catálogo\")),\"\")","v":""},{"$f":"IF(S772<>\"\", IF(COUNTIFS(\n     'Base Maestra'!$F$43:$F$54,H772,\n     'Base Maestra'!$G$43:$G$54,I772)>0, \"Correcto\", \"Revisar Catálogo\"), \"\")","v":""}]
[null,null,null,null,null,null,null,null,null,null,null,null,null,null,null,null,null,null,null,{"$f":"IF(S773<>\"\",(IF(COUNTIFS('Base Maestra'!$A$42:$A$535,N773,'Base Maestra'!$B$42:$B$535,O773,'Base Maestra'!$C$42:$C$535,P773)>0,\"Correcto\",\"Revisar Catálogo\")),\"\")","v":""},{"$f":"IF(S773<>\"\", IF(COUNTIFS(\n     'Base Maestra'!$F$43:$F$54,H773,\n     'Base Maestra'!$G$43:$G$54,I773)>0, \"Correcto\", \"Revisar Catálogo\"), \"\")","v":""}]
[null,null,null,null,null,null,null,null,null,null,null,null,null,null,null,null,null,null,null,{"$f":"IF(S774<>\"\",(IF(COUNTIFS('Base Maestra'!$A$42:$A$535,N774,'Base Maestra'!$B$42:$B$535,O774,'Base Maestra'!$C$42:$C$535,P774)>0,\"Correcto\",\"Revisar Catálogo\")),\"\")","v":""},{"$f":"IF(S774<>\"\", IF(COUNTIFS(\n     'Base Maestra'!$F$43:$F$54,H774,\n     'Base Maestra'!$G$43:$G$54,I774)>0, \"Correcto\", \"Revisar Catálogo\"), \"\")","v":""}]
[null,null,null,null,null,null,null,null,null,null,null,null,null,null,null,null,null,null,null,{"$f":"IF(S775<>\"\",(IF(COUNTIFS('Base Maestra'!$A$42:$A$535,N775,'Base Maestra'!$B$42:$B$535,O775,'Base Maestra'!$C$42:$C$535,P775)>0,\"Correcto\",\"Revisar Catálogo\")),\"\")","v":""},{"$f":"IF(S775<>\"\", IF(COUNTIFS(\n     'Base Maestra'!$F$43:$F$54,H775,\n     'Base Maestra'!$G$43:$G$54,I775)>0, \"Correcto\", \"Revisar Catálogo\"), \"\")","v":""}]
[null,null,null,null,null,null,null,null,null,null,null,null,null,null,null,null,null,null,null,{"$f":"IF(S776<>\"\",(IF(COUNTIFS('Base Maestra'!$A$42:$A$535,N776,'Base Maestra'!$B$42:$B$535,O776,'Base Maestra'!$C$42:$C$535,P776)>0,\"Correcto\",\"Revisar Catálogo\")),\"\")","v":""},{"$f":"IF(S776<>\"\", IF(COUNTIFS(\n     'Base Maestra'!$F$43:$F$54,H776,\n     'Base Maestra'!$G$43:$G$54,I776)>0, \"Correcto\", \"Revisar Catálogo\"), \"\")","v":""}]
[null,null,null,null,null,null,null,null,null,null,null,null,null,null,null,null,null,null,null,{"$f":"IF(S777<>\"\",(IF(COUNTIFS('Base Maestra'!$A$42:$A$535,N777,'Base Maestra'!$B$42:$B$535,O777,'Base Maestra'!$C$42:$C$535,P777)>0,\"Correcto\",\"Revisar Catálogo\")),\"\")","v":""},{"$f":"IF(S777<>\"\", IF(COUNTIFS(\n     'Base Maestra'!$F$43:$F$54,H777,\n     'Base Maestra'!$G$43:$G$54,I777)>0, \"Correcto\", \"Revisar Catálogo\"), \"\")","v":""}]
[null,null,null,null,null,null,null,null,null,null,null,null,null,null,null,null,null,null,null,{"$f":"IF(S778<>\"\",(IF(COUNTIFS('Base Maestra'!$A$42:$A$535,N778,'Base Maestra'!$B$42:$B$535,O778,'Base Maestra'!$C$42:$C$535,P778)>0,\"Correcto\",\"Revisar Catálogo\")),\"\")","v":""},{"$f":"IF(S778<>\"\", IF(COUNTIFS(\n     'Base Maestra'!$F$43:$F$54,H778,\n     'Base Maestra'!$G$43:$G$54,I778)>0, \"Correcto\", \"Revisar Catálogo\"), \"\")","v":""}]
[null,null,null,null,null,null,null,null,null,null,null,null,null,null,null,null,null,null,null,{"$f":"IF(S779<>\"\",(IF(COUNTIFS('Base Maestra'!$A$42:$A$535,N779,'Base Maestra'!$B$42:$B$535,O779,'Base Maestra'!$C$42:$C$535,P779)>0,\"Correcto\",\"Revisar Catálogo\")),\"\")","v":""},{"$f":"IF(S779<>\"\", IF(COUNTIFS(\n     'Base Maestra'!$F$43:$F$54,H779,\n     'Base Maestra'!$G$43:$G$54,I779)>0, \"Correcto\", \"Revisar Catálogo\"), \"\")","v":""}]
[null,null,null,null,null,null,null,null,null,null,null,null,null,null,null,null,null,null,null,{"$f":"IF(S780<>\"\",(IF(COUNTIFS('Base Maestra'!$A$42:$A$535,N780,'Base Maestra'!$B$42:$B$535,O780,'Base Maestra'!$C$42:$C$535,P780)>0,\"Correcto\",\"Revisar Catálogo\")),\"\")","v":""},{"$f":"IF(S780<>\"\", IF(COUNTIFS(\n     'Base Maestra'!$F$43:$F$54,H780,\n     'Base Maestra'!$G$43:$G$54,I780)>0, \"Correcto\", \"Revisar Catálogo\"), \"\")","v":""}]
[null,null,null,null,null,null,null,null,null,null,null,null,null,null,null,null,null,null,null,{"$f":"IF(S781<>\"\",(IF(COUNTIFS('Base Maestra'!$A$42:$A$535,N781,'Base Maestra'!$B$42:$B$535,O781,'Base Maestra'!$C$42:$C$535,P781)>0,\"Correcto\",\"Revisar Catálogo\")),\"\")","v":""},{"$f":"IF(S781<>\"\", IF(COUNTIFS(\n     'Base Maestra'!$F$43:$F$54,H781,\n     'Base Maestra'!$G$43:$G$54,I781)>0, \"Correcto\", \"Revisar Catálogo\"), \"\")","v":""}]
[null,null,null,null,null,null,null,null,null,null,null,null,null,null,null,null,null,null,null,{"$f":"IF(S782<>\"\",(IF(COUNTIFS('Base Maestra'!$A$42:$A$535,N782,'Base Maestra'!$B$42:$B$535,O782,'Base Maestra'!$C$42:$C$535,P782)>0,\"Correcto\",\"Revisar Catálogo\")),\"\")","v":""},{"$f":"IF(S782<>\"\", IF(COUNTIFS(\n     'Base Maestra'!$F$43:$F$54,H782,\n     'Base Maestra'!$G$43:$G$54,I782)>0, \"Correcto\", \"Revisar Catálogo\"), \"\")","v":""}]
[null,null,null,null,null,null,null,null,null,null,null,null,null,null,null,null,null,null,null,{"$f":"IF(S783<>\"\",(IF(COUNTIFS('Base Maestra'!$A$42:$A$535,N783,'Base Maestra'!$B$42:$B$535,O783,'Base Maestra'!$C$42:$C$535,P783)>0,\"Correcto\",\"Revisar Catálogo\")),\"\")","v":""},{"$f":"IF(S783<>\"\", IF(COUNTIFS(\n     'Base Maestra'!$F$43:$F$54,H783,\n     'Base Maestra'!$G$43:$G$54,I783)>0, \"Correcto\", \"Revisar Catálogo\"), \"\")","v":""}]
[null,null,null,null,null,null,null,null,null,null,null,null,null,null,null,null,null,null,null,{"$f":"IF(S784<>\"\",(IF(COUNTIFS('Base Maestra'!$A$42:$A$535,N784,'Base Maestra'!$B$42:$B$535,O784,'Base Maestra'!$C$42:$C$535,P784)>0,\"Correcto\",\"Revisar Catálogo\")),\"\")","v":""},{"$f":"IF(S784<>\"\", IF(COUNTIFS(\n     'Base Maestra'!$F$43:$F$54,H784,\n     'Base Maestra'!$G$43:$G$54,I784)>0, \"Correcto\", \"Revisar Catálogo\"), \"\")","v":""}]
[null,null,null,null,null,null,null,null,null,null,null,null,null,null,null,null,null,null,null,{"$f":"IF(S785<>\"\",(IF(COUNTIFS('Base Maestra'!$A$42:$A$535,N785,'Base Maestra'!$B$42:$B$535,O785,'Base Maestra'!$C$42:$C$535,P785)>0,\"Correcto\",\"Revisar Catálogo\")),\"\")","v":""},{"$f":"IF(S785<>\"\", IF(COUNTIFS(\n     'Base Maestra'!$F$43:$F$54,H785,\n     'Base Maestra'!$G$43:$G$54,I785)>0, \"Correcto\", \"Revisar Catálogo\"), \"\")","v":""}]
[null,null,null,null,null,null,null,null,null,null,null,null,null,null,null,null,null,null,null,{"$f":"IF(S786<>\"\",(IF(COUNTIFS('Base Maestra'!$A$42:$A$535,N786,'Base Maestra'!$B$42:$B$535,O786,'Base Maestra'!$C$42:$C$535,P786)>0,\"Correcto\",\"Revisar Catálogo\")),\"\")","v":""},{"$f":"IF(S786<>\"\", IF(COUNTIFS(\n     'Base Maestra'!$F$43:$F$54,H786,\n     'Base Maestra'!$G$43:$G$54,I786)>0, \"Correcto\", \"Revisar Catálogo\"), \"\")","v":""}]
[null,null,null,null,null,null,null,null,null,null,null,null,null,null,null,null,null,null,null,{"$f":"IF(S787<>\"\",(IF(COUNTIFS('Base Maestra'!$A$42:$A$535,N787,'Base Maestra'!$B$42:$B$535,O787,'Base Maestra'!$C$42:$C$535,P787)>0,\"Correcto\",\"Revisar Catálogo\")),\"\")","v":""},{"$f":"IF(S787<>\"\", IF(COUNTIFS(\n     'Base Maestra'!$F$43:$F$54,H787,\n     'Base Maestra'!$G$43:$G$54,I787)>0, \"Correcto\", \"Revisar Catálogo\"), \"\")","v":""}]
[null,null,null,null,null,null,null,null,null,null,null,null,null,null,null,null,null,null,null,{"$f":"IF(S788<>\"\",(IF(COUNTIFS('Base Maestra'!$A$42:$A$535,N788,'Base Maestra'!$B$42:$B$535,O788,'Base Maestra'!$C$42:$C$535,P788)>0,\"Correcto\",\"Revisar Catálogo\")),\"\")","v":""},{"$f":"IF(S788<>\"\", IF(COUNTIFS(\n     'Base Maestra'!$F$43:$F$54,H788,\n     'Base Maestra'!$G$43:$G$54,I788)>0, \"Correcto\", \"Revisar Catálogo\"), \"\")","v":""}]
[null,null,null,null,null,null,null,null,null,null,null,null,null,null,null,null,null,null,null,{"$f":"IF(S789<>\"\",(IF(COUNTIFS('Base Maestra'!$A$42:$A$535,N789,'Base Maestra'!$B$42:$B$535,O789,'Base Maestra'!$C$42:$C$535,P789)>0,\"Correcto\",\"Revisar Catálogo\")),\"\")","v":""},{"$f":"IF(S789<>\"\", IF(COUNTIFS(\n     'Base Maestra'!$F$43:$F$54,H789,\n     'Base Maestra'!$G$43:$G$54,I789)>0, \"Correcto\", \"Revisar Catálogo\"), \"\")","v":""}]
[null,null,null,null,null,null,null,null,null,null,null,null,null,null,null,null,null,null,null,{"$f":"IF(S790<>\"\",(IF(COUNTIFS('Base Maestra'!$A$42:$A$535,N790,'Base Maestra'!$B$42:$B$535,O790,'Base Maestra'!$C$42:$C$535,P790)>0,\"Correcto\",\"Revisar Catálogo\")),\"\")","v":""},{"$f":"IF(S790<>\"\", IF(COUNTIFS(\n     'Base Maestra'!$F$43:$F$54,H790,\n     'Base Maestra'!$G$43:$G$54,I790)>0, \"Correcto\", \"Revisar Catálogo\"), \"\")","v":""}]
[null,null,null,null,null,null,null,null,null,null,null,null,null,null,null,null,null,null,null,{"$f":"IF(S791<>\"\",(IF(COUNTIFS('Base Maestra'!$A$42:$A$535,N791,'Base Maestra'!$B$42:$B$535,O791,'Base Maestra'!$C$42:$C$535,P791)>0,\"Correcto\",\"Revisar Catálogo\")),\"\")","v":""},{"$f":"IF(S791<>\"\", IF(COUNTIFS(\n     'Base Maestra'!$F$43:$F$54,H791,\n     'Base Maestra'!$G$43:$G$54,I791)>0, \"Correcto\", \"Revisar Catálogo\"), \"\")","v":""}]
[null,null,null,null,null,null,null,null,null,null,null,null,null,null,null,null,null,null,null,{"$f":"IF(S792<>\"\",(IF(COUNTIFS('Base Maestra'!$A$42:$A$535,N792,'Base Maestra'!$B$42:$B$535,O792,'Base Maestra'!$C$42:$C$535,P792)>0,\"Correcto\",\"Revisar Catálogo\")),\"\")","v":""},{"$f":"IF(S792<>\"\", IF(COUNTIFS(\n     'Base Maestra'!$F$43:$F$54,H792,\n     'Base Maestra'!$G$43:$G$54,I792)>0, \"Correcto\", \"Revisar Catálogo\"), \"\")","v":""}]
[null,null,null,null,null,null,null,null,null,null,null,null,null,null,null,null,null,null,null,{"$f":"IF(S793<>\"\",(IF(COUNTIFS('Base Maestra'!$A$42:$A$535,N793,'Base Maestra'!$B$42:$B$535,O793,'Base Maestra'!$C$42:$C$535,P793)>0,\"Correcto\",\"Revisar Catálogo\")),\"\")","v":""},{"$f":"IF(S793<>\"\", IF(COUNTIFS(\n     'Base Maestra'!$F$43:$F$54,H793,\n     'Base Maestra'!$G$43:$G$54,I793)>0, \"Correcto\", \"Revisar Catálogo\"), \"\")","v":""}]
[null,null,null,null,null,null,null,null,null,null,null,null,null,null,null,null,null,null,null,{"$f":"IF(S794<>\"\",(IF(COUNTIFS('Base Maestra'!$A$42:$A$535,N794,'Base Maestra'!$B$42:$B$535,O794,'Base Maestra'!$C$42:$C$535,P794)>0,\"Correcto\",\"Revisar Catálogo\")),\"\")","v":""},{"$f":"IF(S794<>\"\", IF(COUNTIFS(\n     'Base Maestra'!$F$43:$F$54,H794,\n     'Base Maestra'!$G$43:$G$54,I794)>0, \"Correcto\", \"Revisar Catálogo\"), \"\")","v":""}]
[null,null,null,null,null,null,null,null,null,null,null,null,null,null,null,null,null,null,null,{"$f":"IF(S795<>\"\",(IF(COUNTIFS('Base Maestra'!$A$42:$A$535,N795,'Base Maestra'!$B$42:$B$535,O795,'Base Maestra'!$C$42:$C$535,P795)>0,\"Correcto\",\"Revisar Catálogo\")),\"\")","v":""},{"$f":"IF(S795<>\"\", IF(COUNTIFS(\n     'Base Maestra'!$F$43:$F$54,H795,\n     'Base Maestra'!$G$43:$G$54,I795)>0, \"Correcto\", \"Revisar Catálogo\"), \"\")","v":""}]
[null,null,null,null,null,null,null,null,null,null,null,null,null,null,null,null,null,null,null,{"$f":"IF(S796<>\"\",(IF(COUNTIFS('Base Maestra'!$A$42:$A$535,N796,'Base Maestra'!$B$42:$B$535,O796,'Base Maestra'!$C$42:$C$535,P796)>0,\"Correcto\",\"Revisar Catálogo\")),\"\")","v":""},{"$f":"IF(S796<>\"\", IF(COUNTIFS(\n     'Base Maestra'!$F$43:$F$54,H796,\n     'Base Maestra'!$G$43:$G$54,I796)>0, \"Correcto\", \"Revisar Catálogo\"), \"\")","v":""}]
[null,null,null,null,null,null,null,null,null,null,null,null,null,null,null,null,null,null,null,{"$f":"IF(S797<>\"\",(IF(COUNTIFS('Base Maestra'!$A$42:$A$535,N797,'Base Maestra'!$B$42:$B$535,O797,'Base Maestra'!$C$42:$C$535,P797)>0,\"Correcto\",\"Revisar Catálogo\")),\"\")","v":""},{"$f":"IF(S797<>\"\", IF(COUNTIFS(\n     'Base Maestra'!$F$43:$F$54,H797,\n     'Base Maestra'!$G$43:$G$54,I797)>0, \"Correcto\", \"Revisar Catálogo\"), \"\")","v":""}]
[null,null,null,null,null,null,null,null,null,null,null,null,null,null,null,null,null,null,null,{"$f":"IF(S798<>\"\",(IF(COUNTIFS('Base Maestra'!$A$42:$A$535,N798,'Base Maestra'!$B$42:$B$535,O798,'Base Maestra'!$C$42:$C$535,P798)>0,\"Correcto\",\"Revisar Catálogo\")),\"\")","v":""},{"$f":"IF(S798<>\"\", IF(COUNTIFS(\n     'Base Maestra'!$F$43:$F$54,H798,\n     'Base Maestra'!$G$43:$G$54,I798)>0, \"Correcto\", \"Revisar Catálogo\"), \"\")","v":""}]
[null,null,null,null,null,null,null,null,null,null,null,null,null,null,null,null,null,null,null,{"$f":"IF(S799<>\"\",(IF(COUNTIFS('Base Maestra'!$A$42:$A$535,N799,'Base Maestra'!$B$42:$B$535,O799,'Base Maestra'!$C$42:$C$535,P799)>0,\"Correcto\",\"Revisar Catálogo\")),\"\")","v":""},{"$f":"IF(S799<>\"\", IF(COUNTIFS(\n     'Base Maestra'!$F$43:$F$54,H799,\n     'Base Maestra'!$G$43:$G$54,I799)>0, \"Correcto\", \"Revisar Catálogo\"), \"\")","v":""}]
[null,null,null,null,null,null,null,null,null,null,null,null,null,null,null,null,null,null,null,{"$f":"IF(S800<>\"\",(IF(COUNTIFS('Base Maestra'!$A$42:$A$535,N800,'Base Maestra'!$B$42:$B$535,O800,'Base Maestra'!$C$42:$C$535,P800)>0,\"Correcto\",\"Revisar Catálogo\")),\"\")","v":""},{"$f":"IF(S800<>\"\", IF(COUNTIFS(\n     'Base Maestra'!$F$43:$F$54,H800,\n     'Base Maestra'!$G$43:$G$54,I800)>0, \"Correcto\", \"Revisar Catálogo\"), \"\")","v":""}]
[null,null,null,null,null,null,null,null,null,null,null,null,null,null,null,null,null,null,null,{"$f":"IF(S801<>\"\",(IF(COUNTIFS('Base Maestra'!$A$42:$A$535,N801,'Base Maestra'!$B$42:$B$535,O801,'Base Maestra'!$C$42:$C$535,P801)>0,\"Correcto\",\"Revisar Catálogo\")),\"\")","v":""},{"$f":"IF(S801<>\"\", IF(COUNTIFS(\n     'Base Maestra'!$F$43:$F$54,H801,\n     'Base Maestra'!$G$43:$G$54,I801)>0, \"Correcto\", \"Revisar Catálogo\"), \"\")","v":""}]
[null,null,null,null,null,null,null,null,null,null,null,null,null,null,null,null,null,null,null,{"$f":"IF(S802<>\"\",(IF(COUNTIFS('Base Maestra'!$A$42:$A$535,N802,'Base Maestra'!$B$42:$B$535,O802,'Base Maestra'!$C$42:$C$535,P802)>0,\"Correcto\",\"Revisar Catálogo\")),\"\")","v":""},{"$f":"IF(S802<>\"\", IF(COUNTIFS(\n     'Base Maestra'!$F$43:$F$54,H802,\n     'Base Maestra'!$G$43:$G$54,I802)>0, \"Correcto\", \"Revisar Catálogo\"), \"\")","v":""}]
[null,null,null,null,null,null,null,null,null,null,null,null,null,null,null,null,null,null,null,{"$f":"IF(S803<>\"\",(IF(COUNTIFS('Base Maestra'!$A$42:$A$535,N803,'Base Maestra'!$B$42:$B$535,O803,'Base Maestra'!$C$42:$C$535,P803)>0,\"Correcto\",\"Revisar Catálogo\")),\"\")","v":""},{"$f":"IF(S803<>\"\", IF(COUNTIFS(\n     'Base Maestra'!$F$43:$F$54,H803,\n     'Base Maestra'!$G$43:$G$54,I803)>0, \"Correcto\", \"Revisar Catálogo\"), \"\")","v":""}]
[null,null,null,null,null,null,null,null,null,null,null,null,null,null,null,null,null,null,null,{"$f":"IF(S804<>\"\",(IF(COUNTIFS('Base Maestra'!$A$42:$A$535,N804,'Base Maestra'!$B$42:$B$535,O804,'Base Maestra'!$C$42:$C$535,P804)>0,\"Correcto\",\"Revisar Catálogo\")),\"\")","v":""},{"$f":"IF(S804<>\"\", IF(COUNTIFS(\n     'Base Maestra'!$F$43:$F$54,H804,\n     'Base Maestra'!$G$43:$G$54,I804)>0, \"Correcto\", \"Revisar Catálogo\"), \"\")","v":""}]
[null,null,null,null,null,null,null,null,null,null,null,null,null,null,null,null,null,null,null,{"$f":"IF(S805<>\"\",(IF(COUNTIFS('Base Maestra'!$A$42:$A$535,N805,'Base Maestra'!$B$42:$B$535,O805,'Base Maestra'!$C$42:$C$535,P805)>0,\"Correcto\",\"Revisar Catálogo\")),\"\")","v":""},{"$f":"IF(S805<>\"\", IF(COUNTIFS(\n     'Base Maestra'!$F$43:$F$54,H805,\n     'Base Maestra'!$G$43:$G$54,I805)>0, \"Correcto\", \"Revisar Catálogo\"), \"\")","v":""}]
[null,null,null,null,null,null,null,null,null,null,null,null,null,null,null,null,null,null,null,{"$f":"IF(S806<>\"\",(IF(COUNTIFS('Base Maestra'!$A$42:$A$535,N806,'Base Maestra'!$B$42:$B$535,O806,'Base Maestra'!$C$42:$C$535,P806)>0,\"Correcto\",\"Revisar Catálogo\")),\"\")","v":""},{"$f":"IF(S806<>\"\", IF(COUNTIFS(\n     'Base Maestra'!$F$43:$F$54,H806,\n     'Base Maestra'!$G$43:$G$54,I806)>0, \"Correcto\", \"Revisar Catálogo\"), \"\")","v":""}]
[null,null,null,null,null,null,null,null,null,null,null,null,null,null,null,null,null,null,null,{"$f":"IF(S807<>\"\",(IF(COUNTIFS('Base Maestra'!$A$42:$A$535,N807,'Base Maestra'!$B$42:$B$535,O807,'Base Maestra'!$C$42:$C$535,P807)>0,\"Correcto\",\"Revisar Catálogo\")),\"\")","v":""},{"$f":"IF(S807<>\"\", IF(COUNTIFS(\n     'Base Maestra'!$F$43:$F$54,H807,\n     'Base Maestra'!$G$43:$G$54,I807)>0, \"Correcto\", \"Revisar Catálogo\"), \"\")","v":""}]
[null,null,null,null,null,null,null,null,null,null,null,null,null,null,null,null,null,null,null,{"$f":"IF(S808<>\"\",(IF(COUNTIFS('Base Maestra'!$A$42:$A$535,N808,'Base Maestra'!$B$42:$B$535,O808,'Base Maestra'!$C$42:$C$535,P808)>0,\"Correcto\",\"Revisar Catálogo\")),\"\")","v":""},{"$f":"IF(S808<>\"\", IF(COUNTIFS(\n     'Base Maestra'!$F$43:$F$54,H808,\n     'Base Maestra'!$G$43:$G$54,I808)>0, \"Correcto\", \"Revisar Catálogo\"), \"\")","v":""}]
[null,null,null,null,null,null,null,null,null,null,null,null,null,null,null,null,null,null,null,{"$f":"IF(S809<>\"\",(IF(COUNTIFS('Base Maestra'!$A$42:$A$535,N809,'Base Maestra'!$B$42:$B$535,O809,'Base Maestra'!$C$42:$C$535,P809)>0,\"Correcto\",\"Revisar Catálogo\")),\"\")","v":""},{"$f":"IF(S809<>\"\", IF(COUNTIFS(\n     'Base Maestra'!$F$43:$F$54,H809,\n     'Base Maestra'!$G$43:$G$54,I809)>0, \"Correcto\", \"Revisar Catálogo\"), \"\")","v":""}]
[null,null,null,null,null,null,null,null,null,null,null,null,null,null,null,null,null,null,null,{"$f":"IF(S810<>\"\",(IF(COUNTIFS('Base Maestra'!$A$42:$A$535,N810,'Base Maestra'!$B$42:$B$535,O810,'Base Maestra'!$C$42:$C$535,P810)>0,\"Correcto\",\"Revisar Catálogo\")),\"\")","v":""},{"$f":"IF(S810<>\"\", IF(COUNTIFS(\n     'Base Maestra'!$F$43:$F$54,H810,\n     'Base Maestra'!$G$43:$G$54,I810)>0, \"Correcto\", \"Revisar Catálogo\"), \"\")","v":""}]
[null,null,null,null,null,null,null,null,null,null,null,null,null,null,null,null,null,null,null,{"$f":"IF(S811<>\"\",(IF(COUNTIFS('Base Maestra'!$A$42:$A$535,N811,'Base Maestra'!$B$42:$B$535,O811,'Base Maestra'!$C$42:$C$535,P811)>0,\"Correcto\",\"Revisar Catálogo\")),\"\")","v":""},{"$f":"IF(S811<>\"\", IF(COUNTIFS(\n     'Base Maestra'!$F$43:$F$54,H811,\n     'Base Maestra'!$G$43:$G$54,I811)>0, \"Correcto\", \"Revisar Catálogo\"), \"\")","v":""}]
[null,null,null,null,null,null,null,null,null,null,null,null,null,null,null,null,null,null,null,{"$f":"IF(S812<>\"\",(IF(COUNTIFS('Base Maestra'!$A$42:$A$535,N812,'Base Maestra'!$B$42:$B$535,O812,'Base Maestra'!$C$42:$C$535,P812)>0,\"Correcto\",\"Revisar Catálogo\")),\"\")","v":""},{"$f":"IF(S812<>\"\", IF(COUNTIFS(\n     'Base Maestra'!$F$43:$F$54,H812,\n     'Base Maestra'!$G$43:$G$54,I812)>0, \"Correcto\", \"Revisar Catálogo\"), \"\")","v":""}]
[null,null,null,null,null,null,null,null,null,null,null,null,null,null,null,null,null,null,null,{"$f":"IF(S813<>\"\",(IF(COUNTIFS('Base Maestra'!$A$42:$A$535,N813,'Base Maestra'!$B$42:$B$535,O813,'Base Maestra'!$C$42:$C$535,P813)>0,\"Correcto\",\"Revisar Catálogo\")),\"\")","v":""},{"$f":"IF(S813<>\"\", IF(COUNTIFS(\n     'Base Maestra'!$F$43:$F$54,H813,\n     'Base Maestra'!$G$43:$G$54,I813)>0, \"Correcto\", \"Revisar Catálogo\"), \"\")","v":""}]
[null,null,null,null,null,null,null,null,null,null,null,null,null,null,null,null,null,null,null,{"$f":"IF(S814<>\"\",(IF(COUNTIFS('Base Maestra'!$A$42:$A$535,N814,'Base Maestra'!$B$42:$B$535,O814,'Base Maestra'!$C$42:$C$535,P814)>0,\"Correcto\",\"Revisar Catálogo\")),\"\")","v":""},{"$f":"IF(S814<>\"\", IF(COUNTIFS(\n     'Base Maestra'!$F$43:$F$54,H814,\n     'Base Maestra'!$G$43:$G$54,I814)>0, \"Correcto\", \"Revisar Catálogo\"), \"\")","v":""}]
[null,null,null,null,null,null,null,null,null,null,null,null,null,null,null,null,null,null,null,{"$f":"IF(S815<>\"\",(IF(COUNTIFS('Base Maestra'!$A$42:$A$535,N815,'Base Maestra'!$B$42:$B$535,O815,'Base Maestra'!$C$42:$C$535,P815)>0,\"Correcto\",\"Revisar Catálogo\")),\"\")","v":""},{"$f":"IF(S815<>\"\", IF(COUNTIFS(\n     'Base Maestra'!$F$43:$F$54,H815,\n     'Base Maestra'!$G$43:$G$54,I815)>0, \"Correcto\", \"Revisar Catálogo\"), \"\")","v":""}]
[null,null,null,null,null,null,null,null,null,null,null,null,null,null,null,null,null,null,null,{"$f":"IF(S816<>\"\",(IF(COUNTIFS('Base Maestra'!$A$42:$A$535,N816,'Base Maestra'!$B$42:$B$535,O816,'Base Maestra'!$C$42:$C$535,P816)>0,\"Correcto\",\"Revisar Catálogo\")),\"\")","v":""},{"$f":"IF(S816<>\"\", IF(COUNTIFS(\n     'Base Maestra'!$F$43:$F$54,H816,\n     'Base Maestra'!$G$43:$G$54,I816)>0, \"Correcto\", \"Revisar Catálogo\"), \"\")","v":""}]
[null,null,null,null,null,null,null,null,null,null,null,null,null,null,null,null,null,null,null,{"$f":"IF(S817<>\"\",(IF(COUNTIFS('Base Maestra'!$A$42:$A$535,N817,'Base Maestra'!$B$42:$B$535,O817,'Base Maestra'!$C$42:$C$535,P817)>0,\"Correcto\",\"Revisar Catálogo\")),\"\")","v":""},{"$f":"IF(S817<>\"\", IF(COUNTIFS(\n     'Base Maestra'!$F$43:$F$54,H817,\n     'Base Maestra'!$G$43:$G$54,I817)>0, \"Correcto\", \"Revisar Catálogo\"), \"\")","v":""}]
[null,null,null,null,null,null,null,null,null,null,null,null,null,null,null,null,null,null,null,{"$f":"IF(S818<>\"\",(IF(COUNTIFS('Base Maestra'!$A$42:$A$535,N818,'Base Maestra'!$B$42:$B$535,O818,'Base Maestra'!$C$42:$C$535,P818)>0,\"Correcto\",\"Revisar Catálogo\")),\"\")","v":""},{"$f":"IF(S818<>\"\", IF(COUNTIFS(\n     'Base Maestra'!$F$43:$F$54,H818,\n     'Base Maestra'!$G$43:$G$54,I818)>0, \"Correcto\", \"Revisar Catálogo\"), \"\")","v":""}]
[null,null,null,null,null,null,null,null,null,null,null,null,null,null,null,null,null,null,null,{"$f":"IF(S819<>\"\",(IF(COUNTIFS('Base Maestra'!$A$42:$A$535,N819,'Base Maestra'!$B$42:$B$535,O819,'Base Maestra'!$C$42:$C$535,P819)>0,\"Correcto\",\"Revisar Catálogo\")),\"\")","v":""},{"$f":"IF(S819<>\"\", IF(COUNTIFS(\n     'Base Maestra'!$F$43:$F$54,H819,\n     'Base Maestra'!$G$43:$G$54,I819)>0, \"Correcto\", \"Revisar Catálogo\"), \"\")","v":""}]
[null,null,null,null,null,null,null,null,null,null,null,null,null,null,null,null,null,null,null,{"$f":"IF(S820<>\"\",(IF(COUNTIFS('Base Maestra'!$A$42:$A$535,N820,'Base Maestra'!$B$42:$B$535,O820,'Base Maestra'!$C$42:$C$535,P820)>0,\"Correcto\",\"Revisar Catálogo\")),\"\")","v":""},{"$f":"IF(S820<>\"\", IF(COUNTIFS(\n     'Base Maestra'!$F$43:$F$54,H820,\n     'Base Maestra'!$G$43:$G$54,I820)>0, \"Correcto\", \"Revisar Catálogo\"), \"\")","v":""}]
[null,null,null,null,null,null,null,null,null,null,null,null,null,null,null,null,null,null,null,{"$f":"IF(S821<>\"\",(IF(COUNTIFS('Base Maestra'!$A$42:$A$535,N821,'Base Maestra'!$B$42:$B$535,O821,'Base Maestra'!$C$42:$C$535,P821)>0,\"Correcto\",\"Revisar Catálogo\")),\"\")","v":""},{"$f":"IF(S821<>\"\", IF(COUNTIFS(\n     'Base Maestra'!$F$43:$F$54,H821,\n     'Base Maestra'!$G$43:$G$54,I821)>0, \"Correcto\", \"Revisar Catálogo\"), \"\")","v":""}]
[null,null,null,null,null,null,null,null,null,null,null,null,null,null,null,null,null,null,null,{"$f":"IF(S822<>\"\",(IF(COUNTIFS('Base Maestra'!$A$42:$A$535,N822,'Base Maestra'!$B$42:$B$535,O822,'Base Maestra'!$C$42:$C$535,P822)>0,\"Correcto\",\"Revisar Catálogo\")),\"\")","v":""},{"$f":"IF(S822<>\"\", IF(COUNTIFS(\n     'Base Maestra'!$F$43:$F$54,H822,\n     'Base Maestra'!$G$43:$G$54,I822)>0, \"Correcto\", \"Revisar Catálogo\"), \"\")","v":""}]
[null,null,null,null,null,null,null,null,null,null,null,null,null,null,null,null,null,null,null,{"$f":"IF(S823<>\"\",(IF(COUNTIFS('Base Maestra'!$A$42:$A$535,N823,'Base Maestra'!$B$42:$B$535,O823,'Base Maestra'!$C$42:$C$535,P823)>0,\"Correcto\",\"Revisar Catálogo\")),\"\")","v":""},{"$f":"IF(S823<>\"\", IF(COUNTIFS(\n     'Base Maestra'!$F$43:$F$54,H823,\n     'Base Maestra'!$G$43:$G$54,I823)>0, \"Correcto\", \"Revisar Catálogo\"), \"\")","v":""}]
[null,null,null,null,null,null,null,null,null,null,null,null,null,null,null,null,null,null,null,{"$f":"IF(S824<>\"\",(IF(COUNTIFS('Base Maestra'!$A$42:$A$535,N824,'Base Maestra'!$B$42:$B$535,O824,'Base Maestra'!$C$42:$C$535,P824)>0,\"Correcto\",\"Revisar Catálogo\")),\"\")","v":""},{"$f":"IF(S824<>\"\", IF(COUNTIFS(\n     'Base Maestra'!$F$43:$F$54,H824,\n     'Base Maestra'!$G$43:$G$54,I824)>0, \"Correcto\", \"Revisar Catálogo\"), \"\")","v":""}]
[null,null,null,null,null,null,null,null,null,null,null,null,null,null,null,null,null,null,null,{"$f":"IF(S825<>\"\",(IF(COUNTIFS('Base Maestra'!$A$42:$A$535,N825,'Base Maestra'!$B$42:$B$535,O825,'Base Maestra'!$C$42:$C$535,P825)>0,\"Correcto\",\"Revisar Catálogo\")),\"\")","v":""},{"$f":"IF(S825<>\"\", IF(COUNTIFS(\n     'Base Maestra'!$F$43:$F$54,H825,\n     'Base Maestra'!$G$43:$G$54,I825)>0, \"Correcto\", \"Revisar Catálogo\"), \"\")","v":""}]
[null,null,null,null,null,null,null,null,null,null,null,null,null,null,null,null,null,null,null,{"$f":"IF(S826<>\"\",(IF(COUNTIFS('Base Maestra'!$A$42:$A$535,N826,'Base Maestra'!$B$42:$B$535,O826,'Base Maestra'!$C$42:$C$535,P826)>0,\"Correcto\",\"Revisar Catálogo\")),\"\")","v":""},{"$f":"IF(S826<>\"\", IF(COUNTIFS(\n     'Base Maestra'!$F$43:$F$54,H826,\n     'Base Maestra'!$G$43:$G$54,I826)>0, \"Correcto\", \"Revisar Catálogo\"), \"\")","v":""}]
[null,null,null,null,null,null,null,null,null,null,null,null,null,null,null,null,null,null,null,{"$f":"IF(S827<>\"\",(IF(COUNTIFS('Base Maestra'!$A$42:$A$535,N827,'Base Maestra'!$B$42:$B$535,O827,'Base Maestra'!$C$42:$C$535,P827)>0,\"Correcto\",\"Revisar Catálogo\")),\"\")","v":""},{"$f":"IF(S827<>\"\", IF(COUNTIFS(\n     'Base Maestra'!$F$43:$F$54,H827,\n     'Base Maestra'!$G$43:$G$54,I827)>0, \"Correcto\", \"Revisar Catálogo\"), \"\")","v":""}]
[null,null,null,null,null,null,null,null,null,null,null,null,null,null,null,null,null,null,null,{"$f":"IF(S828<>\"\",(IF(COUNTIFS('Base Maestra'!$A$42:$A$535,N828,'Base Maestra'!$B$42:$B$535,O828,'Base Maestra'!$C$42:$C$535,P828)>0,\"Correcto\",\"Revisar Catálogo\")),\"\")","v":""},{"$f":"IF(S828<>\"\", IF(COUNTIFS(\n     'Base Maestra'!$F$43:$F$54,H828,\n     'Base Maestra'!$G$43:$G$54,I828)>0, \"Correcto\", \"Revisar Catálogo\"), \"\")","v":""}]
[null,null,null,null,null,null,null,null,null,null,null,null,null,null,null,null,null,null,null,{"$f":"IF(S829<>\"\",(IF(COUNTIFS('Base Maestra'!$A$42:$A$535,N829,'Base Maestra'!$B$42:$B$535,O829,'Base Maestra'!$C$42:$C$535,P829)>0,\"Correcto\",\"Revisar Catálogo\")),\"\")","v":""},{"$f":"IF(S829<>\"\", IF(COUNTIFS(\n     'Base Maestra'!$F$43:$F$54,H829,\n     'Base Maestra'!$G$43:$G$54,I829)>0, \"Correcto\", \"Revisar Catálogo\"), \"\")","v":""}]
[null,null,null,null,null,null,null,null,null,null,null,null,null,null,null,null,null,null,null,{"$f":"IF(S830<>\"\",(IF(COUNTIFS('Base Maestra'!$A$42:$A$535,N830,'Base Maestra'!$B$42:$B$535,O830,'Base Maestra'!$C$42:$C$535,P830)>0,\"Correcto\",\"Revisar Catálogo\")),\"\")","v":""},{"$f":"IF(S830<>\"\", IF(COUNTIFS(\n     'Base Maestra'!$F$43:$F$54,H830,\n     'Base Maestra'!$G$43:$G$54,I830)>0, \"Correcto\", \"Revisar Catálogo\"), \"\")","v":""}]
[null,null,null,null,null,null,null,null,null,null,null,null,null,null,null,null,null,null,null,{"$f":"IF(S831<>\"\",(IF(COUNTIFS('Base Maestra'!$A$42:$A$535,N831,'Base Maestra'!$B$42:$B$535,O831,'Base Maestra'!$C$42:$C$535,P831)>0,\"Correcto\",\"Revisar Catálogo\")),\"\")","v":""},{"$f":"IF(S831<>\"\", IF(COUNTIFS(\n     'Base Maestra'!$F$43:$F$54,H831,\n     'Base Maestra'!$G$43:$G$54,I831)>0, \"Correcto\", \"Revisar Catálogo\"), \"\")","v":""}]
[null,null,null,null,null,null,null,null,null,null,null,null,null,null,null,null,null,null,null,{"$f":"IF(S832<>\"\",(IF(COUNTIFS('Base Maestra'!$A$42:$A$535,N832,'Base Maestra'!$B$42:$B$535,O832,'Base Maestra'!$C$42:$C$535,P832)>0,\"Correcto\",\"Revisar Catálogo\")),\"\")","v":""},{"$f":"IF(S832<>\"\", IF(COUNTIFS(\n     'Base Maestra'!$F$43:$F$54,H832,\n     'Base Maestra'!$G$43:$G$54,I832)>0, \"Correcto\", \"Revisar Catálogo\"), \"\")","v":""}]
[null,null,null,null,null,null,null,null,null,null,null,null,null,null,null,null,null,null,null,{"$f":"IF(S833<>\"\",(IF(COUNTIFS('Base Maestra'!$A$42:$A$535,N833,'Base Maestra'!$B$42:$B$535,O833,'Base Maestra'!$C$42:$C$535,P833)>0,\"Correcto\",\"Revisar Catálogo\")),\"\")","v":""},{"$f":"IF(S833<>\"\", IF(COUNTIFS(\n     'Base Maestra'!$F$43:$F$54,H833,\n     'Base Maestra'!$G$43:$G$54,I833)>0, \"Correcto\", \"Revisar Catálogo\"), \"\")","v":""}]
[null,null,null,null,null,null,null,null,null,null,null,null,null,null,null,null,null,null,null,{"$f":"IF(S834<>\"\",(IF(COUNTIFS('Base Maestra'!$A$42:$A$535,N834,'Base Maestra'!$B$42:$B$535,O834,'Base Maestra'!$C$42:$C$535,P834)>0,\"Correcto\",\"Revisar Catálogo\")),\"\")","v":""},{"$f":"IF(S834<>\"\", IF(COUNTIFS(\n     'Base Maestra'!$F$43:$F$54,H834,\n     'Base Maestra'!$G$43:$G$54,I834)>0, \"Correcto\", \"Revisar Catálogo\"), \"\")","v":""}]
[null,null,null,null,null,null,null,null,null,null,null,null,null,null,null,null,null,null,null,{"$f":"IF(S835<>\"\",(IF(COUNTIFS('Base Maestra'!$A$42:$A$535,N835,'Base Maestra'!$B$42:$B$535,O835,'Base Maestra'!$C$42:$C$535,P835)>0,\"Correcto\",\"Revisar Catálogo\")),\"\")","v":""},{"$f":"IF(S835<>\"\", IF(COUNTIFS(\n     'Base Maestra'!$F$43:$F$54,H835,\n     'Base Maestra'!$G$43:$G$54,I835)>0, \"Correcto\", \"Revisar Catálogo\"), \"\")","v":""}]
[null,null,null,null,null,null,null,null,null,null,null,null,null,null,null,null,null,null,null,{"$f":"IF(S836<>\"\",(IF(COUNTIFS('Base Maestra'!$A$42:$A$535,N836,'Base Maestra'!$B$42:$B$535,O836,'Base Maestra'!$C$42:$C$535,P836)>0,\"Correcto\",\"Revisar Catálogo\")),\"\")","v":""},{"$f":"IF(S836<>\"\", IF(COUNTIFS(\n     'Base Maestra'!$F$43:$F$54,H836,\n     'Base Maestra'!$G$43:$G$54,I836)>0, \"Correcto\", \"Revisar Catálogo\"), \"\")","v":""}]
[null,null,null,null,null,null,null,null,null,null,null,null,null,null,null,null,null,null,null,{"$f":"IF(S837<>\"\",(IF(COUNTIFS('Base Maestra'!$A$42:$A$535,N837,'Base Maestra'!$B$42:$B$535,O837,'Base Maestra'!$C$42:$C$535,P837)>0,\"Correcto\",\"Revisar Catálogo\")),\"\")","v":""},{"$f":"IF(S837<>\"\", IF(COUNTIFS(\n     'Base Maestra'!$F$43:$F$54,H837,\n     'Base Maestra'!$G$43:$G$54,I837)>0, \"Correcto\", \"Revisar Catálogo\"), \"\")","v":""}]
[null,null,null,null,null,null,null,null,null,null,null,null,null,null,null,null,null,null,null,{"$f":"IF(S838<>\"\",(IF(COUNTIFS('Base Maestra'!$A$42:$A$535,N838,'Base Maestra'!$B$42:$B$535,O838,'Base Maestra'!$C$42:$C$535,P838)>0,\"Correcto\",\"Revisar Catálogo\")),\"\")","v":""},{"$f":"IF(S838<>\"\", IF(COUNTIFS(\n     'Base Maestra'!$F$43:$F$54,H838,\n     'Base Maestra'!$G$43:$G$54,I838)>0, \"Correcto\", \"Revisar Catálogo\"), \"\")","v":""}]
[null,null,null,null,null,null,null,null,null,null,null,null,null,null,null,null,null,null,null,{"$f":"IF(S839<>\"\",(IF(COUNTIFS('Base Maestra'!$A$42:$A$535,N839,'Base Maestra'!$B$42:$B$535,O839,'Base Maestra'!$C$42:$C$535,P839)>0,\"Correcto\",\"Revisar Catálogo\")),\"\")","v":""},{"$f":"IF(S839<>\"\", IF(COUNTIFS(\n     'Base Maestra'!$F$43:$F$54,H839,\n     'Base Maestra'!$G$43:$G$54,I839)>0, \"Correcto\", \"Revisar Catálogo\"), \"\")","v":""}]
[null,null,null,null,null,null,null,null,null,null,null,null,null,null,null,null,null,null,null,{"$f":"IF(S840<>\"\",(IF(COUNTIFS('Base Maestra'!$A$42:$A$535,N840,'Base Maestra'!$B$42:$B$535,O840,'Base Maestra'!$C$42:$C$535,P840)>0,\"Correcto\",\"Revisar Catálogo\")),\"\")","v":""},{"$f":"IF(S840<>\"\", IF(COUNTIFS(\n     'Base Maestra'!$F$43:$F$54,H840,\n     'Base Maestra'!$G$43:$G$54,I840)>0, \"Correcto\", \"Revisar Catálogo\"), \"\")","v":""}]
[null,null,null,null,null,null,null,null,null,null,null,null,null,null,null,null,null,null,null,{"$f":"IF(S841<>\"\",(IF(COUNTIFS('Base Maestra'!$A$42:$A$535,N841,'Base Maestra'!$B$42:$B$535,O841,'Base Maestra'!$C$42:$C$535,P841)>0,\"Correcto\",\"Revisar Catálogo\")),\"\")","v":""},{"$f":"IF(S841<>\"\", IF(COUNTIFS(\n     'Base Maestra'!$F$43:$F$54,H841,\n     'Base Maestra'!$G$43:$G$54,I841)>0, \"Correcto\", \"Revisar Catálogo\"), \"\")","v":""}]
[null,null,null,null,null,null,null,null,null,null,null,null,null,null,null,null,null,null,null,{"$f":"IF(S842<>\"\",(IF(COUNTIFS('Base Maestra'!$A$42:$A$535,N842,'Base Maestra'!$B$42:$B$535,O842,'Base Maestra'!$C$42:$C$535,P842)>0,\"Correcto\",\"Revisar Catálogo\")),\"\")","v":""},{"$f":"IF(S842<>\"\", IF(COUNTIFS(\n     'Base Maestra'!$F$43:$F$54,H842,\n     'Base Maestra'!$G$43:$G$54,I842)>0, \"Correcto\", \"Revisar Catálogo\"), \"\")","v":""}]
[null,null,null,null,null,null,null,null,null,null,null,null,null,null,null,null,null,null,null,{"$f":"IF(S843<>\"\",(IF(COUNTIFS('Base Maestra'!$A$42:$A$535,N843,'Base Maestra'!$B$42:$B$535,O843,'Base Maestra'!$C$42:$C$535,P843)>0,\"Correcto\",\"Revisar Catálogo\")),\"\")","v":""},{"$f":"IF(S843<>\"\", IF(COUNTIFS(\n     'Base Maestra'!$F$43:$F$54,H843,\n     'Base Maestra'!$G$43:$G$54,I843)>0, \"Correcto\", \"Revisar Catálogo\"), \"\")","v":""}]
[null,null,null,null,null,null,null,null,null,null,null,null,null,null,null,null,null,null,null,{"$f":"IF(S844<>\"\",(IF(COUNTIFS('Base Maestra'!$A$42:$A$535,N844,'Base Maestra'!$B$42:$B$535,O844,'Base Maestra'!$C$42:$C$535,P844)>0,\"Correcto\",\"Revisar Catálogo\")),\"\")","v":""},{"$f":"IF(S844<>\"\", IF(COUNTIFS(\n     'Base Maestra'!$F$43:$F$54,H844,\n     'Base Maestra'!$G$43:$G$54,I844)>0, \"Correcto\", \"Revisar Catálogo\"), \"\")","v":""}]
[null,null,null,null,null,null,null,null,null,null,null,null,null,null,null,null,null,null,null,{"$f":"IF(S845<>\"\",(IF(COUNTIFS('Base Maestra'!$A$42:$A$535,N845,'Base Maestra'!$B$42:$B$535,O845,'Base Maestra'!$C$42:$C$535,P845)>0,\"Correcto\",\"Revisar Catálogo\")),\"\")","v":""},{"$f":"IF(S845<>\"\", IF(COUNTIFS(\n     'Base Maestra'!$F$43:$F$54,H845,\n     'Base Maestra'!$G$43:$G$54,I845)>0, \"Correcto\", \"Revisar Catálogo\"), \"\")","v":""}]
[null,null,null,null,null,null,null,null,null,null,null,null,null,null,null,null,null,null,null,{"$f":"IF(S846<>\"\",(IF(COUNTIFS('Base Maestra'!$A$42:$A$535,N846,'Base Maestra'!$B$42:$B$535,O846,'Base Maestra'!$C$42:$C$535,P846)>0,\"Correcto\",\"Revisar Catálogo\")),\"\")","v":""},{"$f":"IF(S846<>\"\", IF(COUNTIFS(\n     'Base Maestra'!$F$43:$F$54,H846,\n     'Base Maestra'!$G$43:$G$54,I846)>0, \"Correcto\", \"Revisar Catálogo\"), \"\")","v":""}]
[null,null,null,null,null,null,null,null,null,null,null,null,null,null,null,null,null,null,null,{"$f":"IF(S847<>\"\",(IF(COUNTIFS('Base Maestra'!$A$42:$A$535,N847,'Base Maestra'!$B$42:$B$535,O847,'Base Maestra'!$C$42:$C$535,P847)>0,\"Correcto\",\"Revisar Catálogo\")),\"\")","v":""},{"$f":"IF(S847<>\"\", IF(COUNTIFS(\n     'Base Maestra'!$F$43:$F$54,H847,\n     'Base Maestra'!$G$43:$G$54,I847)>0, \"Correcto\", \"Revisar Catálogo\"), \"\")","v":""}]
[null,null,null,null,null,null,null,null,null,null,null,null,null,null,null,null,null,null,null,{"$f":"IF(S848<>\"\",(IF(COUNTIFS('Base Maestra'!$A$42:$A$535,N848,'Base Maestra'!$B$42:$B$535,O848,'Base Maestra'!$C$42:$C$535,P848)>0,\"Correcto\",\"Revisar Catálogo\")),\"\")","v":""},{"$f":"IF(S848<>\"\", IF(COUNTIFS(\n     'Base Maestra'!$F$43:$F$54,H848,\n     'Base Maestra'!$G$43:$G$54,I848)>0, \"Correcto\", \"Revisar Catálogo\"), \"\")","v":""}]
[null,null,null,null,null,null,null,null,null,null,null,null,null,null,null,null,null,null,null,{"$f":"IF(S849<>\"\",(IF(COUNTIFS('Base Maestra'!$A$42:$A$535,N849,'Base Maestra'!$B$42:$B$535,O849,'Base Maestra'!$C$42:$C$535,P849)>0,\"Correcto\",\"Revisar Catálogo\")),\"\")","v":""},{"$f":"IF(S849<>\"\", IF(COUNTIFS(\n     'Base Maestra'!$F$43:$F$54,H849,\n     'Base Maestra'!$G$43:$G$54,I849)>0, \"Correcto\", \"Revisar Catálogo\"), \"\")","v":""}]
[null,null,null,null,null,null,null,null,null,null,null,null,null,null,null,null,null,null,null,{"$f":"IF(S850<>\"\",(IF(COUNTIFS('Base Maestra'!$A$42:$A$535,N850,'Base Maestra'!$B$42:$B$535,O850,'Base Maestra'!$C$42:$C$535,P850)>0,\"Correcto\",\"Revisar Catálogo\")),\"\")","v":""},{"$f":"IF(S850<>\"\", IF(COUNTIFS(\n     'Base Maestra'!$F$43:$F$54,H850,\n     'Base Maestra'!$G$43:$G$54,I850)>0, \"Correcto\", \"Revisar Catálogo\"), \"\")","v":""}]
[null,null,null,null,null,null,null,null,null,null,null,null,null,null,null,null,null,null,null,{"$f":"IF(S851<>\"\",(IF(COUNTIFS('Base Maestra'!$A$42:$A$535,N851,'Base Maestra'!$B$42:$B$535,O851,'Base Maestra'!$C$42:$C$535,P851)>0,\"Correcto\",\"Revisar Catálogo\")),\"\")","v":""},{"$f":"IF(S851<>\"\", IF(COUNTIFS(\n     'Base Maestra'!$F$43:$F$54,H851,\n     'Base Maestra'!$G$43:$G$54,I851)>0, \"Correcto\", \"Revisar Catálogo\"), \"\")","v":""}]
[null,null,null,null,null,null,null,null,null,null,null,null,null,null,null,null,null,null,null,{"$f":"IF(S852<>\"\",(IF(COUNTIFS('Base Maestra'!$A$42:$A$535,N852,'Base Maestra'!$B$42:$B$535,O852,'Base Maestra'!$C$42:$C$535,P852)>0,\"Correcto\",\"Revisar Catálogo\")),\"\")","v":""},{"$f":"IF(S852<>\"\", IF(COUNTIFS(\n     'Base Maestra'!$F$43:$F$54,H852,\n     'Base Maestra'!$G$43:$G$54,I852)>0, \"Correcto\", \"Revisar Catálogo\"), \"\")","v":""}]
[null,null,null,null,null,null,null,null,null,null,null,null,null,null,null,null,null,null,null,{"$f":"IF(S853<>\"\",(IF(COUNTIFS('Base Maestra'!$A$42:$A$535,N853,'Base Maestra'!$B$42:$B$535,O853,'Base Maestra'!$C$42:$C$535,P853)>0,\"Correcto\",\"Revisar Catálogo\")),\"\")","v":""},{"$f":"IF(S853<>\"\", IF(COUNTIFS(\n     'Base Maestra'!$F$43:$F$54,H853,\n     'Base Maestra'!$G$43:$G$54,I853)>0, \"Correcto\", \"Revisar Catálogo\"), \"\")","v":""}]
[null,null,null,null,null,null,null,null,null,null,null,null,null,null,null,null,null,null,null,{"$f":"IF(S854<>\"\",(IF(COUNTIFS('Base Maestra'!$A$42:$A$535,N854,'Base Maestra'!$B$42:$B$535,O854,'Base Maestra'!$C$42:$C$535,P854)>0,\"Correcto\",\"Revisar Catálogo\")),\"\")","v":""},{"$f":"IF(S854<>\"\", IF(COUNTIFS(\n     'Base Maestra'!$F$43:$F$54,H854,\n     'Base Maestra'!$G$43:$G$54,I854)>0, \"Correcto\", \"Revisar Catálogo\"), \"\")","v":""}]
[null,null,null,null,null,null,null,null,null,null,null,null,null,null,null,null,null,null,null,{"$f":"IF(S855<>\"\",(IF(COUNTIFS('Base Maestra'!$A$42:$A$535,N855,'Base Maestra'!$B$42:$B$535,O855,'Base Maestra'!$C$42:$C$535,P855)>0,\"Correcto\",\"Revisar Catálogo\")),\"\")","v":""},{"$f":"IF(S855<>\"\", IF(COUNTIFS(\n     'Base Maestra'!$F$43:$F$54,H855,\n     'Base Maestra'!$G$43:$G$54,I855)>0, \"Correcto\", \"Revisar Catálogo\"), \"\")","v":""}]
[null,null,null,null,null,null,null,null,null,null,null,null,null,null,null,null,null,null,null,{"$f":"IF(S856<>\"\",(IF(COUNTIFS('Base Maestra'!$A$42:$A$535,N856,'Base Maestra'!$B$42:$B$535,O856,'Base Maestra'!$C$42:$C$535,P856)>0,\"Correcto\",\"Revisar Catálogo\")),\"\")","v":""},{"$f":"IF(S856<>\"\", IF(COUNTIFS(\n     'Base Maestra'!$F$43:$F$54,H856,\n     'Base Maestra'!$G$43:$G$54,I856)>0, \"Correcto\", \"Revisar Catálogo\"), \"\")","v":""}]
[null,null,null,null,null,null,null,null,null,null,null,null,null,null,null,null,null,null,null,{"$f":"IF(S857<>\"\",(IF(COUNTIFS('Base Maestra'!$A$42:$A$535,N857,'Base Maestra'!$B$42:$B$535,O857,'Base Maestra'!$C$42:$C$535,P857)>0,\"Correcto\",\"Revisar Catálogo\")),\"\")","v":""},{"$f":"IF(S857<>\"\", IF(COUNTIFS(\n     'Base Maestra'!$F$43:$F$54,H857,\n     'Base Maestra'!$G$43:$G$54,I857)>0, \"Correcto\", \"Revisar Catálogo\"), \"\")","v":""}]
[null,null,null,null,null,null,null,null,null,null,null,null,null,null,null,null,null,null,null,{"$f":"IF(S858<>\"\",(IF(COUNTIFS('Base Maestra'!$A$42:$A$535,N858,'Base Maestra'!$B$42:$B$535,O858,'Base Maestra'!$C$42:$C$535,P858)>0,\"Correcto\",\"Revisar Catálogo\")),\"\")","v":""},{"$f":"IF(S858<>\"\", IF(COUNTIFS(\n     'Base Maestra'!$F$43:$F$54,H858,\n     'Base Maestra'!$G$43:$G$54,I858)>0, \"Correcto\", \"Revisar Catálogo\"), \"\")","v":""}]
[null,null,null,null,null,null,null,null,null,null,null,null,null,null,null,null,null,null,null,{"$f":"IF(S859<>\"\",(IF(COUNTIFS('Base Maestra'!$A$42:$A$535,N859,'Base Maestra'!$B$42:$B$535,O859,'Base Maestra'!$C$42:$C$535,P859)>0,\"Correcto\",\"Revisar Catálogo\")),\"\")","v":""},{"$f":"IF(S859<>\"\", IF(COUNTIFS(\n     'Base Maestra'!$F$43:$F$54,H859,\n     'Base Maestra'!$G$43:$G$54,I859)>0, \"Correcto\", \"Revisar Catálogo\"), \"\")","v":""}]
[null,null,null,null,null,null,null,null,null,null,null,null,null,null,null,null,null,null,null,{"$f":"IF(S860<>\"\",(IF(COUNTIFS('Base Maestra'!$A$42:$A$535,N860,'Base Maestra'!$B$42:$B$535,O860,'Base Maestra'!$C$42:$C$535,P860)>0,\"Correcto\",\"Revisar Catálogo\")),\"\")","v":""},{"$f":"IF(S860<>\"\", IF(COUNTIFS(\n     'Base Maestra'!$F$43:$F$54,H860,\n     'Base Maestra'!$G$43:$G$54,I860)>0, \"Correcto\", \"Revisar Catálogo\"), \"\")","v":""}]
[null,null,null,null,null,null,null,null,null,null,null,null,null,null,null,null,null,null,null,{"$f":"IF(S861<>\"\",(IF(COUNTIFS('Base Maestra'!$A$42:$A$535,N861,'Base Maestra'!$B$42:$B$535,O861,'Base Maestra'!$C$42:$C$535,P861)>0,\"Correcto\",\"Revisar Catálogo\")),\"\")","v":""},{"$f":"IF(S861<>\"\", IF(COUNTIFS(\n     'Base Maestra'!$F$43:$F$54,H861,\n     'Base Maestra'!$G$43:$G$54,I861)>0, \"Correcto\", \"Revisar Catálogo\"), \"\")","v":""}]
[null,null,null,null,null,null,null,null,null,null,null,null,null,null,null,null,null,null,null,{"$f":"IF(S862<>\"\",(IF(COUNTIFS('Base Maestra'!$A$42:$A$535,N862,'Base Maestra'!$B$42:$B$535,O862,'Base Maestra'!$C$42:$C$535,P862)>0,\"Correcto\",\"Revisar Catálogo\")),\"\")","v":""},{"$f":"IF(S862<>\"\", IF(COUNTIFS(\n     'Base Maestra'!$F$43:$F$54,H862,\n     'Base Maestra'!$G$43:$G$54,I862)>0, \"Correcto\", \"Revisar Catálogo\"), \"\")","v":""}]
[null,null,null,null,null,null,null,null,null,null,null,null,null,null,null,null,null,null,null,{"$f":"IF(S863<>\"\",(IF(COUNTIFS('Base Maestra'!$A$42:$A$535,N863,'Base Maestra'!$B$42:$B$535,O863,'Base Maestra'!$C$42:$C$535,P863)>0,\"Correcto\",\"Revisar Catálogo\")),\"\")","v":""},{"$f":"IF(S863<>\"\", IF(COUNTIFS(\n     'Base Maestra'!$F$43:$F$54,H863,\n     'Base Maestra'!$G$43:$G$54,I863)>0, \"Correcto\", \"Revisar Catálogo\"), \"\")","v":""}]
[null,null,null,null,null,null,null,null,null,null,null,null,null,null,null,null,null,null,null,{"$f":"IF(S864<>\"\",(IF(COUNTIFS('Base Maestra'!$A$42:$A$535,N864,'Base Maestra'!$B$42:$B$535,O864,'Base Maestra'!$C$42:$C$535,P864)>0,\"Correcto\",\"Revisar Catálogo\")),\"\")","v":""},{"$f":"IF(S864<>\"\", IF(COUNTIFS(\n     'Base Maestra'!$F$43:$F$54,H864,\n     'Base Maestra'!$G$43:$G$54,I864)>0, \"Correcto\", \"Revisar Catálogo\"), \"\")","v":""}]
[null,null,null,null,null,null,null,null,null,null,null,null,null,null,null,null,null,null,null,{"$f":"IF(S865<>\"\",(IF(COUNTIFS('Base Maestra'!$A$42:$A$535,N865,'Base Maestra'!$B$42:$B$535,O865,'Base Maestra'!$C$42:$C$535,P865)>0,\"Correcto\",\"Revisar Catálogo\")),\"\")","v":""},{"$f":"IF(S865<>\"\", IF(COUNTIFS(\n     'Base Maestra'!$F$43:$F$54,H865,\n     'Base Maestra'!$G$43:$G$54,I865)>0, \"Correcto\", \"Revisar Catálogo\"), \"\")","v":""}]
[null,null,null,null,null,null,null,null,null,null,null,null,null,null,null,null,null,null,null,{"$f":"IF(S866<>\"\",(IF(COUNTIFS('Base Maestra'!$A$42:$A$535,N866,'Base Maestra'!$B$42:$B$535,O866,'Base Maestra'!$C$42:$C$535,P866)>0,\"Correcto\",\"Revisar Catálogo\")),\"\")","v":""},{"$f":"IF(S866<>\"\", IF(COUNTIFS(\n     'Base Maestra'!$F$43:$F$54,H866,\n     'Base Maestra'!$G$43:$G$54,I866)>0, \"Correcto\", \"Revisar Catálogo\"), \"\")","v":""}]
[null,null,null,null,null,null,null,null,null,null,null,null,null,null,null,null,null,null,null,{"$f":"IF(S867<>\"\",(IF(COUNTIFS('Base Maestra'!$A$42:$A$535,N867,'Base Maestra'!$B$42:$B$535,O867,'Base Maestra'!$C$42:$C$535,P867)>0,\"Correcto\",\"Revisar Catálogo\")),\"\")","v":""},{"$f":"IF(S867<>\"\", IF(COUNTIFS(\n     'Base Maestra'!$F$43:$F$54,H867,\n     'Base Maestra'!$G$43:$G$54,I867)>0, \"Correcto\", \"Revisar Catálogo\"), \"\")","v":""}]
[null,null,null,null,null,null,null,null,null,null,null,null,null,null,null,null,null,null,null,{"$f":"IF(S868<>\"\",(IF(COUNTIFS('Base Maestra'!$A$42:$A$535,N868,'Base Maestra'!$B$42:$B$535,O868,'Base Maestra'!$C$42:$C$535,P868)>0,\"Correcto\",\"Revisar Catálogo\")),\"\")","v":""},{"$f":"IF(S868<>\"\", IF(COUNTIFS(\n     'Base Maestra'!$F$43:$F$54,H868,\n     'Base Maestra'!$G$43:$G$54,I868)>0, \"Correcto\", \"Revisar Catálogo\"), \"\")","v":""}]
[null,null,null,null,null,null,null,null,null,null,null,null,null,null,null,null,null,null,null,{"$f":"IF(S869<>\"\",(IF(COUNTIFS('Base Maestra'!$A$42:$A$535,N869,'Base Maestra'!$B$42:$B$535,O869,'Base Maestra'!$C$42:$C$535,P869)>0,\"Correcto\",\"Revisar Catálogo\")),\"\")","v":""},{"$f":"IF(S869<>\"\", IF(COUNTIFS(\n     'Base Maestra'!$F$43:$F$54,H869,\n     'Base Maestra'!$G$43:$G$54,I869)>0, \"Correcto\", \"Revisar Catálogo\"), \"\")","v":""}]
[null,null,null,null,null,null,null,null,null,null,null,null,null,null,null,null,null,null,null,{"$f":"IF(S870<>\"\",(IF(COUNTIFS('Base Maestra'!$A$42:$A$535,N870,'Base Maestra'!$B$42:$B$535,O870,'Base Maestra'!$C$42:$C$535,P870)>0,\"Correcto\",\"Revisar Catálogo\")),\"\")","v":""},{"$f":"IF(S870<>\"\", IF(COUNTIFS(\n     'Base Maestra'!$F$43:$F$54,H870,\n     'Base Maestra'!$G$43:$G$54,I870)>0, \"Correcto\", \"Revisar Catálogo\"), \"\")","v":""}]
[null,null,null,null,null,null,null,null,null,null,null,null,null,null,null,null,null,null,null,{"$f":"IF(S871<>\"\",(IF(COUNTIFS('Base Maestra'!$A$42:$A$535,N871,'Base Maestra'!$B$42:$B$535,O871,'Base Maestra'!$C$42:$C$535,P871)>0,\"Correcto\",\"Revisar Catálogo\")),\"\")","v":""},{"$f":"IF(S871<>\"\", IF(COUNTIFS(\n     'Base Maestra'!$F$43:$F$54,H871,\n     'Base Maestra'!$G$43:$G$54,I871)>0, \"Correcto\", \"Revisar Catálogo\"), \"\")","v":""}]
[null,null,null,null,null,null,null,null,null,null,null,null,null,null,null,null,null,null,null,{"$f":"IF(S872<>\"\",(IF(COUNTIFS('Base Maestra'!$A$42:$A$535,N872,'Base Maestra'!$B$42:$B$535,O872,'Base Maestra'!$C$42:$C$535,P872)>0,\"Correcto\",\"Revisar Catálogo\")),\"\")","v":""},{"$f":"IF(S872<>\"\", IF(COUNTIFS(\n     'Base Maestra'!$F$43:$F$54,H872,\n     'Base Maestra'!$G$43:$G$54,I872)>0, \"Correcto\", \"Revisar Catálogo\"), \"\")","v":""}]
[null,null,null,null,null,null,null,null,null,null,null,null,null,null,null,null,null,null,null,{"$f":"IF(S873<>\"\",(IF(COUNTIFS('Base Maestra'!$A$42:$A$535,N873,'Base Maestra'!$B$42:$B$535,O873,'Base Maestra'!$C$42:$C$535,P873)>0,\"Correcto\",\"Revisar Catálogo\")),\"\")","v":""},{"$f":"IF(S873<>\"\", IF(COUNTIFS(\n     'Base Maestra'!$F$43:$F$54,H873,\n     'Base Maestra'!$G$43:$G$54,I873)>0, \"Correcto\", \"Revisar Catálogo\"), \"\")","v":""}]
[null,null,null,null,null,null,null,null,null,null,null,null,null,null,null,null,null,null,null,{"$f":"IF(S874<>\"\",(IF(COUNTIFS('Base Maestra'!$A$42:$A$535,N874,'Base Maestra'!$B$42:$B$535,O874,'Base Maestra'!$C$42:$C$535,P874)>0,\"Correcto\",\"Revisar Catálogo\")),\"\")","v":""},{"$f":"IF(S874<>\"\", IF(COUNTIFS(\n     'Base Maestra'!$F$43:$F$54,H874,\n     'Base Maestra'!$G$43:$G$54,I874)>0, \"Correcto\", \"Revisar Catálogo\"), \"\")","v":""}]
[null,null,null,null,null,null,null,null,null,null,null,null,null,null,null,null,null,null,null,{"$f":"IF(S875<>\"\",(IF(COUNTIFS('Base Maestra'!$A$42:$A$535,N875,'Base Maestra'!$B$42:$B$535,O875,'Base Maestra'!$C$42:$C$535,P875)>0,\"Correcto\",\"Revisar Catálogo\")),\"\")","v":""},{"$f":"IF(S875<>\"\", IF(COUNTIFS(\n     'Base Maestra'!$F$43:$F$54,H875,\n     'Base Maestra'!$G$43:$G$54,I875)>0, \"Correcto\", \"Revisar Catálogo\"), \"\")","v":""}]
[null,null,null,null,null,null,null,null,null,null,null,null,null,null,null,null,null,null,null,{"$f":"IF(S876<>\"\",(IF(COUNTIFS('Base Maestra'!$A$42:$A$535,N876,'Base Maestra'!$B$42:$B$535,O876,'Base Maestra'!$C$42:$C$535,P876)>0,\"Correcto\",\"Revisar Catálogo\")),\"\")","v":""},{"$f":"IF(S876<>\"\", IF(COUNTIFS(\n     'Base Maestra'!$F$43:$F$54,H876,\n     'Base Maestra'!$G$43:$G$54,I876)>0, \"Correcto\", \"Revisar Catálogo\"), \"\")","v":""}]
[null,null,null,null,null,null,null,null,null,null,null,null,null,null,null,null,null,null,null,{"$f":"IF(S877<>\"\",(IF(COUNTIFS('Base Maestra'!$A$42:$A$535,N877,'Base Maestra'!$B$42:$B$535,O877,'Base Maestra'!$C$42:$C$535,P877)>0,\"Correcto\",\"Revisar Catálogo\")),\"\")","v":""},{"$f":"IF(S877<>\"\", IF(COUNTIFS(\n     'Base Maestra'!$F$43:$F$54,H877,\n     'Base Maestra'!$G$43:$G$54,I877)>0, \"Correcto\", \"Revisar Catálogo\"), \"\")","v":""}]
[null,null,null,null,null,null,null,null,null,null,null,null,null,null,null,null,null,null,null,{"$f":"IF(S878<>\"\",(IF(COUNTIFS('Base Maestra'!$A$42:$A$535,N878,'Base Maestra'!$B$42:$B$535,O878,'Base Maestra'!$C$42:$C$535,P878)>0,\"Correcto\",\"Revisar Catálogo\")),\"\")","v":""},{"$f":"IF(S878<>\"\", IF(COUNTIFS(\n     'Base Maestra'!$F$43:$F$54,H878,\n     'Base Maestra'!$G$43:$G$54,I878)>0, \"Correcto\", \"Revisar Catálogo\"), \"\")","v":""}]
[null,null,null,null,null,null,null,null,null,null,null,null,null,null,null,null,null,null,null,{"$f":"IF(S879<>\"\",(IF(COUNTIFS('Base Maestra'!$A$42:$A$535,N879,'Base Maestra'!$B$42:$B$535,O879,'Base Maestra'!$C$42:$C$535,P879)>0,\"Correcto\",\"Revisar Catálogo\")),\"\")","v":""},{"$f":"IF(S879<>\"\", IF(COUNTIFS(\n     'Base Maestra'!$F$43:$F$54,H879,\n     'Base Maestra'!$G$43:$G$54,I879)>0, \"Correcto\", \"Revisar Catálogo\"), \"\")","v":""}]
[null,null,null,null,null,null,null,null,null,null,null,null,null,null,null,null,null,null,null,{"$f":"IF(S880<>\"\",(IF(COUNTIFS('Base Maestra'!$A$42:$A$535,N880,'Base Maestra'!$B$42:$B$535,O880,'Base Maestra'!$C$42:$C$535,P880)>0,\"Correcto\",\"Revisar Catálogo\")),\"\")","v":""},{"$f":"IF(S880<>\"\", IF(COUNTIFS(\n     'Base Maestra'!$F$43:$F$54,H880,\n     'Base Maestra'!$G$43:$G$54,I880)>0, \"Correcto\", \"Revisar Catálogo\"), \"\")","v":""}]
[null,null,null,null,null,null,null,null,null,null,null,null,null,null,null,null,null,null,null,{"$f":"IF(S881<>\"\",(IF(COUNTIFS('Base Maestra'!$A$42:$A$535,N881,'Base Maestra'!$B$42:$B$535,O881,'Base Maestra'!$C$42:$C$535,P881)>0,\"Correcto\",\"Revisar Catálogo\")),\"\")","v":""},{"$f":"IF(S881<>\"\", IF(COUNTIFS(\n     'Base Maestra'!$F$43:$F$54,H881,\n     'Base Maestra'!$G$43:$G$54,I881)>0, \"Correcto\", \"Revisar Catálogo\"), \"\")","v":""}]
[null,null,null,null,null,null,null,null,null,null,null,null,null,null,null,null,null,null,null,{"$f":"IF(S882<>\"\",(IF(COUNTIFS('Base Maestra'!$A$42:$A$535,N882,'Base Maestra'!$B$42:$B$535,O882,'Base Maestra'!$C$42:$C$535,P882)>0,\"Correcto\",\"Revisar Catálogo\")),\"\")","v":""},{"$f":"IF(S882<>\"\", IF(COUNTIFS(\n     'Base Maestra'!$F$43:$F$54,H882,\n     'Base Maestra'!$G$43:$G$54,I882)>0, \"Correcto\", \"Revisar Catálogo\"), \"\")","v":""}]
[null,null,null,null,null,null,null,null,null,null,null,null,null,null,null,null,null,null,null,{"$f":"IF(S883<>\"\",(IF(COUNTIFS('Base Maestra'!$A$42:$A$535,N883,'Base Maestra'!$B$42:$B$535,O883,'Base Maestra'!$C$42:$C$535,P883)>0,\"Correcto\",\"Revisar Catálogo\")),\"\")","v":""},{"$f":"IF(S883<>\"\", IF(COUNTIFS(\n     'Base Maestra'!$F$43:$F$54,H883,\n     'Base Maestra'!$G$43:$G$54,I883)>0, \"Correcto\", \"Revisar Catálogo\"), \"\")","v":""}]
[null,null,null,null,null,null,null,null,null,null,null,null,null,null,null,null,null,null,null,{"$f":"IF(S884<>\"\",(IF(COUNTIFS('Base Maestra'!$A$42:$A$535,N884,'Base Maestra'!$B$42:$B$535,O884,'Base Maestra'!$C$42:$C$535,P884)>0,\"Correcto\",\"Revisar Catálogo\")),\"\")","v":""},{"$f":"IF(S884<>\"\", IF(COUNTIFS(\n     'Base Maestra'!$F$43:$F$54,H884,\n     'Base Maestra'!$G$43:$G$54,I884)>0, \"Correcto\", \"Revisar Catálogo\"), \"\")","v":""}]
[null,null,null,null,null,null,null,null,null,null,null,null,null,null,null,null,null,null,null,{"$f":"IF(S885<>\"\",(IF(COUNTIFS('Base Maestra'!$A$42:$A$535,N885,'Base Maestra'!$B$42:$B$535,O885,'Base Maestra'!$C$42:$C$535,P885)>0,\"Correcto\",\"Revisar Catálogo\")),\"\")","v":""},{"$f":"IF(S885<>\"\", IF(COUNTIFS(\n     'Base Maestra'!$F$43:$F$54,H885,\n     'Base Maestra'!$G$43:$G$54,I885)>0, \"Correcto\", \"Revisar Catálogo\"), \"\")","v":""}]
[null,null,null,null,null,null,null,null,null,null,null,null,null,null,null,null,null,null,null,{"$f":"IF(S886<>\"\",(IF(COUNTIFS('Base Maestra'!$A$42:$A$535,N886,'Base Maestra'!$B$42:$B$535,O886,'Base Maestra'!$C$42:$C$535,P886)>0,\"Correcto\",\"Revisar Catálogo\")),\"\")","v":""},{"$f":"IF(S886<>\"\", IF(COUNTIFS(\n     'Base Maestra'!$F$43:$F$54,H886,\n     'Base Maestra'!$G$43:$G$54,I886)>0, \"Correcto\", \"Revisar Catálogo\"), \"\")","v":""}]
[null,null,null,null,null,null,null,null,null,null,null,null,null,null,null,null,null,null,null,{"$f":"IF(S887<>\"\",(IF(COUNTIFS('Base Maestra'!$A$42:$A$535,N887,'Base Maestra'!$B$42:$B$535,O887,'Base Maestra'!$C$42:$C$535,P887)>0,\"Correcto\",\"Revisar Catálogo\")),\"\")","v":""},{"$f":"IF(S887<>\"\", IF(COUNTIFS(\n     'Base Maestra'!$F$43:$F$54,H887,\n     'Base Maestra'!$G$43:$G$54,I887)>0, \"Correcto\", \"Revisar Catálogo\"), \"\")","v":""}]
[null,null,null,null,null,null,null,null,null,null,null,null,null,null,null,null,null,null,null,{"$f":"IF(S888<>\"\",(IF(COUNTIFS('Base Maestra'!$A$42:$A$535,N888,'Base Maestra'!$B$42:$B$535,O888,'Base Maestra'!$C$42:$C$535,P888)>0,\"Correcto\",\"Revisar Catálogo\")),\"\")","v":""},{"$f":"IF(S888<>\"\", IF(COUNTIFS(\n     'Base Maestra'!$F$43:$F$54,H888,\n     'Base Maestra'!$G$43:$G$54,I888)>0, \"Correcto\", \"Revisar Catálogo\"), \"\")","v":""}]
[null,null,null,null,null,null,null,null,null,null,null,null,null,null,null,null,null,null,null,{"$f":"IF(S889<>\"\",(IF(COUNTIFS('Base Maestra'!$A$42:$A$535,N889,'Base Maestra'!$B$42:$B$535,O889,'Base Maestra'!$C$42:$C$535,P889)>0,\"Correcto\",\"Revisar Catálogo\")),\"\")","v":""},{"$f":"IF(S889<>\"\", IF(COUNTIFS(\n     'Base Maestra'!$F$43:$F$54,H889,\n     'Base Maestra'!$G$43:$G$54,I889)>0, \"Correcto\", \"Revisar Catálogo\"), \"\")","v":""}]
[null,null,null,null,null,null,null,null,null,null,null,null,null,null,null,null,null,null,null,{"$f":"IF(S890<>\"\",(IF(COUNTIFS('Base Maestra'!$A$42:$A$535,N890,'Base Maestra'!$B$42:$B$535,O890,'Base Maestra'!$C$42:$C$535,P890)>0,\"Correcto\",\"Revisar Catálogo\")),\"\")","v":""},{"$f":"IF(S890<>\"\", IF(COUNTIFS(\n     'Base Maestra'!$F$43:$F$54,H890,\n     'Base Maestra'!$G$43:$G$54,I890)>0, \"Correcto\", \"Revisar Catálogo\"), \"\")","v":""}]
[null,null,null,null,null,null,null,null,null,null,null,null,null,null,null,null,null,null,null,{"$f":"IF(S891<>\"\",(IF(COUNTIFS('Base Maestra'!$A$42:$A$535,N891,'Base Maestra'!$B$42:$B$535,O891,'Base Maestra'!$C$42:$C$535,P891)>0,\"Correcto\",\"Revisar Catálogo\")),\"\")","v":""},{"$f":"IF(S891<>\"\", IF(COUNTIFS(\n     'Base Maestra'!$F$43:$F$54,H891,\n     'Base Maestra'!$G$43:$G$54,I891)>0, \"Correcto\", \"Revisar Catálogo\"), \"\")","v":""}]
[null,null,null,null,null,null,null,null,null,null,null,null,null,null,null,null,null,null,null,{"$f":"IF(S892<>\"\",(IF(COUNTIFS('Base Maestra'!$A$42:$A$535,N892,'Base Maestra'!$B$42:$B$535,O892,'Base Maestra'!$C$42:$C$535,P892)>0,\"Correcto\",\"Revisar Catálogo\")),\"\")","v":""},{"$f":"IF(S892<>\"\", IF(COUNTIFS(\n     'Base Maestra'!$F$43:$F$54,H892,\n     'Base Maestra'!$G$43:$G$54,I892)>0, \"Correcto\", \"Revisar Catálogo\"), \"\")","v":""}]
[null,null,null,null,null,null,null,null,null,null,null,null,null,null,null,null,null,null,null,{"$f":"IF(S893<>\"\",(IF(COUNTIFS('Base Maestra'!$A$42:$A$535,N893,'Base Maestra'!$B$42:$B$535,O893,'Base Maestra'!$C$42:$C$535,P893)>0,\"Correcto\",\"Revisar Catálogo\")),\"\")","v":""},{"$f":"IF(S893<>\"\", IF(COUNTIFS(\n     'Base Maestra'!$F$43:$F$54,H893,\n     'Base Maestra'!$G$43:$G$54,I893)>0, \"Correcto\", \"Revisar Catálogo\"), \"\")","v":""}]
[null,null,null,null,null,null,null,null,null,null,null,null,null,null,null,null,null,null,null,{"$f":"IF(S894<>\"\",(IF(COUNTIFS('Base Maestra'!$A$42:$A$535,N894,'Base Maestra'!$B$42:$B$535,O894,'Base Maestra'!$C$42:$C$535,P894)>0,\"Correcto\",\"Revisar Catálogo\")),\"\")","v":""},{"$f":"IF(S894<>\"\", IF(COUNTIFS(\n     'Base Maestra'!$F$43:$F$54,H894,\n     'Base Maestra'!$G$43:$G$54,I894)>0, \"Correcto\", \"Revisar Catálogo\"), \"\")","v":""}]
[null,null,null,null,null,null,null,null,null,null,null,null,null,null,null,null,null,null,null,{"$f":"IF(S895<>\"\",(IF(COUNTIFS('Base Maestra'!$A$42:$A$535,N895,'Base Maestra'!$B$42:$B$535,O895,'Base Maestra'!$C$42:$C$535,P895)>0,\"Correcto\",\"Revisar Catálogo\")),\"\")","v":""},{"$f":"IF(S895<>\"\", IF(COUNTIFS(\n     'Base Maestra'!$F$43:$F$54,H895,\n     'Base Maestra'!$G$43:$G$54,I895)>0, \"Correcto\", \"Revisar Catálogo\"), \"\")","v":""}]
[null,null,null,null,null,null,null,null,null,null,null,null,null,null,null,null,null,null,null,{"$f":"IF(S896<>\"\",(IF(COUNTIFS('Base Maestra'!$A$42:$A$535,N896,'Base Maestra'!$B$42:$B$535,O896,'Base Maestra'!$C$42:$C$535,P896)>0,\"Correcto\",\"Revisar Catálogo\")),\"\")","v":""},{"$f":"IF(S896<>\"\", IF(COUNTIFS(\n     'Base Maestra'!$F$43:$F$54,H896,\n     'Base Maestra'!$G$43:$G$54,I896)>0, \"Correcto\", \"Revisar Catálogo\"), \"\")","v":""}]
[null,null,null,null,null,null,null,null,null,null,null,null,null,null,null,null,null,null,null,{"$f":"IF(S897<>\"\",(IF(COUNTIFS('Base Maestra'!$A$42:$A$535,N897,'Base Maestra'!$B$42:$B$535,O897,'Base Maestra'!$C$42:$C$535,P897)>0,\"Correcto\",\"Revisar Catálogo\")),\"\")","v":""},{"$f":"IF(S897<>\"\", IF(COUNTIFS(\n     'Base Maestra'!$F$43:$F$54,H897,\n     'Base Maestra'!$G$43:$G$54,I897)>0, \"Correcto\", \"Revisar Catálogo\"), \"\")","v":""}]
[null,null,null,null,null,null,null,null,null,null,null,null,null,null,null,null,null,null,null,{"$f":"IF(S898<>\"\",(IF(COUNTIFS('Base Maestra'!$A$42:$A$535,N898,'Base Maestra'!$B$42:$B$535,O898,'Base Maestra'!$C$42:$C$535,P898)>0,\"Correcto\",\"Revisar Catálogo\")),\"\")","v":""},{"$f":"IF(S898<>\"\", IF(COUNTIFS(\n     'Base Maestra'!$F$43:$F$54,H898,\n     'Base Maestra'!$G$43:$G$54,I898)>0, \"Correcto\", \"Revisar Catálogo\"), \"\")","v":""}]
[null,null,null,null,null,null,null,null,null,null,null,null,null,null,null,null,null,null,null,{"$f":"IF(S899<>\"\",(IF(COUNTIFS('Base Maestra'!$A$42:$A$535,N899,'Base Maestra'!$B$42:$B$535,O899,'Base Maestra'!$C$42:$C$535,P899)>0,\"Correcto\",\"Revisar Catálogo\")),\"\")","v":""},{"$f":"IF(S899<>\"\", IF(COUNTIFS(\n     'Base Maestra'!$F$43:$F$54,H899,\n     'Base Maestra'!$G$43:$G$54,I899)>0, \"Correcto\", \"Revisar Catálogo\"), \"\")","v":""}]
[null,null,null,null,null,null,null,null,null,null,null,null,null,null,null,null,null,null,null,{"$f":"IF(S900<>\"\",(IF(COUNTIFS('Base Maestra'!$A$42:$A$535,N900,'Base Maestra'!$B$42:$B$535,O900,'Base Maestra'!$C$42:$C$535,P900)>0,\"Correcto\",\"Revisar Catálogo\")),\"\")","v":""},{"$f":"IF(S900<>\"\", IF(COUNTIFS(\n     'Base Maestra'!$F$43:$F$54,H900,\n     'Base Maestra'!$G$43:$G$54,I900)>0, \"Correcto\", \"Revisar Catálogo\"), \"\")","v":""}]
[null,null,null,null,null,null,null,null,null,null,null,null,null,null,null,null,null,null,null,{"$f":"IF(S901<>\"\",(IF(COUNTIFS('Base Maestra'!$A$42:$A$535,N901,'Base Maestra'!$B$42:$B$535,O901,'Base Maestra'!$C$42:$C$535,P901)>0,\"Correcto\",\"Revisar Catálogo\")),\"\")","v":""},{"$f":"IF(S901<>\"\", IF(COUNTIFS(\n     'Base Maestra'!$F$43:$F$54,H901,\n     'Base Maestra'!$G$43:$G$54,I901)>0, \"Correcto\", \"Revisar Catálogo\"), \"\")","v":""}]
[null,null,null,null,null,null,null,null,null,null,null,null,null,null,null,null,null,null,null,{"$f":"IF(S902<>\"\",(IF(COUNTIFS('Base Maestra'!$A$42:$A$535,N902,'Base Maestra'!$B$42:$B$535,O902,'Base Maestra'!$C$42:$C$535,P902)>0,\"Correcto\",\"Revisar Catálogo\")),\"\")","v":""},{"$f":"IF(S902<>\"\", IF(COUNTIFS(\n     'Base Maestra'!$F$43:$F$54,H902,\n     'Base Maestra'!$G$43:$G$54,I902)>0, \"Correcto\", \"Revisar Catálogo\"), \"\")","v":""}]
[null,null,null,null,null,null,null,null,null,null,null,null,null,null,null,null,null,null,null,{"$f":"IF(S903<>\"\",(IF(COUNTIFS('Base Maestra'!$A$42:$A$535,N903,'Base Maestra'!$B$42:$B$535,O903,'Base Maestra'!$C$42:$C$535,P903)>0,\"Correcto\",\"Revisar Catálogo\")),\"\")","v":""},{"$f":"IF(S903<>\"\", IF(COUNTIFS(\n     'Base Maestra'!$F$43:$F$54,H903,\n     'Base Maestra'!$G$43:$G$54,I903)>0, \"Correcto\", \"Revisar Catálogo\"), \"\")","v":""}]
[null,null,null,null,null,null,null,null,null,null,null,null,null,null,null,null,null,null,null,{"$f":"IF(S904<>\"\",(IF(COUNTIFS('Base Maestra'!$A$42:$A$535,N904,'Base Maestra'!$B$42:$B$535,O904,'Base Maestra'!$C$42:$C$535,P904)>0,\"Correcto\",\"Revisar Catálogo\")),\"\")","v":""},{"$f":"IF(S904<>\"\", IF(COUNTIFS(\n     'Base Maestra'!$F$43:$F$54,H904,\n     'Base Maestra'!$G$43:$G$54,I904)>0, \"Correcto\", \"Revisar Catálogo\"), \"\")","v":""}]
[null,null,null,null,null,null,null,null,null,null,null,null,null,null,null,null,null,null,null,{"$f":"IF(S905<>\"\",(IF(COUNTIFS('Base Maestra'!$A$42:$A$535,N905,'Base Maestra'!$B$42:$B$535,O905,'Base Maestra'!$C$42:$C$535,P905)>0,\"Correcto\",\"Revisar Catálogo\")),\"\")","v":""},{"$f":"IF(S905<>\"\", IF(COUNTIFS(\n     'Base Maestra'!$F$43:$F$54,H905,\n     'Base Maestra'!$G$43:$G$54,I905)>0, \"Correcto\", \"Revisar Catálogo\"), \"\")","v":""}]
[null,null,null,null,null,null,null,null,null,null,null,null,null,null,null,null,null,null,null,{"$f":"IF(S906<>\"\",(IF(COUNTIFS('Base Maestra'!$A$42:$A$535,N906,'Base Maestra'!$B$42:$B$535,O906,'Base Maestra'!$C$42:$C$535,P906)>0,\"Correcto\",\"Revisar Catálogo\")),\"\")","v":""},{"$f":"IF(S906<>\"\", IF(COUNTIFS(\n     'Base Maestra'!$F$43:$F$54,H906,\n     'Base Maestra'!$G$43:$G$54,I906)>0, \"Correcto\", \"Revisar Catálogo\"), \"\")","v":""}]
[null,null,null,null,null,null,null,null,null,null,null,null,null,null,null,null,null,null,null,{"$f":"IF(S907<>\"\",(IF(COUNTIFS('Base Maestra'!$A$42:$A$535,N907,'Base Maestra'!$B$42:$B$535,O907,'Base Maestra'!$C$42:$C$535,P907)>0,\"Correcto\",\"Revisar Catálogo\")),\"\")","v":""},{"$f":"IF(S907<>\"\", IF(COUNTIFS(\n     'Base Maestra'!$F$43:$F$54,H907,\n     'Base Maestra'!$G$43:$G$54,I907)>0, \"Correcto\", \"Revisar Catálogo\"), \"\")","v":""}]
[null,null,null,null,null,null,null,null,null,null,null,null,null,null,null,null,null,null,null,{"$f":"IF(S908<>\"\",(IF(COUNTIFS('Base Maestra'!$A$42:$A$535,N908,'Base Maestra'!$B$42:$B$535,O908,'Base Maestra'!$C$42:$C$535,P908)>0,\"Correcto\",\"Revisar Catálogo\")),\"\")","v":""},{"$f":"IF(S908<>\"\", IF(COUNTIFS(\n     'Base Maestra'!$F$43:$F$54,H908,\n     'Base Maestra'!$G$43:$G$54,I908)>0, \"Correcto\", \"Revisar Catálogo\"), \"\")","v":""}]
[null,null,null,null,null,null,null,null,null,null,null,null,null,null,null,null,null,null,null,{"$f":"IF(S909<>\"\",(IF(COUNTIFS('Base Maestra'!$A$42:$A$535,N909,'Base Maestra'!$B$42:$B$535,O909,'Base Maestra'!$C$42:$C$535,P909)>0,\"Correcto\",\"Revisar Catálogo\")),\"\")","v":""},{"$f":"IF(S909<>\"\", IF(COUNTIFS(\n     'Base Maestra'!$F$43:$F$54,H909,\n     'Base Maestra'!$G$43:$G$54,I909)>0, \"Correcto\", \"Revisar Catálogo\"), \"\")","v":""}]
[null,null,null,null,null,null,null,null,null,null,null,null,null,null,null,null,null,null,null,{"$f":"IF(S910<>\"\",(IF(COUNTIFS('Base Maestra'!$A$42:$A$535,N910,'Base Maestra'!$B$42:$B$535,O910,'Base Maestra'!$C$42:$C$535,P910)>0,\"Correcto\",\"Revisar Catálogo\")),\"\")","v":""},{"$f":"IF(S910<>\"\", IF(COUNTIFS(\n     'Base Maestra'!$F$43:$F$54,H910,\n     'Base Maestra'!$G$43:$G$54,I910)>0, \"Correcto\", \"Revisar Catálogo\"), \"\")","v":""}]
[null,null,null,null,null,null,null,null,null,null,null,null,null,null,null,null,null,null,null,{"$f":"IF(S911<>\"\",(IF(COUNTIFS('Base Maestra'!$A$42:$A$535,N911,'Base Maestra'!$B$42:$B$535,O911,'Base Maestra'!$C$42:$C$535,P911)>0,\"Correcto\",\"Revisar Catálogo\")),\"\")","v":""},{"$f":"IF(S911<>\"\", IF(COUNTIFS(\n     'Base Maestra'!$F$43:$F$54,H911,\n     'Base Maestra'!$G$43:$G$54,I911)>0, \"Correcto\", \"Revisar Catálogo\"), \"\")","v":""}]
[null,null,null,null,null,null,null,null,null,null,null,null,null,null,null,null,null,null,null,{"$f":"IF(S912<>\"\",(IF(COUNTIFS('Base Maestra'!$A$42:$A$535,N912,'Base Maestra'!$B$42:$B$535,O912,'Base Maestra'!$C$42:$C$535,P912)>0,\"Correcto\",\"Revisar Catálogo\")),\"\")","v":""},{"$f":"IF(S912<>\"\", IF(COUNTIFS(\n     'Base Maestra'!$F$43:$F$54,H912,\n     'Base Maestra'!$G$43:$G$54,I912)>0, \"Correcto\", \"Revisar Catálogo\"), \"\")","v":""}]
[null,null,null,null,null,null,null,null,null,null,null,null,null,null,null,null,null,null,null,{"$f":"IF(S913<>\"\",(IF(COUNTIFS('Base Maestra'!$A$42:$A$535,N913,'Base Maestra'!$B$42:$B$535,O913,'Base Maestra'!$C$42:$C$535,P913)>0,\"Correcto\",\"Revisar Catálogo\")),\"\")","v":""},{"$f":"IF(S913<>\"\", IF(COUNTIFS(\n     'Base Maestra'!$F$43:$F$54,H913,\n     'Base Maestra'!$G$43:$G$54,I913)>0, \"Correcto\", \"Revisar Catálogo\"), \"\")","v":""}]
[null,null,null,null,null,null,null,null,null,null,null,null,null,null,null,null,null,null,null,{"$f":"IF(S914<>\"\",(IF(COUNTIFS('Base Maestra'!$A$42:$A$535,N914,'Base Maestra'!$B$42:$B$535,O914,'Base Maestra'!$C$42:$C$535,P914)>0,\"Correcto\",\"Revisar Catálogo\")),\"\")","v":""},{"$f":"IF(S914<>\"\", IF(COUNTIFS(\n     'Base Maestra'!$F$43:$F$54,H914,\n     'Base Maestra'!$G$43:$G$54,I914)>0, \"Correcto\", \"Revisar Catálogo\"), \"\")","v":""}]
[null,null,null,null,null,null,null,null,null,null,null,null,null,null,null,null,null,null,null,{"$f":"IF(S915<>\"\",(IF(COUNTIFS('Base Maestra'!$A$42:$A$535,N915,'Base Maestra'!$B$42:$B$535,O915,'Base Maestra'!$C$42:$C$535,P915)>0,\"Correcto\",\"Revisar Catálogo\")),\"\")","v":""},{"$f":"IF(S915<>\"\", IF(COUNTIFS(\n     'Base Maestra'!$F$43:$F$54,H915,\n     'Base Maestra'!$G$43:$G$54,I915)>0, \"Correcto\", \"Revisar Catálogo\"), \"\")","v":""}]
[null,null,null,null,null,null,null,null,null,null,null,null,null,null,null,null,null,null,null,{"$f":"IF(S916<>\"\",(IF(COUNTIFS('Base Maestra'!$A$42:$A$535,N916,'Base Maestra'!$B$42:$B$535,O916,'Base Maestra'!$C$42:$C$535,P916)>0,\"Correcto\",\"Revisar Catálogo\")),\"\")","v":""},{"$f":"IF(S916<>\"\", IF(COUNTIFS(\n     'Base Maestra'!$F$43:$F$54,H916,\n     'Base Maestra'!$G$43:$G$54,I916)>0, \"Correcto\", \"Revisar Catálogo\"), \"\")","v":""}]
[null,null,null,null,null,null,null,null,null,null,null,null,null,null,null,null,null,null,null,{"$f":"IF(S917<>\"\",(IF(COUNTIFS('Base Maestra'!$A$42:$A$535,N917,'Base Maestra'!$B$42:$B$535,O917,'Base Maestra'!$C$42:$C$535,P917)>0,\"Correcto\",\"Revisar Catálogo\")),\"\")","v":""},{"$f":"IF(S917<>\"\", IF(COUNTIFS(\n     'Base Maestra'!$F$43:$F$54,H917,\n     'Base Maestra'!$G$43:$G$54,I917)>0, \"Correcto\", \"Revisar Catálogo\"), \"\")","v":""}]
[null,null,null,null,null,null,null,null,null,null,null,null,null,null,null,null,null,null,null,{"$f":"IF(S918<>\"\",(IF(COUNTIFS('Base Maestra'!$A$42:$A$535,N918,'Base Maestra'!$B$42:$B$535,O918,'Base Maestra'!$C$42:$C$535,P918)>0,\"Correcto\",\"Revisar Catálogo\")),\"\")","v":""},{"$f":"IF(S918<>\"\", IF(COUNTIFS(\n     'Base Maestra'!$F$43:$F$54,H918,\n     'Base Maestra'!$G$43:$G$54,I918)>0, \"Correcto\", \"Revisar Catálogo\"), \"\")","v":""}]
[null,null,null,null,null,null,null,null,null,null,null,null,null,null,null,null,null,null,null,{"$f":"IF(S919<>\"\",(IF(COUNTIFS('Base Maestra'!$A$42:$A$535,N919,'Base Maestra'!$B$42:$B$535,O919,'Base Maestra'!$C$42:$C$535,P919)>0,\"Correcto\",\"Revisar Catálogo\")),\"\")","v":""},{"$f":"IF(S919<>\"\", IF(COUNTIFS(\n     'Base Maestra'!$F$43:$F$54,H919,\n     'Base Maestra'!$G$43:$G$54,I919)>0, \"Correcto\", \"Revisar Catálogo\"), \"\")","v":""}]
[null,null,null,null,null,null,null,null,null,null,null,null,null,null,null,null,null,null,null,{"$f":"IF(S920<>\"\",(IF(COUNTIFS('Base Maestra'!$A$42:$A$535,N920,'Base Maestra'!$B$42:$B$535,O920,'Base Maestra'!$C$42:$C$535,P920)>0,\"Correcto\",\"Revisar Catálogo\")),\"\")","v":""},{"$f":"IF(S920<>\"\", IF(COUNTIFS(\n     'Base Maestra'!$F$43:$F$54,H920,\n     'Base Maestra'!$G$43:$G$54,I920)>0, \"Correcto\", \"Revisar Catálogo\"), \"\")","v":""}]
[null,null,null,null,null,null,null,null,null,null,null,null,null,null,null,null,null,null,null,{"$f":"IF(S921<>\"\",(IF(COUNTIFS('Base Maestra'!$A$42:$A$535,N921,'Base Maestra'!$B$42:$B$535,O921,'Base Maestra'!$C$42:$C$535,P921)>0,\"Correcto\",\"Revisar Catálogo\")),\"\")","v":""},{"$f":"IF(S921<>\"\", IF(COUNTIFS(\n     'Base Maestra'!$F$43:$F$54,H921,\n     'Base Maestra'!$G$43:$G$54,I921)>0, \"Correcto\", \"Revisar Catálogo\"), \"\")","v":""}]
[null,null,null,null,null,null,null,null,null,null,null,null,null,null,null,null,null,null,null,{"$f":"IF(S922<>\"\",(IF(COUNTIFS('Base Maestra'!$A$42:$A$535,N922,'Base Maestra'!$B$42:$B$535,O922,'Base Maestra'!$C$42:$C$535,P922)>0,\"Correcto\",\"Revisar Catálogo\")),\"\")","v":""},{"$f":"IF(S922<>\"\", IF(COUNTIFS(\n     'Base Maestra'!$F$43:$F$54,H922,\n     'Base Maestra'!$G$43:$G$54,I922)>0, \"Correcto\", \"Revisar Catálogo\"), \"\")","v":""}]
[null,null,null,null,null,null,null,null,null,null,null,null,null,null,null,null,null,null,null,{"$f":"IF(S923<>\"\",(IF(COUNTIFS('Base Maestra'!$A$42:$A$535,N923,'Base Maestra'!$B$42:$B$535,O923,'Base Maestra'!$C$42:$C$535,P923)>0,\"Correcto\",\"Revisar Catálogo\")),\"\")","v":""},{"$f":"IF(S923<>\"\", IF(COUNTIFS(\n     'Base Maestra'!$F$43:$F$54,H923,\n     'Base Maestra'!$G$43:$G$54,I923)>0, \"Correcto\", \"Revisar Catálogo\"), \"\")","v":""}]
[null,null,null,null,null,null,null,null,null,null,null,null,null,null,null,null,null,null,null,{"$f":"IF(S924<>\"\",(IF(COUNTIFS('Base Maestra'!$A$42:$A$535,N924,'Base Maestra'!$B$42:$B$535,O924,'Base Maestra'!$C$42:$C$535,P924)>0,\"Correcto\",\"Revisar Catálogo\")),\"\")","v":""},{"$f":"IF(S924<>\"\", IF(COUNTIFS(\n     'Base Maestra'!$F$43:$F$54,H924,\n     'Base Maestra'!$G$43:$G$54,I924)>0, \"Correcto\", \"Revisar Catálogo\"), \"\")","v":""}]
[null,null,null,null,null,null,null,null,null,null,null,null,null,null,null,null,null,null,null,{"$f":"IF(S925<>\"\",(IF(COUNTIFS('Base Maestra'!$A$42:$A$535,N925,'Base Maestra'!$B$42:$B$535,O925,'Base Maestra'!$C$42:$C$535,P925)>0,\"Correcto\",\"Revisar Catálogo\")),\"\")","v":""},{"$f":"IF(S925<>\"\", IF(COUNTIFS(\n     'Base Maestra'!$F$43:$F$54,H925,\n     'Base Maestra'!$G$43:$G$54,I925)>0, \"Correcto\", \"Revisar Catálogo\"), \"\")","v":""}]
[null,null,null,null,null,null,null,null,null,null,null,null,null,null,null,null,null,null,null,{"$f":"IF(S926<>\"\",(IF(COUNTIFS('Base Maestra'!$A$42:$A$535,N926,'Base Maestra'!$B$42:$B$535,O926,'Base Maestra'!$C$42:$C$535,P926)>0,\"Correcto\",\"Revisar Catálogo\")),\"\")","v":""},{"$f":"IF(S926<>\"\", IF(COUNTIFS(\n     'Base Maestra'!$F$43:$F$54,H926,\n     'Base Maestra'!$G$43:$G$54,I926)>0, \"Correcto\", \"Revisar Catálogo\"), \"\")","v":""}]
[null,null,null,null,null,null,null,null,null,null,null,null,null,null,null,null,null,null,null,{"$f":"IF(S927<>\"\",(IF(COUNTIFS('Base Maestra'!$A$42:$A$535,N927,'Base Maestra'!$B$42:$B$535,O927,'Base Maestra'!$C$42:$C$535,P927)>0,\"Correcto\",\"Revisar Catálogo\")),\"\")","v":""},{"$f":"IF(S927<>\"\", IF(COUNTIFS(\n     'Base Maestra'!$F$43:$F$54,H927,\n     'Base Maestra'!$G$43:$G$54,I927)>0, \"Correcto\", \"Revisar Catálogo\"), \"\")","v":""}]
[null,null,null,null,null,null,null,null,null,null,null,null,null,null,null,null,null,null,null,{"$f":"IF(S928<>\"\",(IF(COUNTIFS('Base Maestra'!$A$42:$A$535,N928,'Base Maestra'!$B$42:$B$535,O928,'Base Maestra'!$C$42:$C$535,P928)>0,\"Correcto\",\"Revisar Catálogo\")),\"\")","v":""},{"$f":"IF(S928<>\"\", IF(COUNTIFS(\n     'Base Maestra'!$F$43:$F$54,H928,\n     'Base Maestra'!$G$43:$G$54,I928)>0, \"Correcto\", \"Revisar Catálogo\"), \"\")","v":""}]
[null,null,null,null,null,null,null,null,null,null,null,null,null,null,null,null,null,null,null,{"$f":"IF(S929<>\"\",(IF(COUNTIFS('Base Maestra'!$A$42:$A$535,N929,'Base Maestra'!$B$42:$B$535,O929,'Base Maestra'!$C$42:$C$535,P929)>0,\"Correcto\",\"Revisar Catálogo\")),\"\")","v":""},{"$f":"IF(S929<>\"\", IF(COUNTIFS(\n     'Base Maestra'!$F$43:$F$54,H929,\n     'Base Maestra'!$G$43:$G$54,I929)>0, \"Correcto\", \"Revisar Catálogo\"), \"\")","v":""}]
[null,null,null,null,null,null,null,null,null,null,null,null,null,null,null,null,null,null,null,{"$f":"IF(S930<>\"\",(IF(COUNTIFS('Base Maestra'!$A$42:$A$535,N930,'Base Maestra'!$B$42:$B$535,O930,'Base Maestra'!$C$42:$C$535,P930)>0,\"Correcto\",\"Revisar Catálogo\")),\"\")","v":""},{"$f":"IF(S930<>\"\", IF(COUNTIFS(\n     'Base Maestra'!$F$43:$F$54,H930,\n     'Base Maestra'!$G$43:$G$54,I930)>0, \"Correcto\", \"Revisar Catálogo\"), \"\")","v":""}]
[null,null,null,null,null,null,null,null,null,null,null,null,null,null,null,null,null,null,null,{"$f":"IF(S931<>\"\",(IF(COUNTIFS('Base Maestra'!$A$42:$A$535,N931,'Base Maestra'!$B$42:$B$535,O931,'Base Maestra'!$C$42:$C$535,P931)>0,\"Correcto\",\"Revisar Catálogo\")),\"\")","v":""},{"$f":"IF(S931<>\"\", IF(COUNTIFS(\n     'Base Maestra'!$F$43:$F$54,H931,\n     'Base Maestra'!$G$43:$G$54,I931)>0, \"Correcto\", \"Revisar Catálogo\"), \"\")","v":""}]
[null,null,null,null,null,null,null,null,null,null,null,null,null,null,null,null,null,null,null,{"$f":"IF(S932<>\"\",(IF(COUNTIFS('Base Maestra'!$A$42:$A$535,N932,'Base Maestra'!$B$42:$B$535,O932,'Base Maestra'!$C$42:$C$535,P932)>0,\"Correcto\",\"Revisar Catálogo\")),\"\")","v":""},{"$f":"IF(S932<>\"\", IF(COUNTIFS(\n     'Base Maestra'!$F$43:$F$54,H932,\n     'Base Maestra'!$G$43:$G$54,I932)>0, \"Correcto\", \"Revisar Catálogo\"), \"\")","v":""}]
[null,null,null,null,null,null,null,null,null,null,null,null,null,null,null,null,null,null,null,{"$f":"IF(S933<>\"\",(IF(COUNTIFS('Base Maestra'!$A$42:$A$535,N933,'Base Maestra'!$B$42:$B$535,O933,'Base Maestra'!$C$42:$C$535,P933)>0,\"Correcto\",\"Revisar Catálogo\")),\"\")","v":""},{"$f":"IF(S933<>\"\", IF(COUNTIFS(\n     'Base Maestra'!$F$43:$F$54,H933,\n     'Base Maestra'!$G$43:$G$54,I933)>0, \"Correcto\", \"Revisar Catálogo\"), \"\")","v":""}]
[null,null,null,null,null,null,null,null,null,null,null,null,null,null,null,null,null,null,null,{"$f":"IF(S934<>\"\",(IF(COUNTIFS('Base Maestra'!$A$42:$A$535,N934,'Base Maestra'!$B$42:$B$535,O934,'Base Maestra'!$C$42:$C$535,P934)>0,\"Correcto\",\"Revisar Catálogo\")),\"\")","v":""},{"$f":"IF(S934<>\"\", IF(COUNTIFS(\n     'Base Maestra'!$F$43:$F$54,H934,\n     'Base Maestra'!$G$43:$G$54,I934)>0, \"Correcto\", \"Revisar Catálogo\"), \"\")","v":""}]
[null,null,null,null,null,null,null,null,null,null,null,null,null,null,null,null,null,null,null,{"$f":"IF(S935<>\"\",(IF(COUNTIFS('Base Maestra'!$A$42:$A$535,N935,'Base Maestra'!$B$42:$B$535,O935,'Base Maestra'!$C$42:$C$535,P935)>0,\"Correcto\",\"Revisar Catálogo\")),\"\")","v":""},{"$f":"IF(S935<>\"\", IF(COUNTIFS(\n     'Base Maestra'!$F$43:$F$54,H935,\n     'Base Maestra'!$G$43:$G$54,I935)>0, \"Correcto\", \"Revisar Catálogo\"), \"\")","v":""}]
[null,null,null,null,null,null,null,null,null,null,null,null,null,null,null,null,null,null,null,{"$f":"IF(S936<>\"\",(IF(COUNTIFS('Base Maestra'!$A$42:$A$535,N936,'Base Maestra'!$B$42:$B$535,O936,'Base Maestra'!$C$42:$C$535,P936)>0,\"Correcto\",\"Revisar Catálogo\")),\"\")","v":""},{"$f":"IF(S936<>\"\", IF(COUNTIFS(\n     'Base Maestra'!$F$43:$F$54,H936,\n     'Base Maestra'!$G$43:$G$54,I936)>0, \"Correcto\", \"Revisar Catálogo\"), \"\")","v":""}]
[null,null,null,null,null,null,null,null,null,null,null,null,null,null,null,null,null,null,null,{"$f":"IF(S937<>\"\",(IF(COUNTIFS('Base Maestra'!$A$42:$A$535,N937,'Base Maestra'!$B$42:$B$535,O937,'Base Maestra'!$C$42:$C$535,P937)>0,\"Correcto\",\"Revisar Catálogo\")),\"\")","v":""},{"$f":"IF(S937<>\"\", IF(COUNTIFS(\n     'Base Maestra'!$F$43:$F$54,H937,\n     'Base Maestra'!$G$43:$G$54,I937)>0, \"Correcto\", \"Revisar Catálogo\"), \"\")","v":""}]
[null,null,null,null,null,null,null,null,null,null,null,null,null,null,null,null,null,null,null,{"$f":"IF(S938<>\"\",(IF(COUNTIFS('Base Maestra'!$A$42:$A$535,N938,'Base Maestra'!$B$42:$B$535,O938,'Base Maestra'!$C$42:$C$535,P938)>0,\"Correcto\",\"Revisar Catálogo\")),\"\")","v":""},{"$f":"IF(S938<>\"\", IF(COUNTIFS(\n     'Base Maestra'!$F$43:$F$54,H938,\n     'Base Maestra'!$G$43:$G$54,I938)>0, \"Correcto\", \"Revisar Catálogo\"), \"\")","v":""}]
[null,null,null,null,null,null,null,null,null,null,null,null,null,null,null,null,null,null,null,{"$f":"IF(S939<>\"\",(IF(COUNTIFS('Base Maestra'!$A$42:$A$535,N939,'Base Maestra'!$B$42:$B$535,O939,'Base Maestra'!$C$42:$C$535,P939)>0,\"Correcto\",\"Revisar Catálogo\")),\"\")","v":""},{"$f":"IF(S939<>\"\", IF(COUNTIFS(\n     'Base Maestra'!$F$43:$F$54,H939,\n     'Base Maestra'!$G$43:$G$54,I939)>0, \"Correcto\", \"Revisar Catálogo\"), \"\")","v":""}]
[null,null,null,null,null,null,null,null,null,null,null,null,null,null,null,null,null,null,null,{"$f":"IF(S940<>\"\",(IF(COUNTIFS('Base Maestra'!$A$42:$A$535,N940,'Base Maestra'!$B$42:$B$535,O940,'Base Maestra'!$C$42:$C$535,P940)>0,\"Correcto\",\"Revisar Catálogo\")),\"\")","v":""},{"$f":"IF(S940<>\"\", IF(COUNTIFS(\n     'Base Maestra'!$F$43:$F$54,H940,\n     'Base Maestra'!$G$43:$G$54,I940)>0, \"Correcto\", \"Revisar Catálogo\"), \"\")","v":""}]
[null,null,null,null,null,null,null,null,null,null,null,null,null,null,null,null,null,null,null,{"$f":"IF(S941<>\"\",(IF(COUNTIFS('Base Maestra'!$A$42:$A$535,N941,'Base Maestra'!$B$42:$B$535,O941,'Base Maestra'!$C$42:$C$535,P941)>0,\"Correcto\",\"Revisar Catálogo\")),\"\")","v":""},{"$f":"IF(S941<>\"\", IF(COUNTIFS(\n     'Base Maestra'!$F$43:$F$54,H941,\n     'Base Maestra'!$G$43:$G$54,I941)>0, \"Correcto\", \"Revisar Catálogo\"), \"\")","v":""}]
[null,null,null,null,null,null,null,null,null,null,null,null,null,null,null,null,null,null,null,{"$f":"IF(S942<>\"\",(IF(COUNTIFS('Base Maestra'!$A$42:$A$535,N942,'Base Maestra'!$B$42:$B$535,O942,'Base Maestra'!$C$42:$C$535,P942)>0,\"Correcto\",\"Revisar Catálogo\")),\"\")","v":""},{"$f":"IF(S942<>\"\", IF(COUNTIFS(\n     'Base Maestra'!$F$43:$F$54,H942,\n     'Base Maestra'!$G$43:$G$54,I942)>0, \"Correcto\", \"Revisar Catálogo\"), \"\")","v":""}]
[null,null,null,null,null,null,null,null,null,null,null,null,null,null,null,null,null,null,null,{"$f":"IF(S943<>\"\",(IF(COUNTIFS('Base Maestra'!$A$42:$A$535,N943,'Base Maestra'!$B$42:$B$535,O943,'Base Maestra'!$C$42:$C$535,P943)>0,\"Correcto\",\"Revisar Catálogo\")),\"\")","v":""},{"$f":"IF(S943<>\"\", IF(COUNTIFS(\n     'Base Maestra'!$F$43:$F$54,H943,\n     'Base Maestra'!$G$43:$G$54,I943)>0, \"Correcto\", \"Revisar Catálogo\"), \"\")","v":""}]
[null,null,null,null,null,null,null,null,null,null,null,null,null,null,null,null,null,null,null,{"$f":"IF(S944<>\"\",(IF(COUNTIFS('Base Maestra'!$A$42:$A$535,N944,'Base Maestra'!$B$42:$B$535,O944,'Base Maestra'!$C$42:$C$535,P944)>0,\"Correcto\",\"Revisar Catálogo\")),\"\")","v":""},{"$f":"IF(S944<>\"\", IF(COUNTIFS(\n     'Base Maestra'!$F$43:$F$54,H944,\n     'Base Maestra'!$G$43:$G$54,I944)>0, \"Correcto\", \"Revisar Catálogo\"), \"\")","v":""}]
[null,null,null,null,null,null,null,null,null,null,null,null,null,null,null,null,null,null,null,{"$f":"IF(S945<>\"\",(IF(COUNTIFS('Base Maestra'!$A$42:$A$535,N945,'Base Maestra'!$B$42:$B$535,O945,'Base Maestra'!$C$42:$C$535,P945)>0,\"Correcto\",\"Revisar Catálogo\")),\"\")","v":""},{"$f":"IF(S945<>\"\", IF(COUNTIFS(\n     'Base Maestra'!$F$43:$F$54,H945,\n     'Base Maestra'!$G$43:$G$54,I945)>0, \"Correcto\", \"Revisar Catálogo\"), \"\")","v":""}]
[null,null,null,null,null,null,null,null,null,null,null,null,null,null,null,null,null,null,null,{"$f":"IF(S946<>\"\",(IF(COUNTIFS('Base Maestra'!$A$42:$A$535,N946,'Base Maestra'!$B$42:$B$535,O946,'Base Maestra'!$C$42:$C$535,P946)>0,\"Correcto\",\"Revisar Catálogo\")),\"\")","v":""},{"$f":"IF(S946<>\"\", IF(COUNTIFS(\n     'Base Maestra'!$F$43:$F$54,H946,\n     'Base Maestra'!$G$43:$G$54,I946)>0, \"Correcto\", \"Revisar Catálogo\"), \"\")","v":""}]
[null,null,null,null,null,null,null,null,null,null,null,null,null,null,null,null,null,null,null,{"$f":"IF(S947<>\"\",(IF(COUNTIFS('Base Maestra'!$A$42:$A$535,N947,'Base Maestra'!$B$42:$B$535,O947,'Base Maestra'!$C$42:$C$535,P947)>0,\"Correcto\",\"Revisar Catálogo\")),\"\")","v":""},{"$f":"IF(S947<>\"\", IF(COUNTIFS(\n     'Base Maestra'!$F$43:$F$54,H947,\n     'Base Maestra'!$G$43:$G$54,I947)>0, \"Correcto\", \"Revisar Catálogo\"), \"\")","v":""}]
[null,null,null,null,null,null,null,null,null,null,null,null,null,null,null,null,null,null,null,{"$f":"IF(S948<>\"\",(IF(COUNTIFS('Base Maestra'!$A$42:$A$535,N948,'Base Maestra'!$B$42:$B$535,O948,'Base Maestra'!$C$42:$C$535,P948)>0,\"Correcto\",\"Revisar Catálogo\")),\"\")","v":""},{"$f":"IF(S948<>\"\", IF(COUNTIFS(\n     'Base Maestra'!$F$43:$F$54,H948,\n     'Base Maestra'!$G$43:$G$54,I948)>0, \"Correcto\", \"Revisar Catálogo\"), \"\")","v":""}]
[null,null,null,null,null,null,null,null,null,null,null,null,null,null,null,null,null,null,null,{"$f":"IF(S949<>\"\",(IF(COUNTIFS('Base Maestra'!$A$42:$A$535,N949,'Base Maestra'!$B$42:$B$535,O949,'Base Maestra'!$C$42:$C$535,P949)>0,\"Correcto\",\"Revisar Catálogo\")),\"\")","v":""},{"$f":"IF(S949<>\"\", IF(COUNTIFS(\n     'Base Maestra'!$F$43:$F$54,H949,\n     'Base Maestra'!$G$43:$G$54,I949)>0, \"Correcto\", \"Revisar Catálogo\"), \"\")","v":""}]
[null,null,null,null,null,null,null,null,null,null,null,null,null,null,null,null,null,null,null,{"$f":"IF(S950<>\"\",(IF(COUNTIFS('Base Maestra'!$A$42:$A$535,N950,'Base Maestra'!$B$42:$B$535,O950,'Base Maestra'!$C$42:$C$535,P950)>0,\"Correcto\",\"Revisar Catálogo\")),\"\")","v":""},{"$f":"IF(S950<>\"\", IF(COUNTIFS(\n     'Base Maestra'!$F$43:$F$54,H950,\n     'Base Maestra'!$G$43:$G$54,I950)>0, \"Correcto\", \"Revisar Catálogo\"), \"\")","v":""}]
[null,null,null,null,null,null,null,null,null,null,null,null,null,null,null,null,null,null,null,{"$f":"IF(S951<>\"\",(IF(COUNTIFS('Base Maestra'!$A$42:$A$535,N951,'Base Maestra'!$B$42:$B$535,O951,'Base Maestra'!$C$42:$C$535,P951)>0,\"Correcto\",\"Revisar Catálogo\")),\"\")","v":""},{"$f":"IF(S951<>\"\", IF(COUNTIFS(\n     'Base Maestra'!$F$43:$F$54,H951,\n     'Base Maestra'!$G$43:$G$54,I951)>0, \"Correcto\", \"Revisar Catálogo\"), \"\")","v":""}]
[null,null,null,null,null,null,null,null,null,null,null,null,null,null,null,null,null,null,null,{"$f":"IF(S952<>\"\",(IF(COUNTIFS('Base Maestra'!$A$42:$A$535,N952,'Base Maestra'!$B$42:$B$535,O952,'Base Maestra'!$C$42:$C$535,P952)>0,\"Correcto\",\"Revisar Catálogo\")),\"\")","v":""},{"$f":"IF(S952<>\"\", IF(COUNTIFS(\n     'Base Maestra'!$F$43:$F$54,H952,\n     'Base Maestra'!$G$43:$G$54,I952)>0, \"Correcto\", \"Revisar Catálogo\"), \"\")","v":""}]
[null,null,null,null,null,null,null,null,null,null,null,null,null,null,null,null,null,null,null,{"$f":"IF(S953<>\"\",(IF(COUNTIFS('Base Maestra'!$A$42:$A$535,N953,'Base Maestra'!$B$42:$B$535,O953,'Base Maestra'!$C$42:$C$535,P953)>0,\"Correcto\",\"Revisar Catálogo\")),\"\")","v":""},{"$f":"IF(S953<>\"\", IF(COUNTIFS(\n     'Base Maestra'!$F$43:$F$54,H953,\n     'Base Maestra'!$G$43:$G$54,I953)>0, \"Correcto\", \"Revisar Catálogo\"), \"\")","v":""}]
[null,null,null,null,null,null,null,null,null,null,null,null,null,null,null,null,null,null,null,{"$f":"IF(S954<>\"\",(IF(COUNTIFS('Base Maestra'!$A$42:$A$535,N954,'Base Maestra'!$B$42:$B$535,O954,'Base Maestra'!$C$42:$C$535,P954)>0,\"Correcto\",\"Revisar Catálogo\")),\"\")","v":""},{"$f":"IF(S954<>\"\", IF(COUNTIFS(\n     'Base Maestra'!$F$43:$F$54,H954,\n     'Base Maestra'!$G$43:$G$54,I954)>0, \"Correcto\", \"Revisar Catálogo\"), \"\")","v":""}]
[null,null,null,null,null,null,null,null,null,null,null,null,null,null,null,null,null,null,null,{"$f":"IF(S955<>\"\",(IF(COUNTIFS('Base Maestra'!$A$42:$A$535,N955,'Base Maestra'!$B$42:$B$535,O955,'Base Maestra'!$C$42:$C$535,P955)>0,\"Correcto\",\"Revisar Catálogo\")),\"\")","v":""},{"$f":"IF(S955<>\"\", IF(COUNTIFS(\n     'Base Maestra'!$F$43:$F$54,H955,\n     'Base Maestra'!$G$43:$G$54,I955)>0, \"Correcto\", \"Revisar Catálogo\"), \"\")","v":""}]
[null,null,null,null,null,null,null,null,null,null,null,null,null,null,null,null,null,null,null,{"$f":"IF(S956<>\"\",(IF(COUNTIFS('Base Maestra'!$A$42:$A$535,N956,'Base Maestra'!$B$42:$B$535,O956,'Base Maestra'!$C$42:$C$535,P956)>0,\"Correcto\",\"Revisar Catálogo\")),\"\")","v":""},{"$f":"IF(S956<>\"\", IF(COUNTIFS(\n     'Base Maestra'!$F$43:$F$54,H956,\n     'Base Maestra'!$G$43:$G$54,I956)>0, \"Correcto\", \"Revisar Catálogo\"), \"\")","v":""}]
[null,null,null,null,null,null,null,null,null,null,null,null,null,null,null,null,null,null,null,{"$f":"IF(S957<>\"\",(IF(COUNTIFS('Base Maestra'!$A$42:$A$535,N957,'Base Maestra'!$B$42:$B$535,O957,'Base Maestra'!$C$42:$C$535,P957)>0,\"Correcto\",\"Revisar Catálogo\")),\"\")","v":""},{"$f":"IF(S957<>\"\", IF(COUNTIFS(\n     'Base Maestra'!$F$43:$F$54,H957,\n     'Base Maestra'!$G$43:$G$54,I957)>0, \"Correcto\", \"Revisar Catálogo\"), \"\")","v":""}]
[null,null,null,null,null,null,null,null,null,null,null,null,null,null,null,null,null,null,null,{"$f":"IF(S958<>\"\",(IF(COUNTIFS('Base Maestra'!$A$42:$A$535,N958,'Base Maestra'!$B$42:$B$535,O958,'Base Maestra'!$C$42:$C$535,P958)>0,\"Correcto\",\"Revisar Catálogo\")),\"\")","v":""},{"$f":"IF(S958<>\"\", IF(COUNTIFS(\n     'Base Maestra'!$F$43:$F$54,H958,\n     'Base Maestra'!$G$43:$G$54,I958)>0, \"Correcto\", \"Revisar Catálogo\"), \"\")","v":""}]
[null,null,null,null,null,null,null,null,null,null,null,null,null,null,null,null,null,null,null,{"$f":"IF(S959<>\"\",(IF(COUNTIFS('Base Maestra'!$A$42:$A$535,N959,'Base Maestra'!$B$42:$B$535,O959,'Base Maestra'!$C$42:$C$535,P959)>0,\"Correcto\",\"Revisar Catálogo\")),\"\")","v":""},{"$f":"IF(S959<>\"\", IF(COUNTIFS(\n     'Base Maestra'!$F$43:$F$54,H959,\n     'Base Maestra'!$G$43:$G$54,I959)>0, \"Correcto\", \"Revisar Catálogo\"), \"\")","v":""}]
[null,null,null,null,null,null,null,null,null,null,null,null,null,null,null,null,null,null,null,{"$f":"IF(S960<>\"\",(IF(COUNTIFS('Base Maestra'!$A$42:$A$535,N960,'Base Maestra'!$B$42:$B$535,O960,'Base Maestra'!$C$42:$C$535,P960)>0,\"Correcto\",\"Revisar Catálogo\")),\"\")","v":""},{"$f":"IF(S960<>\"\", IF(COUNTIFS(\n     'Base Maestra'!$F$43:$F$54,H960,\n     'Base Maestra'!$G$43:$G$54,I960)>0, \"Correcto\", \"Revisar Catálogo\"), \"\")","v":""}]
[null,null,null,null,null,null,null,null,null,null,null,null,null,null,null,null,null,null,null,{"$f":"IF(S961<>\"\",(IF(COUNTIFS('Base Maestra'!$A$42:$A$535,N961,'Base Maestra'!$B$42:$B$535,O961,'Base Maestra'!$C$42:$C$535,P961)>0,\"Correcto\",\"Revisar Catálogo\")),\"\")","v":""},{"$f":"IF(S961<>\"\", IF(COUNTIFS(\n     'Base Maestra'!$F$43:$F$54,H961,\n     'Base Maestra'!$G$43:$G$54,I961)>0, \"Correcto\", \"Revisar Catálogo\"), \"\")","v":""}]
[null,null,null,null,null,null,null,null,null,null,null,null,null,null,null,null,null,null,null,{"$f":"IF(S962<>\"\",(IF(COUNTIFS('Base Maestra'!$A$42:$A$535,N962,'Base Maestra'!$B$42:$B$535,O962,'Base Maestra'!$C$42:$C$535,P962)>0,\"Correcto\",\"Revisar Catálogo\")),\"\")","v":""},{"$f":"IF(S962<>\"\", IF(COUNTIFS(\n     'Base Maestra'!$F$43:$F$54,H962,\n     'Base Maestra'!$G$43:$G$54,I962)>0, \"Correcto\", \"Revisar Catálogo\"), \"\")","v":""}]
[null,null,null,null,null,null,null,null,null,null,null,null,null,null,null,null,null,null,null,{"$f":"IF(S963<>\"\",(IF(COUNTIFS('Base Maestra'!$A$42:$A$535,N963,'Base Maestra'!$B$42:$B$535,O963,'Base Maestra'!$C$42:$C$535,P963)>0,\"Correcto\",\"Revisar Catálogo\")),\"\")","v":""},{"$f":"IF(S963<>\"\", IF(COUNTIFS(\n     'Base Maestra'!$F$43:$F$54,H963,\n     'Base Maestra'!$G$43:$G$54,I963)>0, \"Correcto\", \"Revisar Catálogo\"), \"\")","v":""}]
[null,null,null,null,null,null,null,null,null,null,null,null,null,null,null,null,null,null,null,{"$f":"IF(S964<>\"\",(IF(COUNTIFS('Base Maestra'!$A$42:$A$535,N964,'Base Maestra'!$B$42:$B$535,O964,'Base Maestra'!$C$42:$C$535,P964)>0,\"Correcto\",\"Revisar Catálogo\")),\"\")","v":""},{"$f":"IF(S964<>\"\", IF(COUNTIFS(\n     'Base Maestra'!$F$43:$F$54,H964,\n     'Base Maestra'!$G$43:$G$54,I964)>0, \"Correcto\", \"Revisar Catálogo\"), \"\")","v":""}]
[null,null,null,null,null,null,null,null,null,null,null,null,null,null,null,null,null,null,null,{"$f":"IF(S965<>\"\",(IF(COUNTIFS('Base Maestra'!$A$42:$A$535,N965,'Base Maestra'!$B$42:$B$535,O965,'Base Maestra'!$C$42:$C$535,P965)>0,\"Correcto\",\"Revisar Catálogo\")),\"\")","v":""},{"$f":"IF(S965<>\"\", IF(COUNTIFS(\n     'Base Maestra'!$F$43:$F$54,H965,\n     'Base Maestra'!$G$43:$G$54,I965)>0, \"Correcto\", \"Revisar Catálogo\"), \"\")","v":""}]
[null,null,null,null,null,null,null,null,null,null,null,null,null,null,null,null,null,null,null,{"$f":"IF(S966<>\"\",(IF(COUNTIFS('Base Maestra'!$A$42:$A$535,N966,'Base Maestra'!$B$42:$B$535,O966,'Base Maestra'!$C$42:$C$535,P966)>0,\"Correcto\",\"Revisar Catálogo\")),\"\")","v":""},{"$f":"IF(S966<>\"\", IF(COUNTIFS(\n     'Base Maestra'!$F$43:$F$54,H966,\n     'Base Maestra'!$G$43:$G$54,I966)>0, \"Correcto\", \"Revisar Catálogo\"), \"\")","v":""}]
[null,null,null,null,null,null,null,null,null,null,null,null,null,null,null,null,null,null,null,{"$f":"IF(S967<>\"\",(IF(COUNTIFS('Base Maestra'!$A$42:$A$535,N967,'Base Maestra'!$B$42:$B$535,O967,'Base Maestra'!$C$42:$C$535,P967)>0,\"Correcto\",\"Revisar Catálogo\")),\"\")","v":""},{"$f":"IF(S967<>\"\", IF(COUNTIFS(\n     'Base Maestra'!$F$43:$F$54,H967,\n     'Base Maestra'!$G$43:$G$54,I967)>0, \"Correcto\", \"Revisar Catálogo\"), \"\")","v":""}]
[null,null,null,null,null,null,null,null,null,null,null,null,null,null,null,null,null,null,null,{"$f":"IF(S968<>\"\",(IF(COUNTIFS('Base Maestra'!$A$42:$A$535,N968,'Base Maestra'!$B$42:$B$535,O968,'Base Maestra'!$C$42:$C$535,P968)>0,\"Correcto\",\"Revisar Catálogo\")),\"\")","v":""},{"$f":"IF(S968<>\"\", IF(COUNTIFS(\n     'Base Maestra'!$F$43:$F$54,H968,\n     'Base Maestra'!$G$43:$G$54,I968)>0, \"Correcto\", \"Revisar Catálogo\"), \"\")","v":""}]
[null,null,null,null,null,null,null,null,null,null,null,null,null,null,null,null,null,null,null,{"$f":"IF(S969<>\"\",(IF(COUNTIFS('Base Maestra'!$A$42:$A$535,N969,'Base Maestra'!$B$42:$B$535,O969,'Base Maestra'!$C$42:$C$535,P969)>0,\"Correcto\",\"Revisar Catálogo\")),\"\")","v":""},{"$f":"IF(S969<>\"\", IF(COUNTIFS(\n     'Base Maestra'!$F$43:$F$54,H969,\n     'Base Maestra'!$G$43:$G$54,I969)>0, \"Correcto\", \"Revisar Catálogo\"), \"\")","v":""}]
[null,null,null,null,null,null,null,null,null,null,null,null,null,null,null,null,null,null,null,{"$f":"IF(S970<>\"\",(IF(COUNTIFS('Base Maestra'!$A$42:$A$535,N970,'Base Maestra'!$B$42:$B$535,O970,'Base Maestra'!$C$42:$C$535,P970)>0,\"Correcto\",\"Revisar Catálogo\")),\"\")","v":""},{"$f":"IF(S970<>\"\", IF(COUNTIFS(\n     'Base Maestra'!$F$43:$F$54,H970,\n     'Base Maestra'!$G$43:$G$54,I970)>0, \"Correcto\", \"Revisar Catálogo\"), \"\")","v":""}]
[null,null,null,null,null,null,null,null,null,null,null,null,null,null,null,null,null,null,null,{"$f":"IF(S971<>\"\",(IF(COUNTIFS('Base Maestra'!$A$42:$A$535,N971,'Base Maestra'!$B$42:$B$535,O971,'Base Maestra'!$C$42:$C$535,P971)>0,\"Correcto\",\"Revisar Catálogo\")),\"\")","v":""},{"$f":"IF(S971<>\"\", IF(COUNTIFS(\n     'Base Maestra'!$F$43:$F$54,H971,\n     'Base Maestra'!$G$43:$G$54,I971)>0, \"Correcto\", \"Revisar Catálogo\"), \"\")","v":""}]
[null,null,null,null,null,null,null,null,null,null,null,null,null,null,null,null,null,null,null,{"$f":"IF(S972<>\"\",(IF(COUNTIFS('Base Maestra'!$A$42:$A$535,N972,'Base Maestra'!$B$42:$B$535,O972,'Base Maestra'!$C$42:$C$535,P972)>0,\"Correcto\",\"Revisar Catálogo\")),\"\")","v":""},{"$f":"IF(S972<>\"\", IF(COUNTIFS(\n     'Base Maestra'!$F$43:$F$54,H972,\n     'Base Maestra'!$G$43:$G$54,I972)>0, \"Correcto\", \"Revisar Catálogo\"), \"\")","v":""}]
[null,null,null,null,null,null,null,null,null,null,null,null,null,null,null,null,null,null,null,{"$f":"IF(S973<>\"\",(IF(COUNTIFS('Base Maestra'!$A$42:$A$535,N973,'Base Maestra'!$B$42:$B$535,O973,'Base Maestra'!$C$42:$C$535,P973)>0,\"Correcto\",\"Revisar Catálogo\")),\"\")","v":""},{"$f":"IF(S973<>\"\", IF(COUNTIFS(\n     'Base Maestra'!$F$43:$F$54,H973,\n     'Base Maestra'!$G$43:$G$54,I973)>0, \"Correcto\", \"Revisar Catálogo\"), \"\")","v":""}]
[null,null,null,null,null,null,null,null,null,null,null,null,null,null,null,null,null,null,null,{"$f":"IF(S974<>\"\",(IF(COUNTIFS('Base Maestra'!$A$42:$A$535,N974,'Base Maestra'!$B$42:$B$535,O974,'Base Maestra'!$C$42:$C$535,P974)>0,\"Correcto\",\"Revisar Catálogo\")),\"\")","v":""},{"$f":"IF(S974<>\"\", IF(COUNTIFS(\n     'Base Maestra'!$F$43:$F$54,H974,\n     'Base Maestra'!$G$43:$G$54,I974)>0, \"Correcto\", \"Revisar Catálogo\"), \"\")","v":""}]
[null,null,null,null,null,null,null,null,null,null,null,null,null,null,null,null,null,null,null,{"$f":"IF(S975<>\"\",(IF(COUNTIFS('Base Maestra'!$A$42:$A$535,N975,'Base Maestra'!$B$42:$B$535,O975,'Base Maestra'!$C$42:$C$535,P975)>0,\"Correcto\",\"Revisar Catálogo\")),\"\")","v":""},{"$f":"IF(S975<>\"\", IF(COUNTIFS(\n     'Base Maestra'!$F$43:$F$54,H975,\n     'Base Maestra'!$G$43:$G$54,I975)>0, \"Correcto\", \"Revisar Catálogo\"), \"\")","v":""}]
[null,null,null,null,null,null,null,null,null,null,null,null,null,null,null,null,null,null,null,{"$f":"IF(S976<>\"\",(IF(COUNTIFS('Base Maestra'!$A$42:$A$535,N976,'Base Maestra'!$B$42:$B$535,O976,'Base Maestra'!$C$42:$C$535,P976)>0,\"Correcto\",\"Revisar Catálogo\")),\"\")","v":""},{"$f":"IF(S976<>\"\", IF(COUNTIFS(\n     'Base Maestra'!$F$43:$F$54,H976,\n     'Base Maestra'!$G$43:$G$54,I976)>0, \"Correcto\", \"Revisar Catálogo\"), \"\")","v":""}]
[null,null,null,null,null,null,null,null,null,null,null,null,null,null,null,null,null,null,null,{"$f":"IF(S977<>\"\",(IF(COUNTIFS('Base Maestra'!$A$42:$A$535,N977,'Base Maestra'!$B$42:$B$535,O977,'Base Maestra'!$C$42:$C$535,P977)>0,\"Correcto\",\"Revisar Catálogo\")),\"\")","v":""},{"$f":"IF(S977<>\"\", IF(COUNTIFS(\n     'Base Maestra'!$F$43:$F$54,H977,\n     'Base Maestra'!$G$43:$G$54,I977)>0, \"Correcto\", \"Revisar Catálogo\"), \"\")","v":""}]
[null,null,null,null,null,null,null,null,null,null,null,null,null,null,null,null,null,null,null,{"$f":"IF(S978<>\"\",(IF(COUNTIFS('Base Maestra'!$A$42:$A$535,N978,'Base Maestra'!$B$42:$B$535,O978,'Base Maestra'!$C$42:$C$535,P978)>0,\"Correcto\",\"Revisar Catálogo\")),\"\")","v":""},{"$f":"IF(S978<>\"\", IF(COUNTIFS(\n     'Base Maestra'!$F$43:$F$54,H978,\n     'Base Maestra'!$G$43:$G$54,I978)>0, \"Correcto\", \"Revisar Catálogo\"), \"\")","v":""}]
[null,null,null,null,null,null,null,null,null,null,null,null,null,null,null,null,null,null,null,{"$f":"IF(S979<>\"\",(IF(COUNTIFS('Base Maestra'!$A$42:$A$535,N979,'Base Maestra'!$B$42:$B$535,O979,'Base Maestra'!$C$42:$C$535,P979)>0,\"Correcto\",\"Revisar Catálogo\")),\"\")","v":""},{"$f":"IF(S979<>\"\", IF(COUNTIFS(\n     'Base Maestra'!$F$43:$F$54,H979,\n     'Base Maestra'!$G$43:$G$54,I979)>0, \"Correcto\", \"Revisar Catálogo\"), \"\")","v":""}]
[null,null,null,null,null,null,null,null,null,null,null,null,null,null,null,null,null,null,null,{"$f":"IF(S980<>\"\",(IF(COUNTIFS('Base Maestra'!$A$42:$A$535,N980,'Base Maestra'!$B$42:$B$535,O980,'Base Maestra'!$C$42:$C$535,P980)>0,\"Correcto\",\"Revisar Catálogo\")),\"\")","v":""},{"$f":"IF(S980<>\"\", IF(COUNTIFS(\n     'Base Maestra'!$F$43:$F$54,H980,\n     'Base Maestra'!$G$43:$G$54,I980)>0, \"Correcto\", \"Revisar Catálogo\"), \"\")","v":""}]
[null,null,null,null,null,null,null,null,null,null,null,null,null,null,null,null,null,null,null,{"$f":"IF(S981<>\"\",(IF(COUNTIFS('Base Maestra'!$A$42:$A$535,N981,'Base Maestra'!$B$42:$B$535,O981,'Base Maestra'!$C$42:$C$535,P981)>0,\"Correcto\",\"Revisar Catálogo\")),\"\")","v":""},{"$f":"IF(S981<>\"\", IF(COUNTIFS(\n     'Base Maestra'!$F$43:$F$54,H981,\n     'Base Maestra'!$G$43:$G$54,I981)>0, \"Correcto\", \"Revisar Catálogo\"), \"\")","v":""}]
[null,null,null,null,null,null,null,null,null,null,null,null,null,null,null,null,null,null,null,{"$f":"IF(S982<>\"\",(IF(COUNTIFS('Base Maestra'!$A$42:$A$535,N982,'Base Maestra'!$B$42:$B$535,O982,'Base Maestra'!$C$42:$C$535,P982)>0,\"Correcto\",\"Revisar Catálogo\")),\"\")","v":""},{"$f":"IF(S982<>\"\", IF(COUNTIFS(\n     'Base Maestra'!$F$43:$F$54,H982,\n     'Base Maestra'!$G$43:$G$54,I982)>0, \"Correcto\", \"Revisar Catálogo\"), \"\")","v":""}]
[null,null,null,null,null,null,null,null,null,null,null,null,null,null,null,null,null,null,null,{"$f":"IF(S983<>\"\",(IF(COUNTIFS('Base Maestra'!$A$42:$A$535,N983,'Base Maestra'!$B$42:$B$535,O983,'Base Maestra'!$C$42:$C$535,P983)>0,\"Correcto\",\"Revisar Catálogo\")),\"\")","v":""},{"$f":"IF(S983<>\"\", IF(COUNTIFS(\n     'Base Maestra'!$F$43:$F$54,H983,\n     'Base Maestra'!$G$43:$G$54,I983)>0, \"Correcto\", \"Revisar Catálogo\"), \"\")","v":""}]
[null,null,null,null,null,null,null,null,null,null,null,null,null,null,null,null,null,null,null,{"$f":"IF(S984<>\"\",(IF(COUNTIFS('Base Maestra'!$A$42:$A$535,N984,'Base Maestra'!$B$42:$B$535,O984,'Base Maestra'!$C$42:$C$535,P984)>0,\"Correcto\",\"Revisar Catálogo\")),\"\")","v":""},{"$f":"IF(S984<>\"\", IF(COUNTIFS(\n     'Base Maestra'!$F$43:$F$54,H984,\n     'Base Maestra'!$G$43:$G$54,I984)>0, \"Correcto\", \"Revisar Catálogo\"), \"\")","v":""}]
[null,null,null,null,null,null,null,null,null,null,null,null,null,null,null,null,null,null,null,{"$f":"IF(S985<>\"\",(IF(COUNTIFS('Base Maestra'!$A$42:$A$535,N985,'Base Maestra'!$B$42:$B$535,O985,'Base Maestra'!$C$42:$C$535,P985)>0,\"Correcto\",\"Revisar Catálogo\")),\"\")","v":""},{"$f":"IF(S985<>\"\", IF(COUNTIFS(\n     'Base Maestra'!$F$43:$F$54,H985,\n     'Base Maestra'!$G$43:$G$54,I985)>0, \"Correcto\", \"Revisar Catálogo\"), \"\")","v":""}]
[null,null,null,null,null,null,null,null,null,null,null,null,null,null,null,null,null,null,null,{"$f":"IF(S986<>\"\",(IF(COUNTIFS('Base Maestra'!$A$42:$A$535,N986,'Base Maestra'!$B$42:$B$535,O986,'Base Maestra'!$C$42:$C$535,P986)>0,\"Correcto\",\"Revisar Catálogo\")),\"\")","v":""},{"$f":"IF(S986<>\"\", IF(COUNTIFS(\n     'Base Maestra'!$F$43:$F$54,H986,\n     'Base Maestra'!$G$43:$G$54,I986)>0, \"Correcto\", \"Revisar Catálogo\"), \"\")","v":""}]
[null,null,null,null,null,null,null,null,null,null,null,null,null,null,null,null,null,null,null,{"$f":"IF(S987<>\"\",(IF(COUNTIFS('Base Maestra'!$A$42:$A$535,N987,'Base Maestra'!$B$42:$B$535,O987,'Base Maestra'!$C$42:$C$535,P987)>0,\"Correcto\",\"Revisar Catálogo\")),\"\")","v":""},{"$f":"IF(S987<>\"\", IF(COUNTIFS(\n     'Base Maestra'!$F$43:$F$54,H987,\n     'Base Maestra'!$G$43:$G$54,I987)>0, \"Correcto\", \"Revisar Catálogo\"), \"\")","v":""}]
[null,null,null,null,null,null,null,null,null,null,null,null,null,null,null,null,null,null,null,{"$f":"IF(S988<>\"\",(IF(COUNTIFS('Base Maestra'!$A$42:$A$535,N988,'Base Maestra'!$B$42:$B$535,O988,'Base Maestra'!$C$42:$C$535,P988)>0,\"Correcto\",\"Revisar Catálogo\")),\"\")","v":""},{"$f":"IF(S988<>\"\", IF(COUNTIFS(\n     'Base Maestra'!$F$43:$F$54,H988,\n     'Base Maestra'!$G$43:$G$54,I988)>0, \"Correcto\", \"Revisar Catálogo\"), \"\")","v":""}]
[null,null,null,null,null,null,null,null,null,null,null,null,null,null,null,null,null,null,null,{"$f":"IF(S989<>\"\",(IF(COUNTIFS('Base Maestra'!$A$42:$A$535,N989,'Base Maestra'!$B$42:$B$535,O989,'Base Maestra'!$C$42:$C$535,P989)>0,\"Correcto\",\"Revisar Catálogo\")),\"\")","v":""},{"$f":"IF(S989<>\"\", IF(COUNTIFS(\n     'Base Maestra'!$F$43:$F$54,H989,\n     'Base Maestra'!$G$43:$G$54,I989)>0, \"Correcto\", \"Revisar Catálogo\"), \"\")","v":""}]
[null,null,null,null,null,null,null,null,null,null,null,null,null,null,null,null,null,null,null,{"$f":"IF(S990<>\"\",(IF(COUNTIFS('Base Maestra'!$A$42:$A$535,N990,'Base Maestra'!$B$42:$B$535,O990,'Base Maestra'!$C$42:$C$535,P990)>0,\"Correcto\",\"Revisar Catálogo\")),\"\")","v":""},{"$f":"IF(S990<>\"\", IF(COUNTIFS(\n     'Base Maestra'!$F$43:$F$54,H990,\n     'Base Maestra'!$G$43:$G$54,I990)>0, \"Correcto\", \"Revisar Catálogo\"), \"\")","v":""}]
[null,null,null,null,null,null,null,null,null,null,null,null,null,null,null,null,null,null,null,{"$f":"IF(S991<>\"\",(IF(COUNTIFS('Base Maestra'!$A$42:$A$535,N991,'Base Maestra'!$B$42:$B$535,O991,'Base Maestra'!$C$42:$C$535,P991)>0,\"Correcto\",\"Revisar Catálogo\")),\"\")","v":""},{"$f":"IF(S991<>\"\", IF(COUNTIFS(\n     'Base Maestra'!$F$43:$F$54,H991,\n     'Base Maestra'!$G$43:$G$54,I991)>0, \"Correcto\", \"Revisar Catálogo\"), \"\")","v":""}]
[null,null,null,null,null,null,null,null,null,null,null,null,null,null,null,null,null,null,null,{"$f":"IF(S992<>\"\",(IF(COUNTIFS('Base Maestra'!$A$42:$A$535,N992,'Base Maestra'!$B$42:$B$535,O992,'Base Maestra'!$C$42:$C$535,P992)>0,\"Correcto\",\"Revisar Catálogo\")),\"\")","v":""},{"$f":"IF(S992<>\"\", IF(COUNTIFS(\n     'Base Maestra'!$F$43:$F$54,H992,\n     'Base Maestra'!$G$43:$G$54,I992)>0, \"Correcto\", \"Revisar Catálogo\"), \"\")","v":""}]
[null,null,null,null,null,null,null,null,null,null,null,null,null,null,null,null,null,null,null,{"$f":"IF(S993<>\"\",(IF(COUNTIFS('Base Maestra'!$A$42:$A$535,N993,'Base Maestra'!$B$42:$B$535,O993,'Base Maestra'!$C$42:$C$535,P993)>0,\"Correcto\",\"Revisar Catálogo\")),\"\")","v":""},{"$f":"IF(S993<>\"\", IF(COUNTIFS(\n     'Base Maestra'!$F$43:$F$54,H993,\n     'Base Maestra'!$G$43:$G$54,I993)>0, \"Correcto\", \"Revisar Catálogo\"), \"\")","v":""}]
[null,null,null,null,null,null,null,null,null,null,null,null,null,null,null,null,null,null,null,{"$f":"IF(S994<>\"\",(IF(COUNTIFS('Base Maestra'!$A$42:$A$535,N994,'Base Maestra'!$B$42:$B$535,O994,'Base Maestra'!$C$42:$C$535,P994)>0,\"Correcto\",\"Revisar Catálogo\")),\"\")","v":""},{"$f":"IF(S994<>\"\", IF(COUNTIFS(\n     'Base Maestra'!$F$43:$F$54,H994,\n     'Base Maestra'!$G$43:$G$54,I994)>0, \"Correcto\", \"Revisar Catálogo\"), \"\")","v":""}]
[null,null,null,null,null,null,null,null,null,null,null,null,null,null,null,null,null,null,null,{"$f":"IF(S995<>\"\",(IF(COUNTIFS('Base Maestra'!$A$42:$A$535,N995,'Base Maestra'!$B$42:$B$535,O995,'Base Maestra'!$C$42:$C$535,P995)>0,\"Correcto\",\"Revisar Catálogo\")),\"\")","v":""},{"$f":"IF(S995<>\"\", IF(COUNTIFS(\n     'Base Maestra'!$F$43:$F$54,H995,\n     'Base Maestra'!$G$43:$G$54,I995)>0, \"Correcto\", \"Revisar Catálogo\"), \"\")","v":""}]
[null,null,null,null,null,null,null,null,null,null,null,null,null,null,null,null,null,null,null,{"$f":"IF(S996<>\"\",(IF(COUNTIFS('Base Maestra'!$A$42:$A$535,N996,'Base Maestra'!$B$42:$B$535,O996,'Base Maestra'!$C$42:$C$535,P996)>0,\"Correcto\",\"Revisar Catálogo\")),\"\")","v":""},{"$f":"IF(S996<>\"\", IF(COUNTIFS(\n     'Base Maestra'!$F$43:$F$54,H996,\n     'Base Maestra'!$G$43:$G$54,I996)>0, \"Correcto\", \"Revisar Catálogo\"), \"\")","v":""}]
[null,null,null,null,null,null,null,null,null,null,null,null,null,null,null,null,null,null,null,{"$f":"IF(S997<>\"\",(IF(COUNTIFS('Base Maestra'!$A$42:$A$535,N997,'Base Maestra'!$B$42:$B$535,O997,'Base Maestra'!$C$42:$C$535,P997)>0,\"Correcto\",\"Revisar Catálogo\")),\"\")","v":""},{"$f":"IF(S997<>\"\", IF(COUNTIFS(\n     'Base Maestra'!$F$43:$F$54,H997,\n     'Base Maestra'!$G$43:$G$54,I997)>0, \"Correcto\", \"Revisar Catálogo\"), \"\")","v":""}]
[null,null,null,null,null,null,null,null,null,null,null,null,null,null,null,null,null,null,null,{"$f":"IF(S998<>\"\",(IF(COUNTIFS('Base Maestra'!$A$42:$A$535,N998,'Base Maestra'!$B$42:$B$535,O998,'Base Maestra'!$C$42:$C$535,P998)>0,\"Correcto\",\"Revisar Catálogo\")),\"\")","v":""},{"$f":"IF(S998<>\"\", IF(COUNTIFS(\n     'Base Maestra'!$F$43:$F$54,H998,\n     'Base Maestra'!$G$43:$G$54,I998)>0, \"Correcto\", \"Revisar Catálogo\"), \"\")","v":""}]
[null,null,null,null,null,null,null,null,null,null,null,null,null,null,null,null,null,null,null,{"$f":"IF(S999<>\"\",(IF(COUNTIFS('Base Maestra'!$A$42:$A$535,N999,'Base Maestra'!$B$42:$B$535,O999,'Base Maestra'!$C$42:$C$535,P999)>0,\"Correcto\",\"Revisar Catálogo\")),\"\")","v":""},{"$f":"IF(S999<>\"\", IF(COUNTIFS(\n     'Base Maestra'!$F$43:$F$54,H999,\n     'Base Maestra'!$G$43:$G$54,I999)>0, \"Correcto\", \"Revisar Catálogo\"), \"\")","v":""}]
[null,null,null,null,null,null,null,null,null,null,null,null,null,null,null,null,null,null,null,{"$f":"IF(S1000<>\"\",(IF(COUNTIFS('Base Maestra'!$A$42:$A$535,N1000,'Base Maestra'!$B$42:$B$535,O1000,'Base Maestra'!$C$42:$C$535,P1000)>0,\"Correcto\",\"Revisar Catálogo\")),\"\")","v":""},{"$f":"IF(S1000<>\"\", IF(COUNTIFS(\n     'Base Maestra'!$F$43:$F$54,H1000,\n     'Base Maestra'!$G$43:$G$54,I1000)>0, \"Correcto\", \"Revisar Catálogo\"), \"\")","v":""}]
[null,null,null,null,null,null,null,null,null,null,null,null,null,null,null,null,null,null,null,{"$f":"IF(S1001<>\"\",(IF(COUNTIFS('Base Maestra'!$A$42:$A$535,N1001,'Base Maestra'!$B$42:$B$535,O1001,'Base Maestra'!$C$42:$C$535,P1001)>0,\"Correcto\",\"Revisar Catálogo\")),\"\")","v":""},{"$f":"IF(S1001<>\"\", IF(COUNTIFS(\n     'Base Maestra'!$F$43:$F$54,H1001,\n     'Base Maestra'!$G$43:$G$54,I1001)>0, \"Correcto\", \"Revisar Catálogo\"), \"\")","v":""}]
[null,null,null,null,null,null,null,null,null,null,null,null,null,null,null,null,null,null,null,{"$f":"IF(S1002<>\"\",(IF(COUNTIFS('Base Maestra'!$A$42:$A$535,N1002,'Base Maestra'!$B$42:$B$535,O1002,'Base Maestra'!$C$42:$C$535,P1002)>0,\"Correcto\",\"Revisar Catálogo\")),\"\")","v":""},{"$f":"IF(S1002<>\"\", IF(COUNTIFS(\n     'Base Maestra'!$F$43:$F$54,H1002,\n     'Base Maestra'!$G$43:$G$54,I1002)>0, \"Correcto\", \"Revisar Catálogo\"), \"\")","v":""}]
[null,null,null,null,null,null,null,null,null,null,null,null,null,null,null,null,null,null,null,{"$f":"IF(S1003<>\"\",(IF(COUNTIFS('Base Maestra'!$A$42:$A$535,N1003,'Base Maestra'!$B$42:$B$535,O1003,'Base Maestra'!$C$42:$C$535,P1003)>0,\"Correcto\",\"Revisar Catálogo\")),\"\")","v":""},{"$f":"IF(S1003<>\"\", IF(COUNTIFS(\n     'Base Maestra'!$F$43:$F$54,H1003,\n     'Base Maestra'!$G$43:$G$54,I1003)>0, \"Correcto\", \"Revisar Catálogo\"), \"\")","v":""}]
[null,null,null,null,null,null,null,null,null,null,null,null,null,null,null,null,null,null,null,{"$f":"IF(S1004<>\"\",(IF(COUNTIFS('Base Maestra'!$A$42:$A$535,N1004,'Base Maestra'!$B$42:$B$535,O1004,'Base Maestra'!$C$42:$C$535,P1004)>0,\"Correcto\",\"Revisar Catálogo\")),\"\")","v":""},{"$f":"IF(S1004<>\"\", IF(COUNTIFS(\n     'Base Maestra'!$F$43:$F$54,H1004,\n     'Base Maestra'!$G$43:$G$54,I1004)>0, \"Correcto\", \"Revisar Catálogo\"), \"\")","v":""}]
[null,null,null,null,null,null,null,null,null,null,null,null,null,null,null,null,null,null,null,{"$f":"IF(S1005<>\"\",(IF(COUNTIFS('Base Maestra'!$A$42:$A$535,N1005,'Base Maestra'!$B$42:$B$535,O1005,'Base Maestra'!$C$42:$C$535,P1005)>0,\"Correcto\",\"Revisar Catálogo\")),\"\")","v":""},{"$f":"IF(S1005<>\"\", IF(COUNTIFS(\n     'Base Maestra'!$F$43:$F$54,H1005,\n     'Base Maestra'!$G$43:$G$54,I1005)>0, \"Correcto\", \"Revisar Catálogo\"), \"\")","v":""}]
[null,null,null,null,null,null,null,null,null,null,null,null,null,null,null,null,null,null,null,{"$f":"IF(S1006<>\"\",(IF(COUNTIFS('Base Maestra'!$A$42:$A$535,N1006,'Base Maestra'!$B$42:$B$535,O1006,'Base Maestra'!$C$42:$C$535,P1006)>0,\"Correcto\",\"Revisar Catálogo\")),\"\")","v":""},{"$f":"IF(S1006<>\"\", IF(COUNTIFS(\n     'Base Maestra'!$F$43:$F$54,H1006,\n     'Base Maestra'!$G$43:$G$54,I1006)>0, \"Correcto\", \"Revisar Catálogo\"), \"\")","v":""}]
[null,null,null,null,null,null,null,null,null,null,null,null,null,null,null,null,null,null,null,{"$f":"IF(S1007<>\"\",(IF(COUNTIFS('Base Maestra'!$A$42:$A$535,N1007,'Base Maestra'!$B$42:$B$535,O1007,'Base Maestra'!$C$42:$C$535,P1007)>0,\"Correcto\",\"Revisar Catálogo\")),\"\")","v":""},{"$f":"IF(S1007<>\"\", IF(COUNTIFS(\n     'Base Maestra'!$F$43:$F$54,H1007,\n     'Base Maestra'!$G$43:$G$54,I1007)>0, \"Correcto\", \"Revisar Catálogo\"), \"\")","v":""}]
[null,null,null,null,null,null,null,null,null,null,null,null,null,null,null,null,null,null,null,{"$f":"IF(S1008<>\"\",(IF(COUNTIFS('Base Maestra'!$A$42:$A$535,N1008,'Base Maestra'!$B$42:$B$535,O1008,'Base Maestra'!$C$42:$C$535,P1008)>0,\"Correcto\",\"Revisar Catálogo\")),\"\")","v":""},{"$f":"IF(S1008<>\"\", IF(COUNTIFS(\n     'Base Maestra'!$F$43:$F$54,H1008,\n     'Base Maestra'!$G$43:$G$54,I1008)>0, \"Correcto\", \"Revisar Catálogo\"), \"\")","v":""}]
[null,null,null,null,null,null,null,null,null,null,null,null,null,null,null,null,null,null,null,{"$f":"IF(S1009<>\"\",(IF(COUNTIFS('Base Maestra'!$A$42:$A$535,N1009,'Base Maestra'!$B$42:$B$535,O1009,'Base Maestra'!$C$42:$C$535,P1009)>0,\"Correcto\",\"Revisar Catálogo\")),\"\")","v":""},{"$f":"IF(S1009<>\"\", IF(COUNTIFS(\n     'Base Maestra'!$F$43:$F$54,H1009,\n     'Base Maestra'!$G$43:$G$54,I1009)>0, \"Correcto\", \"Revisar Catálogo\"), \"\")","v":""}]
[null,null,null,null,null,null,null,null,null,null,null,null,null,null,null,null,null,null,null,{"$f":"IF(S1010<>\"\",(IF(COUNTIFS('Base Maestra'!$A$42:$A$535,N1010,'Base Maestra'!$B$42:$B$535,O1010,'Base Maestra'!$C$42:$C$535,P1010)>0,\"Correcto\",\"Revisar Catálogo\")),\"\")","v":""},{"$f":"IF(S1010<>\"\", IF(COUNTIFS(\n     'Base Maestra'!$F$43:$F$54,H1010,\n     'Base Maestra'!$G$43:$G$54,I1010)>0, \"Correcto\", \"Revisar Catálogo\"), \"\")","v":""}]
[null,null,null,null,null,null,null,null,null,null,null,null,null,null,null,null,null,null,null,{"$f":"IF(S1011<>\"\",(IF(COUNTIFS('Base Maestra'!$A$42:$A$535,N1011,'Base Maestra'!$B$42:$B$535,O1011,'Base Maestra'!$C$42:$C$535,P1011)>0,\"Correcto\",\"Revisar Catálogo\")),\"\")","v":""},{"$f":"IF(S1011<>\"\", IF(COUNTIFS(\n     'Base Maestra'!$F$43:$F$54,H1011,\n     'Base Maestra'!$G$43:$G$54,I1011)>0, \"Correcto\", \"Revisar Catálogo\"), \"\")","v":""}]
[null,null,null,null,null,null,null,null,null,null,null,null,null,null,null,null,null,null,null,{"$f":"IF(S1012<>\"\",(IF(COUNTIFS('Base Maestra'!$A$42:$A$535,N1012,'Base Maestra'!$B$42:$B$535,O1012,'Base Maestra'!$C$42:$C$535,P1012)>0,\"Correcto\",\"Revisar Catálogo\")),\"\")","v":""},{"$f":"IF(S1012<>\"\", IF(COUNTIFS(\n     'Base Maestra'!$F$43:$F$54,H1012,\n     'Base Maestra'!$G$43:$G$54,I1012)>0, \"Correcto\", \"Revisar Catálogo\"), \"\")","v":""}]
[null,null,null,null,null,null,null,null,null,null,null,null,null,null,null,null,null,null,null,{"$f":"IF(S1013<>\"\",(IF(COUNTIFS('Base Maestra'!$A$42:$A$535,N1013,'Base Maestra'!$B$42:$B$535,O1013,'Base Maestra'!$C$42:$C$535,P1013)>0,\"Correcto\",\"Revisar Catálogo\")),\"\")","v":""},{"$f":"IF(S1013<>\"\", IF(COUNTIFS(\n     'Base Maestra'!$F$43:$F$54,H1013,\n     'Base Maestra'!$G$43:$G$54,I1013)>0, \"Correcto\", \"Revisar Catálogo\"), \"\")","v":""}]
[null,null,null,null,null,null,null,null,null,null,null,null,null,null,null,null,null,null,null,{"$f":"IF(S1014<>\"\",(IF(COUNTIFS('Base Maestra'!$A$42:$A$535,N1014,'Base Maestra'!$B$42:$B$535,O1014,'Base Maestra'!$C$42:$C$535,P1014)>0,\"Correcto\",\"Revisar Catálogo\")),\"\")","v":""},{"$f":"IF(S1014<>\"\", IF(COUNTIFS(\n     'Base Maestra'!$F$43:$F$54,H1014,\n     'Base Maestra'!$G$43:$G$54,I1014)>0, \"Correcto\", \"Revisar Catálogo\"), \"\")","v":""}]
[null,null,null,null,null,null,null,null,null,null,null,null,null,null,null,null,null,null,null,{"$f":"IF(S1015<>\"\",(IF(COUNTIFS('Base Maestra'!$A$42:$A$535,N1015,'Base Maestra'!$B$42:$B$535,O1015,'Base Maestra'!$C$42:$C$535,P1015)>0,\"Correcto\",\"Revisar Catálogo\")),\"\")","v":""},{"$f":"IF(S1015<>\"\", IF(COUNTIFS(\n     'Base Maestra'!$F$43:$F$54,H1015,\n     'Base Maestra'!$G$43:$G$54,I1015)>0, \"Correcto\", \"Revisar Catálogo\"), \"\")","v":""}]
[null,null,null,null,null,null,null,null,null,null,null,null,null,null,null,null,null,null,null,{"$f":"IF(S1016<>\"\",(IF(COUNTIFS('Base Maestra'!$A$42:$A$535,N1016,'Base Maestra'!$B$42:$B$535,O1016,'Base Maestra'!$C$42:$C$535,P1016)>0,\"Correcto\",\"Revisar Catálogo\")),\"\")","v":""},{"$f":"IF(S1016<>\"\", IF(COUNTIFS(\n     'Base Maestra'!$F$43:$F$54,H1016,\n     'Base Maestra'!$G$43:$G$54,I1016)>0, \"Correcto\", \"Revisar Catálogo\"), \"\")","v":""}]
[null,null,null,null,null,null,null,null,null,null,null,null,null,null,null,null,null,null,null,{"$f":"IF(S1017<>\"\",(IF(COUNTIFS('Base Maestra'!$A$42:$A$535,N1017,'Base Maestra'!$B$42:$B$535,O1017,'Base Maestra'!$C$42:$C$535,P1017)>0,\"Correcto\",\"Revisar Catálogo\")),\"\")","v":""},{"$f":"IF(S1017<>\"\", IF(COUNTIFS(\n     'Base Maestra'!$F$43:$F$54,H1017,\n     'Base Maestra'!$G$43:$G$54,I1017)>0, \"Correcto\", \"Revisar Catálogo\"), \"\")","v":""}]
[null,null,null,null,null,null,null,null,null,null,null,null,null,null,null,null,null,null,null,{"$f":"IF(S1018<>\"\",(IF(COUNTIFS('Base Maestra'!$A$42:$A$535,N1018,'Base Maestra'!$B$42:$B$535,O1018,'Base Maestra'!$C$42:$C$535,P1018)>0,\"Correcto\",\"Revisar Catálogo\")),\"\")","v":""},{"$f":"IF(S1018<>\"\", IF(COUNTIFS(\n     'Base Maestra'!$F$43:$F$54,H1018,\n     'Base Maestra'!$G$43:$G$54,I1018)>0, \"Correcto\", \"Revisar Catálogo\"), \"\")","v":""}]
[null,null,null,null,null,null,null,null,null,null,null,null,null,null,null,null,null,null,null,{"$f":"IF(S1019<>\"\",(IF(COUNTIFS('Base Maestra'!$A$42:$A$535,N1019,'Base Maestra'!$B$42:$B$535,O1019,'Base Maestra'!$C$42:$C$535,P1019)>0,\"Correcto\",\"Revisar Catálogo\")),\"\")","v":""},{"$f":"IF(S1019<>\"\", IF(COUNTIFS(\n     'Base Maestra'!$F$43:$F$54,H1019,\n     'Base Maestra'!$G$43:$G$54,I1019)>0, \"Correcto\", \"Revisar Catálogo\"), \"\")","v":""}]
[null,null,null,null,null,null,null,null,null,null,null,null,null,null,null,null,null,null,null,{"$f":"IF(S1020<>\"\",(IF(COUNTIFS('Base Maestra'!$A$42:$A$535,N1020,'Base Maestra'!$B$42:$B$535,O1020,'Base Maestra'!$C$42:$C$535,P1020)>0,\"Correcto\",\"Revisar Catálogo\")),\"\")","v":""},{"$f":"IF(S1020<>\"\", IF(COUNTIFS(\n     'Base Maestra'!$F$43:$F$54,H1020,\n     'Base Maestra'!$G$43:$G$54,I1020)>0, \"Correcto\", \"Revisar Catálogo\"), \"\")","v":""}]
[null,null,null,null,null,null,null,null,null,null,null,null,null,null,null,null,null,null,null,{"$f":"IF(S1021<>\"\",(IF(COUNTIFS('Base Maestra'!$A$42:$A$535,N1021,'Base Maestra'!$B$42:$B$535,O1021,'Base Maestra'!$C$42:$C$535,P1021)>0,\"Correcto\",\"Revisar Catálogo\")),\"\")","v":""},{"$f":"IF(S1021<>\"\", IF(COUNTIFS(\n     'Base Maestra'!$F$43:$F$54,H1021,\n     'Base Maestra'!$G$43:$G$54,I1021)>0, \"Correcto\", \"Revisar Catálogo\"), \"\")","v":""}]
[null,null,null,null,null,null,null,null,null,null,null,null,null,null,null,null,null,null,null,{"$f":"IF(S1022<>\"\",(IF(COUNTIFS('Base Maestra'!$A$42:$A$535,N1022,'Base Maestra'!$B$42:$B$535,O1022,'Base Maestra'!$C$42:$C$535,P1022)>0,\"Correcto\",\"Revisar Catálogo\")),\"\")","v":""},{"$f":"IF(S1022<>\"\", IF(COUNTIFS(\n     'Base Maestra'!$F$43:$F$54,H1022,\n     'Base Maestra'!$G$43:$G$54,I1022)>0, \"Correcto\", \"Revisar Catálogo\"), \"\")","v":""}]
[null,null,null,null,null,null,null,null,null,null,null,null,null,null,null,null,null,null,null,{"$f":"IF(S1023<>\"\",(IF(COUNTIFS('Base Maestra'!$A$42:$A$535,N1023,'Base Maestra'!$B$42:$B$535,O1023,'Base Maestra'!$C$42:$C$535,P1023)>0,\"Correcto\",\"Revisar Catálogo\")),\"\")","v":""},{"$f":"IF(S1023<>\"\", IF(COUNTIFS(\n     'Base Maestra'!$F$43:$F$54,H1023,\n     'Base Maestra'!$G$43:$G$54,I1023)>0, \"Correcto\", \"Revisar Catálogo\"), \"\")","v":""}]
[null,null,null,null,null,null,null,null,null,null,null,null,null,null,null,null,null,null,null,{"$f":"IF(S1024<>\"\",(IF(COUNTIFS('Base Maestra'!$A$42:$A$535,N1024,'Base Maestra'!$B$42:$B$535,O1024,'Base Maestra'!$C$42:$C$535,P1024)>0,\"Correcto\",\"Revisar Catálogo\")),\"\")","v":""},{"$f":"IF(S1024<>\"\", IF(COUNTIFS(\n     'Base Maestra'!$F$43:$F$54,H1024,\n     'Base Maestra'!$G$43:$G$54,I1024)>0, \"Correcto\", \"Revisar Catálogo\"), \"\")","v":""}]
[null,null,null,null,null,null,null,null,null,null,null,null,null,null,null,null,null,null,null,{"$f":"IF(S1025<>\"\",(IF(COUNTIFS('Base Maestra'!$A$42:$A$535,N1025,'Base Maestra'!$B$42:$B$535,O1025,'Base Maestra'!$C$42:$C$535,P1025)>0,\"Correcto\",\"Revisar Catálogo\")),\"\")","v":""},{"$f":"IF(S1025<>\"\", IF(COUNTIFS(\n     'Base Maestra'!$F$43:$F$54,H1025,\n     'Base Maestra'!$G$43:$G$54,I1025)>0, \"Correcto\", \"Revisar Catálogo\"), \"\")","v":""}]
[null,null,null,null,null,null,null,null,null,null,null,null,null,null,null,null,null,null,null,{"$f":"IF(S1026<>\"\",(IF(COUNTIFS('Base Maestra'!$A$42:$A$535,N1026,'Base Maestra'!$B$42:$B$535,O1026,'Base Maestra'!$C$42:$C$535,P1026)>0,\"Correcto\",\"Revisar Catálogo\")),\"\")","v":""},{"$f":"IF(S1026<>\"\", IF(COUNTIFS(\n     'Base Maestra'!$F$43:$F$54,H1026,\n     'Base Maestra'!$G$43:$G$54,I1026)>0, \"Correcto\", \"Revisar Catálogo\"), \"\")","v":""}]
[null,null,null,null,null,null,null,null,null,null,null,null,null,null,null,null,null,null,null,{"$f":"IF(S1027<>\"\",(IF(COUNTIFS('Base Maestra'!$A$42:$A$535,N1027,'Base Maestra'!$B$42:$B$535,O1027,'Base Maestra'!$C$42:$C$535,P1027)>0,\"Correcto\",\"Revisar Catálogo\")),\"\")","v":""},{"$f":"IF(S1027<>\"\", IF(COUNTIFS(\n     'Base Maestra'!$F$43:$F$54,H1027,\n     'Base Maestra'!$G$43:$G$54,I1027)>0, \"Correcto\", \"Revisar Catálogo\"), \"\")","v":""}]
[null,null,null,null,null,null,null,null,null,null,null,null,null,null,null,null,null,null,null,{"$f":"IF(S1028<>\"\",(IF(COUNTIFS('Base Maestra'!$A$42:$A$535,N1028,'Base Maestra'!$B$42:$B$535,O1028,'Base Maestra'!$C$42:$C$535,P1028)>0,\"Correcto\",\"Revisar Catálogo\")),\"\")","v":""},{"$f":"IF(S1028<>\"\", IF(COUNTIFS(\n     'Base Maestra'!$F$43:$F$54,H1028,\n     'Base Maestra'!$G$43:$G$54,I1028)>0, \"Correcto\", \"Revisar Catálogo\"), \"\")","v":""}]
[null,null,null,null,null,null,null,null,null,null,null,null,null,null,null,null,null,null,null,{"$f":"IF(S1029<>\"\",(IF(COUNTIFS('Base Maestra'!$A$42:$A$535,N1029,'Base Maestra'!$B$42:$B$535,O1029,'Base Maestra'!$C$42:$C$535,P1029)>0,\"Correcto\",\"Revisar Catálogo\")),\"\")","v":""},{"$f":"IF(S1029<>\"\", IF(COUNTIFS(\n     'Base Maestra'!$F$43:$F$54,H1029,\n     'Base Maestra'!$G$43:$G$54,I1029)>0, \"Correcto\", \"Revisar Catálogo\"), \"\")","v":""}]
[null,null,null,null,null,null,null,null,null,null,null,null,null,null,null,null,null,null,null,{"$f":"IF(S1030<>\"\",(IF(COUNTIFS('Base Maestra'!$A$42:$A$535,N1030,'Base Maestra'!$B$42:$B$535,O1030,'Base Maestra'!$C$42:$C$535,P1030)>0,\"Correcto\",\"Revisar Catálogo\")),\"\")","v":""},{"$f":"IF(S1030<>\"\", IF(COUNTIFS(\n     'Base Maestra'!$F$43:$F$54,H1030,\n     'Base Maestra'!$G$43:$G$54,I1030)>0, \"Correcto\", \"Revisar Catálogo\"), \"\")","v":""}]
[null,null,null,null,null,null,null,null,null,null,null,null,null,null,null,null,null,null,null,{"$f":"IF(S1031<>\"\",(IF(COUNTIFS('Base Maestra'!$A$42:$A$535,N1031,'Base Maestra'!$B$42:$B$535,O1031,'Base Maestra'!$C$42:$C$535,P1031)>0,\"Correcto\",\"Revisar Catálogo\")),\"\")","v":""},{"$f":"IF(S1031<>\"\", IF(COUNTIFS(\n     'Base Maestra'!$F$43:$F$54,H1031,\n     'Base Maestra'!$G$43:$G$54,I1031)>0, \"Correcto\", \"Revisar Catálogo\"), \"\")","v":""}]
[null,null,null,null,null,null,null,null,null,null,null,null,null,null,null,null,null,null,null,{"$f":"IF(S1032<>\"\",(IF(COUNTIFS('Base Maestra'!$A$42:$A$535,N1032,'Base Maestra'!$B$42:$B$535,O1032,'Base Maestra'!$C$42:$C$535,P1032)>0,\"Correcto\",\"Revisar Catálogo\")),\"\")","v":""},{"$f":"IF(S1032<>\"\", IF(COUNTIFS(\n     'Base Maestra'!$F$43:$F$54,H1032,\n     'Base Maestra'!$G$43:$G$54,I1032)>0, \"Correcto\", \"Revisar Catálogo\"), \"\")","v":""}]
[null,null,null,null,null,null,null,null,null,null,null,null,null,null,null,null,null,null,null,{"$f":"IF(S1033<>\"\",(IF(COUNTIFS('Base Maestra'!$A$42:$A$535,N1033,'Base Maestra'!$B$42:$B$535,O1033,'Base Maestra'!$C$42:$C$535,P1033)>0,\"Correcto\",\"Revisar Catálogo\")),\"\")","v":""},{"$f":"IF(S1033<>\"\", IF(COUNTIFS(\n     'Base Maestra'!$F$43:$F$54,H1033,\n     'Base Maestra'!$G$43:$G$54,I1033)>0, \"Correcto\", \"Revisar Catálogo\"), \"\")","v":""}]
[null,null,null,null,null,null,null,null,null,null,null,null,null,null,null,null,null,null,null,{"$f":"IF(S1034<>\"\",(IF(COUNTIFS('Base Maestra'!$A$42:$A$535,N1034,'Base Maestra'!$B$42:$B$535,O1034,'Base Maestra'!$C$42:$C$535,P1034)>0,\"Correcto\",\"Revisar Catálogo\")),\"\")","v":""},{"$f":"IF(S1034<>\"\", IF(COUNTIFS(\n     'Base Maestra'!$F$43:$F$54,H1034,\n     'Base Maestra'!$G$43:$G$54,I1034)>0, \"Correcto\", \"Revisar Catálogo\"), \"\")","v":""}]
[null,null,null,null,null,null,null,null,null,null,null,null,null,null,null,null,null,null,null,{"$f":"IF(S1035<>\"\",(IF(COUNTIFS('Base Maestra'!$A$42:$A$535,N1035,'Base Maestra'!$B$42:$B$535,O1035,'Base Maestra'!$C$42:$C$535,P1035)>0,\"Correcto\",\"Revisar Catálogo\")),\"\")","v":""},{"$f":"IF(S1035<>\"\", IF(COUNTIFS(\n     'Base Maestra'!$F$43:$F$54,H1035,\n     'Base Maestra'!$G$43:$G$54,I1035)>0, \"Correcto\", \"Revisar Catálogo\"), \"\")","v":""}]
[null,null,null,null,null,null,null,null,null,null,null,null,null,null,null,null,null,null,null,{"$f":"IF(S1036<>\"\",(IF(COUNTIFS('Base Maestra'!$A$42:$A$535,N1036,'Base Maestra'!$B$42:$B$535,O1036,'Base Maestra'!$C$42:$C$535,P1036)>0,\"Correcto\",\"Revisar Catálogo\")),\"\")","v":""},{"$f":"IF(S1036<>\"\", IF(COUNTIFS(\n     'Base Maestra'!$F$43:$F$54,H1036,\n     'Base Maestra'!$G$43:$G$54,I1036)>0, \"Correcto\", \"Revisar Catálogo\"), \"\")","v":""}]
[null,null,null,null,null,null,null,null,null,null,null,null,null,null,null,null,null,null,null,{"$f":"IF(S1037<>\"\",(IF(COUNTIFS('Base Maestra'!$A$42:$A$535,N1037,'Base Maestra'!$B$42:$B$535,O1037,'Base Maestra'!$C$42:$C$535,P1037)>0,\"Correcto\",\"Revisar Catálogo\")),\"\")","v":""},{"$f":"IF(S1037<>\"\", IF(COUNTIFS(\n     'Base Maestra'!$F$43:$F$54,H1037,\n     'Base Maestra'!$G$43:$G$54,I1037)>0, \"Correcto\", \"Revisar Catálogo\"), \"\")","v":""}]
[null,null,null,null,null,null,null,null,null,null,null,null,null,null,null,null,null,null,null,{"$f":"IF(S1038<>\"\",(IF(COUNTIFS('Base Maestra'!$A$42:$A$535,N1038,'Base Maestra'!$B$42:$B$535,O1038,'Base Maestra'!$C$42:$C$535,P1038)>0,\"Correcto\",\"Revisar Catálogo\")),\"\")","v":""},{"$f":"IF(S1038<>\"\", IF(COUNTIFS(\n     'Base Maestra'!$F$43:$F$54,H1038,\n     'Base Maestra'!$G$43:$G$54,I1038)>0, \"Correcto\", \"Revisar Catálogo\"), \"\")","v":""}]
[null,null,null,null,null,null,null,null,null,null,null,null,null,null,null,null,null,null,null,{"$f":"IF(S1039<>\"\",(IF(COUNTIFS('Base Maestra'!$A$42:$A$535,N1039,'Base Maestra'!$B$42:$B$535,O1039,'Base Maestra'!$C$42:$C$535,P1039)>0,\"Correcto\",\"Revisar Catálogo\")),\"\")","v":""},{"$f":"IF(S1039<>\"\", IF(COUNTIFS(\n     'Base Maestra'!$F$43:$F$54,H1039,\n     'Base Maestra'!$G$43:$G$54,I1039)>0, \"Correcto\", \"Revisar Catálogo\"), \"\")","v":""}]
[null,null,null,null,null,null,null,null,null,null,null,null,null,null,null,null,null,null,null,{"$f":"IF(S1040<>\"\",(IF(COUNTIFS('Base Maestra'!$A$42:$A$535,N1040,'Base Maestra'!$B$42:$B$535,O1040,'Base Maestra'!$C$42:$C$535,P1040)>0,\"Correcto\",\"Revisar Catálogo\")),\"\")","v":""},{"$f":"IF(S1040<>\"\", IF(COUNTIFS(\n     'Base Maestra'!$F$43:$F$54,H1040,\n     'Base Maestra'!$G$43:$G$54,I1040)>0, \"Correcto\", \"Revisar Catálogo\"), \"\")","v":""}]
[null,null,null,null,null,null,null,null,null,null,null,null,null,null,null,null,null,null,null,{"$f":"IF(S1041<>\"\",(IF(COUNTIFS('Base Maestra'!$A$42:$A$535,N1041,'Base Maestra'!$B$42:$B$535,O1041,'Base Maestra'!$C$42:$C$535,P1041)>0,\"Correcto\",\"Revisar Catálogo\")),\"\")","v":""},{"$f":"IF(S1041<>\"\", IF(COUNTIFS(\n     'Base Maestra'!$F$43:$F$54,H1041,\n     'Base Maestra'!$G$43:$G$54,I1041)>0, \"Correcto\", \"Revisar Catálogo\"), \"\")","v":""}]
[null,null,null,null,null,null,null,null,null,null,null,null,null,null,null,null,null,null,null,{"$f":"IF(S1042<>\"\",(IF(COUNTIFS('Base Maestra'!$A$42:$A$535,N1042,'Base Maestra'!$B$42:$B$535,O1042,'Base Maestra'!$C$42:$C$535,P1042)>0,\"Correcto\",\"Revisar Catálogo\")),\"\")","v":""},{"$f":"IF(S1042<>\"\", IF(COUNTIFS(\n     'Base Maestra'!$F$43:$F$54,H1042,\n     'Base Maestra'!$G$43:$G$54,I1042)>0, \"Correcto\", \"Revisar Catálogo\"), \"\")","v":""}]
[null,null,null,null,null,null,null,null,null,null,null,null,null,null,null,null,null,null,null,{"$f":"IF(S1043<>\"\",(IF(COUNTIFS('Base Maestra'!$A$42:$A$535,N1043,'Base Maestra'!$B$42:$B$535,O1043,'Base Maestra'!$C$42:$C$535,P1043)>0,\"Correcto\",\"Revisar Catálogo\")),\"\")","v":""},{"$f":"IF(S1043<>\"\", IF(COUNTIFS(\n     'Base Maestra'!$F$43:$F$54,H1043,\n     'Base Maestra'!$G$43:$G$54,I1043)>0, \"Correcto\", \"Revisar Catálogo\"), \"\")","v":""}]
[null,null,null,null,null,null,null,null,null,null,null,null,null,null,null,null,null,null,null,{"$f":"IF(S1044<>\"\",(IF(COUNTIFS('Base Maestra'!$A$42:$A$535,N1044,'Base Maestra'!$B$42:$B$535,O1044,'Base Maestra'!$C$42:$C$535,P1044)>0,\"Correcto\",\"Revisar Catálogo\")),\"\")","v":""},{"$f":"IF(S1044<>\"\", IF(COUNTIFS(\n     'Base Maestra'!$F$43:$F$54,H1044,\n     'Base Maestra'!$G$43:$G$54,I1044)>0, \"Correcto\", \"Revisar Catálogo\"), \"\")","v":""}]
[null,null,null,null,null,null,null,null,null,null,null,null,null,null,null,null,null,null,null,{"$f":"IF(S1045<>\"\",(IF(COUNTIFS('Base Maestra'!$A$42:$A$535,N1045,'Base Maestra'!$B$42:$B$535,O1045,'Base Maestra'!$C$42:$C$535,P1045)>0,\"Correcto\",\"Revisar Catálogo\")),\"\")","v":""},{"$f":"IF(S1045<>\"\", IF(COUNTIFS(\n     'Base Maestra'!$F$43:$F$54,H1045,\n     'Base Maestra'!$G$43:$G$54,I1045)>0, \"Correcto\", \"Revisar Catálogo\"), \"\")","v":""}]
[null,null,null,null,null,null,null,null,null,null,null,null,null,null,null,null,null,null,null,{"$f":"IF(S1046<>\"\",(IF(COUNTIFS('Base Maestra'!$A$42:$A$535,N1046,'Base Maestra'!$B$42:$B$535,O1046,'Base Maestra'!$C$42:$C$535,P1046)>0,\"Correcto\",\"Revisar Catálogo\")),\"\")","v":""},{"$f":"IF(S1046<>\"\", IF(COUNTIFS(\n     'Base Maestra'!$F$43:$F$54,H1046,\n     'Base Maestra'!$G$43:$G$54,I1046)>0, \"Correcto\", \"Revisar Catálogo\"), \"\")","v":""}]
[null,null,null,null,null,null,null,null,null,null,null,null,null,null,null,null,null,null,null,{"$f":"IF(S1047<>\"\",(IF(COUNTIFS('Base Maestra'!$A$42:$A$535,N1047,'Base Maestra'!$B$42:$B$535,O1047,'Base Maestra'!$C$42:$C$535,P1047)>0,\"Correcto\",\"Revisar Catálogo\")),\"\")","v":""},{"$f":"IF(S1047<>\"\", IF(COUNTIFS(\n     'Base Maestra'!$F$43:$F$54,H1047,\n     'Base Maestra'!$G$43:$G$54,I1047)>0, \"Correcto\", \"Revisar Catálogo\"), \"\")","v":""}]
[null,null,null,null,null,null,null,null,null,null,null,null,null,null,null,null,null,null,null,{"$f":"IF(S1048<>\"\",(IF(COUNTIFS('Base Maestra'!$A$42:$A$535,N1048,'Base Maestra'!$B$42:$B$535,O1048,'Base Maestra'!$C$42:$C$535,P1048)>0,\"Correcto\",\"Revisar Catálogo\")),\"\")","v":""},{"$f":"IF(S1048<>\"\", IF(COUNTIFS(\n     'Base Maestra'!$F$43:$F$54,H1048,\n     'Base Maestra'!$G$43:$G$54,I1048)>0, \"Correcto\", \"Revisar Catálogo\"), \"\")","v":""}]
[null,null,null,null,null,null,null,null,null,null,null,null,null,null,null,null,null,null,null,{"$f":"IF(S1049<>\"\",(IF(COUNTIFS('Base Maestra'!$A$42:$A$535,N1049,'Base Maestra'!$B$42:$B$535,O1049,'Base Maestra'!$C$42:$C$535,P1049)>0,\"Correcto\",\"Revisar Catálogo\")),\"\")","v":""},{"$f":"IF(S1049<>\"\", IF(COUNTIFS(\n     'Base Maestra'!$F$43:$F$54,H1049,\n     'Base Maestra'!$G$43:$G$54,I1049)>0, \"Correcto\", \"Revisar Catálogo\"), \"\")","v":""}]
[null,null,null,null,null,null,null,null,null,null,null,null,null,null,null,null,null,null,null,{"$f":"IF(S1050<>\"\",(IF(COUNTIFS('Base Maestra'!$A$42:$A$535,N1050,'Base Maestra'!$B$42:$B$535,O1050,'Base Maestra'!$C$42:$C$535,P1050)>0,\"Correcto\",\"Revisar Catálogo\")),\"\")","v":""},{"$f":"IF(S1050<>\"\", IF(COUNTIFS(\n     'Base Maestra'!$F$43:$F$54,H1050,\n     'Base Maestra'!$G$43:$G$54,I1050)>0, \"Correcto\", \"Revisar Catálogo\"), \"\")","v":""}]
[null,null,null,null,null,null,null,null,null,null,null,null,null,null,null,null,null,null,null,{"$f":"IF(S1051<>\"\",(IF(COUNTIFS('Base Maestra'!$A$42:$A$535,N1051,'Base Maestra'!$B$42:$B$535,O1051,'Base Maestra'!$C$42:$C$535,P1051)>0,\"Correcto\",\"Revisar Catálogo\")),\"\")","v":""},{"$f":"IF(S1051<>\"\", IF(COUNTIFS(\n     'Base Maestra'!$F$43:$F$54,H1051,\n     'Base Maestra'!$G$43:$G$54,I1051)>0, \"Correcto\", \"Revisar Catálogo\"), \"\")","v":""}]
[null,null,null,null,null,null,null,null,null,null,null,null,null,null,null,null,null,null,null,{"$f":"IF(S1052<>\"\",(IF(COUNTIFS('Base Maestra'!$A$42:$A$535,N1052,'Base Maestra'!$B$42:$B$535,O1052,'Base Maestra'!$C$42:$C$535,P1052)>0,\"Correcto\",\"Revisar Catálogo\")),\"\")","v":""},{"$f":"IF(S1052<>\"\", IF(COUNTIFS(\n     'Base Maestra'!$F$43:$F$54,H1052,\n     'Base Maestra'!$G$43:$G$54,I1052)>0, \"Correcto\", \"Revisar Catálogo\"), \"\")","v":""}]
[null,null,null,null,null,null,null,null,null,null,null,null,null,null,null,null,null,null,null,{"$f":"IF(S1053<>\"\",(IF(COUNTIFS('Base Maestra'!$A$42:$A$535,N1053,'Base Maestra'!$B$42:$B$535,O1053,'Base Maestra'!$C$42:$C$535,P1053)>0,\"Correcto\",\"Revisar Catálogo\")),\"\")","v":""},{"$f":"IF(S1053<>\"\", IF(COUNTIFS(\n     'Base Maestra'!$F$43:$F$54,H1053,\n     'Base Maestra'!$G$43:$G$54,I1053)>0, \"Correcto\", \"Revisar Catálogo\"), \"\")","v":""}]
[null,null,null,null,null,null,null,null,null,null,null,null,null,null,null,null,null,null,null,{"$f":"IF(S1054<>\"\",(IF(COUNTIFS('Base Maestra'!$A$42:$A$535,N1054,'Base Maestra'!$B$42:$B$535,O1054,'Base Maestra'!$C$42:$C$535,P1054)>0,\"Correcto\",\"Revisar Catálogo\")),\"\")","v":""},{"$f":"IF(S1054<>\"\", IF(COUNTIFS(\n     'Base Maestra'!$F$43:$F$54,H1054,\n     'Base Maestra'!$G$43:$G$54,I1054)>0, \"Correcto\", \"Revisar Catálogo\"), \"\")","v":""}]
[null,null,null,null,null,null,null,null,null,null,null,null,null,null,null,null,null,null,null,{"$f":"IF(S1055<>\"\",(IF(COUNTIFS('Base Maestra'!$A$42:$A$535,N1055,'Base Maestra'!$B$42:$B$535,O1055,'Base Maestra'!$C$42:$C$535,P1055)>0,\"Correcto\",\"Revisar Catálogo\")),\"\")","v":""},{"$f":"IF(S1055<>\"\", IF(COUNTIFS(\n     'Base Maestra'!$F$43:$F$54,H1055,\n     'Base Maestra'!$G$43:$G$54,I1055)>0, \"Correcto\", \"Revisar Catálogo\"), \"\")","v":""}]
[null,null,null,null,null,null,null,null,null,null,null,null,null,null,null,null,null,null,null,{"$f":"IF(S1056<>\"\",(IF(COUNTIFS('Base Maestra'!$A$42:$A$535,N1056,'Base Maestra'!$B$42:$B$535,O1056,'Base Maestra'!$C$42:$C$535,P1056)>0,\"Correcto\",\"Revisar Catálogo\")),\"\")","v":""},{"$f":"IF(S1056<>\"\", IF(COUNTIFS(\n     'Base Maestra'!$F$43:$F$54,H1056,\n     'Base Maestra'!$G$43:$G$54,I1056)>0, \"Correcto\", \"Revisar Catálogo\"), \"\")","v":""}]
[null,null,null,null,null,null,null,null,null,null,null,null,null,null,null,null,null,null,null,{"$f":"IF(S1057<>\"\",(IF(COUNTIFS('Base Maestra'!$A$42:$A$535,N1057,'Base Maestra'!$B$42:$B$535,O1057,'Base Maestra'!$C$42:$C$535,P1057)>0,\"Correcto\",\"Revisar Catálogo\")),\"\")","v":""},{"$f":"IF(S1057<>\"\", IF(COUNTIFS(\n     'Base Maestra'!$F$43:$F$54,H1057,\n     'Base Maestra'!$G$43:$G$54,I1057)>0, \"Correcto\", \"Revisar Catálogo\"), \"\")","v":""}]
[null,null,null,null,null,null,null,null,null,null,null,null,null,null,null,null,null,null,null,{"$f":"IF(S1058<>\"\",(IF(COUNTIFS('Base Maestra'!$A$42:$A$535,N1058,'Base Maestra'!$B$42:$B$535,O1058,'Base Maestra'!$C$42:$C$535,P1058)>0,\"Correcto\",\"Revisar Catálogo\")),\"\")","v":""},{"$f":"IF(S1058<>\"\", IF(COUNTIFS(\n     'Base Maestra'!$F$43:$F$54,H1058,\n     'Base Maestra'!$G$43:$G$54,I1058)>0, \"Correcto\", \"Revisar Catálogo\"), \"\")","v":""}]
[null,null,null,null,null,null,null,null,null,null,null,null,null,null,null,null,null,null,null,{"$f":"IF(S1059<>\"\",(IF(COUNTIFS('Base Maestra'!$A$42:$A$535,N1059,'Base Maestra'!$B$42:$B$535,O1059,'Base Maestra'!$C$42:$C$535,P1059)>0,\"Correcto\",\"Revisar Catálogo\")),\"\")","v":""},{"$f":"IF(S1059<>\"\", IF(COUNTIFS(\n     'Base Maestra'!$F$43:$F$54,H1059,\n     'Base Maestra'!$G$43:$G$54,I1059)>0, \"Correcto\", \"Revisar Catálogo\"), \"\")","v":""}]
[null,null,null,null,null,null,null,null,null,null,null,null,null,null,null,null,null,null,null,{"$f":"IF(S1060<>\"\",(IF(COUNTIFS('Base Maestra'!$A$42:$A$535,N1060,'Base Maestra'!$B$42:$B$535,O1060,'Base Maestra'!$C$42:$C$535,P1060)>0,\"Correcto\",\"Revisar Catálogo\")),\"\")","v":""},{"$f":"IF(S1060<>\"\", IF(COUNTIFS(\n     'Base Maestra'!$F$43:$F$54,H1060,\n     'Base Maestra'!$G$43:$G$54,I1060)>0, \"Correcto\", \"Revisar Catálogo\"), \"\")","v":""}]
[null,null,null,null,null,null,null,null,null,null,null,null,null,null,null,null,null,null,null,{"$f":"IF(S1061<>\"\",(IF(COUNTIFS('Base Maestra'!$A$42:$A$535,N1061,'Base Maestra'!$B$42:$B$535,O1061,'Base Maestra'!$C$42:$C$535,P1061)>0,\"Correcto\",\"Revisar Catálogo\")),\"\")","v":""},{"$f":"IF(S1061<>\"\", IF(COUNTIFS(\n     'Base Maestra'!$F$43:$F$54,H1061,\n     'Base Maestra'!$G$43:$G$54,I1061)>0, \"Correcto\", \"Revisar Catálogo\"), \"\")","v":""}]
[null,null,null,null,null,null,null,null,null,null,null,null,null,null,null,null,null,null,null,{"$f":"IF(S1062<>\"\",(IF(COUNTIFS('Base Maestra'!$A$42:$A$535,N1062,'Base Maestra'!$B$42:$B$535,O1062,'Base Maestra'!$C$42:$C$535,P1062)>0,\"Correcto\",\"Revisar Catálogo\")),\"\")","v":""},{"$f":"IF(S1062<>\"\", IF(COUNTIFS(\n     'Base Maestra'!$F$43:$F$54,H1062,\n     'Base Maestra'!$G$43:$G$54,I1062)>0, \"Correcto\", \"Revisar Catálogo\"), \"\")","v":""}]
[null,null,null,null,null,null,null,null,null,null,null,null,null,null,null,null,null,null,null,{"$f":"IF(S1063<>\"\",(IF(COUNTIFS('Base Maestra'!$A$42:$A$535,N1063,'Base Maestra'!$B$42:$B$535,O1063,'Base Maestra'!$C$42:$C$535,P1063)>0,\"Correcto\",\"Revisar Catálogo\")),\"\")","v":""},{"$f":"IF(S1063<>\"\", IF(COUNTIFS(\n     'Base Maestra'!$F$43:$F$54,H1063,\n     'Base Maestra'!$G$43:$G$54,I1063)>0, \"Correcto\", \"Revisar Catálogo\"), \"\")","v":""}]
[null,null,null,null,null,null,null,null,null,null,null,null,null,null,null,null,null,null,null,{"$f":"IF(S1064<>\"\",(IF(COUNTIFS('Base Maestra'!$A$42:$A$535,N1064,'Base Maestra'!$B$42:$B$535,O1064,'Base Maestra'!$C$42:$C$535,P1064)>0,\"Correcto\",\"Revisar Catálogo\")),\"\")","v":""},{"$f":"IF(S1064<>\"\", IF(COUNTIFS(\n     'Base Maestra'!$F$43:$F$54,H1064,\n     'Base Maestra'!$G$43:$G$54,I1064)>0, \"Correcto\", \"Revisar Catálogo\"), \"\")","v":""}]
[null,null,null,null,null,null,null,null,null,null,null,null,null,null,null,null,null,null,null,{"$f":"IF(S1065<>\"\",(IF(COUNTIFS('Base Maestra'!$A$42:$A$535,N1065,'Base Maestra'!$B$42:$B$535,O1065,'Base Maestra'!$C$42:$C$535,P1065)>0,\"Correcto\",\"Revisar Catálogo\")),\"\")","v":""},{"$f":"IF(S1065<>\"\", IF(COUNTIFS(\n     'Base Maestra'!$F$43:$F$54,H1065,\n     'Base Maestra'!$G$43:$G$54,I1065)>0, \"Correcto\", \"Revisar Catálogo\"), \"\")","v":""}]
[null,null,null,null,null,null,null,null,null,null,null,null,null,null,null,null,null,null,null,{"$f":"IF(S1066<>\"\",(IF(COUNTIFS('Base Maestra'!$A$42:$A$535,N1066,'Base Maestra'!$B$42:$B$535,O1066,'Base Maestra'!$C$42:$C$535,P1066)>0,\"Correcto\",\"Revisar Catálogo\")),\"\")","v":""},{"$f":"IF(S1066<>\"\", IF(COUNTIFS(\n     'Base Maestra'!$F$43:$F$54,H1066,\n     'Base Maestra'!$G$43:$G$54,I1066)>0, \"Correcto\", \"Revisar Catálogo\"), \"\")","v":""}]
[null,null,null,null,null,null,null,null,null,null,null,null,null,null,null,null,null,null,null,{"$f":"IF(S1067<>\"\",(IF(COUNTIFS('Base Maestra'!$A$42:$A$535,N1067,'Base Maestra'!$B$42:$B$535,O1067,'Base Maestra'!$C$42:$C$535,P1067)>0,\"Correcto\",\"Revisar Catálogo\")),\"\")","v":""},{"$f":"IF(S1067<>\"\", IF(COUNTIFS(\n     'Base Maestra'!$F$43:$F$54,H1067,\n     'Base Maestra'!$G$43:$G$54,I1067)>0, \"Correcto\", \"Revisar Catálogo\"), \"\")","v":""}]
[null,null,null,null,null,null,null,null,null,null,null,null,null,null,null,null,null,null,null,{"$f":"IF(S1068<>\"\",(IF(COUNTIFS('Base Maestra'!$A$42:$A$535,N1068,'Base Maestra'!$B$42:$B$535,O1068,'Base Maestra'!$C$42:$C$535,P1068)>0,\"Correcto\",\"Revisar Catálogo\")),\"\")","v":""},{"$f":"IF(S1068<>\"\", IF(COUNTIFS(\n     'Base Maestra'!$F$43:$F$54,H1068,\n     'Base Maestra'!$G$43:$G$54,I1068)>0, \"Correcto\", \"Revisar Catálogo\"), \"\")","v":""}]
[null,null,null,null,null,null,null,null,null,null,null,null,null,null,null,null,null,null,null,{"$f":"IF(S1069<>\"\",(IF(COUNTIFS('Base Maestra'!$A$42:$A$535,N1069,'Base Maestra'!$B$42:$B$535,O1069,'Base Maestra'!$C$42:$C$535,P1069)>0,\"Correcto\",\"Revisar Catálogo\")),\"\")","v":""},{"$f":"IF(S1069<>\"\", IF(COUNTIFS(\n     'Base Maestra'!$F$43:$F$54,H1069,\n     'Base Maestra'!$G$43:$G$54,I1069)>0, \"Correcto\", \"Revisar Catálogo\"), \"\")","v":""}]
[null,null,null,null,null,null,null,null,null,null,null,null,null,null,null,null,null,null,null,{"$f":"IF(S1070<>\"\",(IF(COUNTIFS('Base Maestra'!$A$42:$A$535,N1070,'Base Maestra'!$B$42:$B$535,O1070,'Base Maestra'!$C$42:$C$535,P1070)>0,\"Correcto\",\"Revisar Catálogo\")),\"\")","v":""},{"$f":"IF(S1070<>\"\", IF(COUNTIFS(\n     'Base Maestra'!$F$43:$F$54,H1070,\n     'Base Maestra'!$G$43:$G$54,I1070)>0, \"Correcto\", \"Revisar Catálogo\"), \"\")","v":""}]
[null,null,null,null,null,null,null,null,null,null,null,null,null,null,null,null,null,null,null,{"$f":"IF(S1071<>\"\",(IF(COUNTIFS('Base Maestra'!$A$42:$A$535,N1071,'Base Maestra'!$B$42:$B$535,O1071,'Base Maestra'!$C$42:$C$535,P1071)>0,\"Correcto\",\"Revisar Catálogo\")),\"\")","v":""},{"$f":"IF(S1071<>\"\", IF(COUNTIFS(\n     'Base Maestra'!$F$43:$F$54,H1071,\n     'Base Maestra'!$G$43:$G$54,I1071)>0, \"Correcto\", \"Revisar Catálogo\"), \"\")","v":""}]
[null,null,null,null,null,null,null,null,null,null,null,null,null,null,null,null,null,null,null,{"$f":"IF(S1072<>\"\",(IF(COUNTIFS('Base Maestra'!$A$42:$A$535,N1072,'Base Maestra'!$B$42:$B$535,O1072,'Base Maestra'!$C$42:$C$535,P1072)>0,\"Correcto\",\"Revisar Catálogo\")),\"\")","v":""},{"$f":"IF(S1072<>\"\", IF(COUNTIFS(\n     'Base Maestra'!$F$43:$F$54,H1072,\n     'Base Maestra'!$G$43:$G$54,I1072)>0, \"Correcto\", \"Revisar Catálogo\"), \"\")","v":""}]
[null,null,null,null,null,null,null,null,null,null,null,null,null,null,null,null,null,null,null,{"$f":"IF(S1073<>\"\",(IF(COUNTIFS('Base Maestra'!$A$42:$A$535,N1073,'Base Maestra'!$B$42:$B$535,O1073,'Base Maestra'!$C$42:$C$535,P1073)>0,\"Correcto\",\"Revisar Catálogo\")),\"\")","v":""},{"$f":"IF(S1073<>\"\", IF(COUNTIFS(\n     'Base Maestra'!$F$43:$F$54,H1073,\n     'Base Maestra'!$G$43:$G$54,I1073)>0, \"Correcto\", \"Revisar Catálogo\"), \"\")","v":""}]
[null,null,null,null,null,null,null,null,null,null,null,null,null,null,null,null,null,null,null,{"$f":"IF(S1074<>\"\",(IF(COUNTIFS('Base Maestra'!$A$42:$A$535,N1074,'Base Maestra'!$B$42:$B$535,O1074,'Base Maestra'!$C$42:$C$535,P1074)>0,\"Correcto\",\"Revisar Catálogo\")),\"\")","v":""},{"$f":"IF(S1074<>\"\", IF(COUNTIFS(\n     'Base Maestra'!$F$43:$F$54,H1074,\n     'Base Maestra'!$G$43:$G$54,I1074)>0, \"Correcto\", \"Revisar Catálogo\"), \"\")","v":""}]
[null,null,null,null,null,null,null,null,null,null,null,null,null,null,null,null,null,null,null,{"$f":"IF(S1075<>\"\",(IF(COUNTIFS('Base Maestra'!$A$42:$A$535,N1075,'Base Maestra'!$B$42:$B$535,O1075,'Base Maestra'!$C$42:$C$535,P1075)>0,\"Correcto\",\"Revisar Catálogo\")),\"\")","v":""},{"$f":"IF(S1075<>\"\", IF(COUNTIFS(\n     'Base Maestra'!$F$43:$F$54,H1075,\n     'Base Maestra'!$G$43:$G$54,I1075)>0, \"Correcto\", \"Revisar Catálogo\"), \"\")","v":""}]
[null,null,null,null,null,null,null,null,null,null,null,null,null,null,null,null,null,null,null,{"$f":"IF(S1076<>\"\",(IF(COUNTIFS('Base Maestra'!$A$42:$A$535,N1076,'Base Maestra'!$B$42:$B$535,O1076,'Base Maestra'!$C$42:$C$535,P1076)>0,\"Correcto\",\"Revisar Catálogo\")),\"\")","v":""},{"$f":"IF(S1076<>\"\", IF(COUNTIFS(\n     'Base Maestra'!$F$43:$F$54,H1076,\n     'Base Maestra'!$G$43:$G$54,I1076)>0, \"Correcto\", \"Revisar Catálogo\"), \"\")","v":""}]
[null,null,null,null,null,null,null,null,null,null,null,null,null,null,null,null,null,null,null,{"$f":"IF(S1077<>\"\",(IF(COUNTIFS('Base Maestra'!$A$42:$A$535,N1077,'Base Maestra'!$B$42:$B$535,O1077,'Base Maestra'!$C$42:$C$535,P1077)>0,\"Correcto\",\"Revisar Catálogo\")),\"\")","v":""},{"$f":"IF(S1077<>\"\", IF(COUNTIFS(\n     'Base Maestra'!$F$43:$F$54,H1077,\n     'Base Maestra'!$G$43:$G$54,I1077)>0, \"Correcto\", \"Revisar Catálogo\"), \"\")","v":""}]
[null,null,null,null,null,null,null,null,null,null,null,null,null,null,null,null,null,null,null,{"$f":"IF(S1078<>\"\",(IF(COUNTIFS('Base Maestra'!$A$42:$A$535,N1078,'Base Maestra'!$B$42:$B$535,O1078,'Base Maestra'!$C$42:$C$535,P1078)>0,\"Correcto\",\"Revisar Catálogo\")),\"\")","v":""},{"$f":"IF(S1078<>\"\", IF(COUNTIFS(\n     'Base Maestra'!$F$43:$F$54,H1078,\n     'Base Maestra'!$G$43:$G$54,I1078)>0, \"Correcto\", \"Revisar Catálogo\"), \"\")","v":""}]
[null,null,null,null,null,null,null,null,null,null,null,null,null,null,null,null,null,null,null,{"$f":"IF(S1079<>\"\",(IF(COUNTIFS('Base Maestra'!$A$42:$A$535,N1079,'Base Maestra'!$B$42:$B$535,O1079,'Base Maestra'!$C$42:$C$535,P1079)>0,\"Correcto\",\"Revisar Catálogo\")),\"\")","v":""},{"$f":"IF(S1079<>\"\", IF(COUNTIFS(\n     'Base Maestra'!$F$43:$F$54,H1079,\n     'Base Maestra'!$G$43:$G$54,I1079)>0, \"Correcto\", \"Revisar Catálogo\"), \"\")","v":""}]
[null,null,null,null,null,null,null,null,null,null,null,null,null,null,null,null,null,null,null,{"$f":"IF(S1080<>\"\",(IF(COUNTIFS('Base Maestra'!$A$42:$A$535,N1080,'Base Maestra'!$B$42:$B$535,O1080,'Base Maestra'!$C$42:$C$535,P1080)>0,\"Correcto\",\"Revisar Catálogo\")),\"\")","v":""},{"$f":"IF(S1080<>\"\", IF(COUNTIFS(\n     'Base Maestra'!$F$43:$F$54,H1080,\n     'Base Maestra'!$G$43:$G$54,I1080)>0, \"Correcto\", \"Revisar Catálogo\"), \"\")","v":""}]
[null,null,null,null,null,null,null,null,null,null,null,null,null,null,null,null,null,null,null,{"$f":"IF(S1081<>\"\",(IF(COUNTIFS('Base Maestra'!$A$42:$A$535,N1081,'Base Maestra'!$B$42:$B$535,O1081,'Base Maestra'!$C$42:$C$535,P1081)>0,\"Correcto\",\"Revisar Catálogo\")),\"\")","v":""},{"$f":"IF(S1081<>\"\", IF(COUNTIFS(\n     'Base Maestra'!$F$43:$F$54,H1081,\n     'Base Maestra'!$G$43:$G$54,I1081)>0, \"Correcto\", \"Revisar Catálogo\"), \"\")","v":""}]
[null,null,null,null,null,null,null,null,null,null,null,null,null,null,null,null,null,null,null,{"$f":"IF(S1082<>\"\",(IF(COUNTIFS('Base Maestra'!$A$42:$A$535,N1082,'Base Maestra'!$B$42:$B$535,O1082,'Base Maestra'!$C$42:$C$535,P1082)>0,\"Correcto\",\"Revisar Catálogo\")),\"\")","v":""},{"$f":"IF(S1082<>\"\", IF(COUNTIFS(\n     'Base Maestra'!$F$43:$F$54,H1082,\n     'Base Maestra'!$G$43:$G$54,I1082)>0, \"Correcto\", \"Revisar Catálogo\"), \"\")","v":""}]
[null,null,null,null,null,null,null,null,null,null,null,null,null,null,null,null,null,null,null,{"$f":"IF(S1083<>\"\",(IF(COUNTIFS('Base Maestra'!$A$42:$A$535,N1083,'Base Maestra'!$B$42:$B$535,O1083,'Base Maestra'!$C$42:$C$535,P1083)>0,\"Correcto\",\"Revisar Catálogo\")),\"\")","v":""},{"$f":"IF(S1083<>\"\", IF(COUNTIFS(\n     'Base Maestra'!$F$43:$F$54,H1083,\n     'Base Maestra'!$G$43:$G$54,I1083)>0, \"Correcto\", \"Revisar Catálogo\"), \"\")","v":""}]
[null,null,null,null,null,null,null,null,null,null,null,null,null,null,null,null,null,null,null,{"$f":"IF(S1084<>\"\",(IF(COUNTIFS('Base Maestra'!$A$42:$A$535,N1084,'Base Maestra'!$B$42:$B$535,O1084,'Base Maestra'!$C$42:$C$535,P1084)>0,\"Correcto\",\"Revisar Catálogo\")),\"\")","v":""},{"$f":"IF(S1084<>\"\", IF(COUNTIFS(\n     'Base Maestra'!$F$43:$F$54,H1084,\n     'Base Maestra'!$G$43:$G$54,I1084)>0, \"Correcto\", \"Revisar Catálogo\"), \"\")","v":""}]
[null,null,null,null,null,null,null,null,null,null,null,null,null,null,null,null,null,null,null,{"$f":"IF(S1085<>\"\",(IF(COUNTIFS('Base Maestra'!$A$42:$A$535,N1085,'Base Maestra'!$B$42:$B$535,O1085,'Base Maestra'!$C$42:$C$535,P1085)>0,\"Correcto\",\"Revisar Catálogo\")),\"\")","v":""},{"$f":"IF(S1085<>\"\", IF(COUNTIFS(\n     'Base Maestra'!$F$43:$F$54,H1085,\n     'Base Maestra'!$G$43:$G$54,I1085)>0, \"Correcto\", \"Revisar Catálogo\"), \"\")","v":""}]
[null,null,null,null,null,null,null,null,null,null,null,null,null,null,null,null,null,null,null,{"$f":"IF(S1086<>\"\",(IF(COUNTIFS('Base Maestra'!$A$42:$A$535,N1086,'Base Maestra'!$B$42:$B$535,O1086,'Base Maestra'!$C$42:$C$535,P1086)>0,\"Correcto\",\"Revisar Catálogo\")),\"\")","v":""},{"$f":"IF(S1086<>\"\", IF(COUNTIFS(\n     'Base Maestra'!$F$43:$F$54,H1086,\n     'Base Maestra'!$G$43:$G$54,I1086)>0, \"Correcto\", \"Revisar Catálogo\"), \"\")","v":""}]
[null,null,null,null,null,null,null,null,null,null,null,null,null,null,null,null,null,null,null,{"$f":"IF(S1087<>\"\",(IF(COUNTIFS('Base Maestra'!$A$42:$A$535,N1087,'Base Maestra'!$B$42:$B$535,O1087,'Base Maestra'!$C$42:$C$535,P1087)>0,\"Correcto\",\"Revisar Catálogo\")),\"\")","v":""},{"$f":"IF(S1087<>\"\", IF(COUNTIFS(\n     'Base Maestra'!$F$43:$F$54,H1087,\n     'Base Maestra'!$G$43:$G$54,I1087)>0, \"Correcto\", \"Revisar Catálogo\"), \"\")","v":""}]
[null,null,null,null,null,null,null,null,null,null,null,null,null,null,null,null,null,null,null,{"$f":"IF(S1088<>\"\",(IF(COUNTIFS('Base Maestra'!$A$42:$A$535,N1088,'Base Maestra'!$B$42:$B$535,O1088,'Base Maestra'!$C$42:$C$535,P1088)>0,\"Correcto\",\"Revisar Catálogo\")),\"\")","v":""},{"$f":"IF(S1088<>\"\", IF(COUNTIFS(\n     'Base Maestra'!$F$43:$F$54,H1088,\n     'Base Maestra'!$G$43:$G$54,I1088)>0, \"Correcto\", \"Revisar Catálogo\"), \"\")","v":""}]
[null,null,null,null,null,null,null,null,null,null,null,null,null,null,null,null,null,null,null,{"$f":"IF(S1089<>\"\",(IF(COUNTIFS('Base Maestra'!$A$42:$A$535,N1089,'Base Maestra'!$B$42:$B$535,O1089,'Base Maestra'!$C$42:$C$535,P1089)>0,\"Correcto\",\"Revisar Catálogo\")),\"\")","v":""},{"$f":"IF(S1089<>\"\", IF(COUNTIFS(\n     'Base Maestra'!$F$43:$F$54,H1089,\n     'Base Maestra'!$G$43:$G$54,I1089)>0, \"Correcto\", \"Revisar Catálogo\"), \"\")","v":""}]
[null,null,null,null,null,null,null,null,null,null,null,null,null,null,null,null,null,null,null,{"$f":"IF(S1090<>\"\",(IF(COUNTIFS('Base Maestra'!$A$42:$A$535,N1090,'Base Maestra'!$B$42:$B$535,O1090,'Base Maestra'!$C$42:$C$535,P1090)>0,\"Correcto\",\"Revisar Catálogo\")),\"\")","v":""},{"$f":"IF(S1090<>\"\", IF(COUNTIFS(\n     'Base Maestra'!$F$43:$F$54,H1090,\n     'Base Maestra'!$G$43:$G$54,I1090)>0, \"Correcto\", \"Revisar Catálogo\"), \"\")","v":""}]
[null,null,null,null,null,null,null,null,null,null,null,null,null,null,null,null,null,null,null,{"$f":"IF(S1091<>\"\",(IF(COUNTIFS('Base Maestra'!$A$42:$A$535,N1091,'Base Maestra'!$B$42:$B$535,O1091,'Base Maestra'!$C$42:$C$535,P1091)>0,\"Correcto\",\"Revisar Catálogo\")),\"\")","v":""},{"$f":"IF(S1091<>\"\", IF(COUNTIFS(\n     'Base Maestra'!$F$43:$F$54,H1091,\n     'Base Maestra'!$G$43:$G$54,I1091)>0, \"Correcto\", \"Revisar Catálogo\"), \"\")","v":""}]
[null,null,null,null,null,null,null,null,null,null,null,null,null,null,null,null,null,null,null,{"$f":"IF(S1092<>\"\",(IF(COUNTIFS('Base Maestra'!$A$42:$A$535,N1092,'Base Maestra'!$B$42:$B$535,O1092,'Base Maestra'!$C$42:$C$535,P1092)>0,\"Correcto\",\"Revisar Catálogo\")),\"\")","v":""},{"$f":"IF(S1092<>\"\", IF(COUNTIFS(\n     'Base Maestra'!$F$43:$F$54,H1092,\n     'Base Maestra'!$G$43:$G$54,I1092)>0, \"Correcto\", \"Revisar Catálogo\"), \"\")","v":""}]
[null,null,null,null,null,null,null,null,null,null,null,null,null,null,null,null,null,null,null,{"$f":"IF(S1093<>\"\",(IF(COUNTIFS('Base Maestra'!$A$42:$A$535,N1093,'Base Maestra'!$B$42:$B$535,O1093,'Base Maestra'!$C$42:$C$535,P1093)>0,\"Correcto\",\"Revisar Catálogo\")),\"\")","v":""},{"$f":"IF(S1093<>\"\", IF(COUNTIFS(\n     'Base Maestra'!$F$43:$F$54,H1093,\n     'Base Maestra'!$G$43:$G$54,I1093)>0, \"Correcto\", \"Revisar Catálogo\"), \"\")","v":""}]
[null,null,null,null,null,null,null,null,null,null,null,null,null,null,null,null,null,null,null,{"$f":"IF(S1094<>\"\",(IF(COUNTIFS('Base Maestra'!$A$42:$A$535,N1094,'Base Maestra'!$B$42:$B$535,O1094,'Base Maestra'!$C$42:$C$535,P1094)>0,\"Correcto\",\"Revisar Catálogo\")),\"\")","v":""},{"$f":"IF(S1094<>\"\", IF(COUNTIFS(\n     'Base Maestra'!$F$43:$F$54,H1094,\n     'Base Maestra'!$G$43:$G$54,I1094)>0, \"Correcto\", \"Revisar Catálogo\"), \"\")","v":""}]
[null,null,null,null,null,null,null,null,null,null,null,null,null,null,null,null,null,null,null,{"$f":"IF(S1095<>\"\",(IF(COUNTIFS('Base Maestra'!$A$42:$A$535,N1095,'Base Maestra'!$B$42:$B$535,O1095,'Base Maestra'!$C$42:$C$535,P1095)>0,\"Correcto\",\"Revisar Catálogo\")),\"\")","v":""},{"$f":"IF(S1095<>\"\", IF(COUNTIFS(\n     'Base Maestra'!$F$43:$F$54,H1095,\n     'Base Maestra'!$G$43:$G$54,I1095)>0, \"Correcto\", \"Revisar Catálogo\"), \"\")","v":""}]
[null,null,null,null,null,null,null,null,null,null,null,null,null,null,null,null,null,null,null,{"$f":"IF(S1096<>\"\",(IF(COUNTIFS('Base Maestra'!$A$42:$A$535,N1096,'Base Maestra'!$B$42:$B$535,O1096,'Base Maestra'!$C$42:$C$535,P1096)>0,\"Correcto\",\"Revisar Catálogo\")),\"\")","v":""},{"$f":"IF(S1096<>\"\", IF(COUNTIFS(\n     'Base Maestra'!$F$43:$F$54,H1096,\n     'Base Maestra'!$G$43:$G$54,I1096)>0, \"Correcto\", \"Revisar Catálogo\"), \"\")","v":""}]
[null,null,null,null,null,null,null,null,null,null,null,null,null,null,null,null,null,null,null,{"$f":"IF(S1097<>\"\",(IF(COUNTIFS('Base Maestra'!$A$42:$A$535,N1097,'Base Maestra'!$B$42:$B$535,O1097,'Base Maestra'!$C$42:$C$535,P1097)>0,\"Correcto\",\"Revisar Catálogo\")),\"\")","v":""},{"$f":"IF(S1097<>\"\", IF(COUNTIFS(\n     'Base Maestra'!$F$43:$F$54,H1097,\n     'Base Maestra'!$G$43:$G$54,I1097)>0, \"Correcto\", \"Revisar Catálogo\"), \"\")","v":""}]
[null,null,null,null,null,null,null,null,null,null,null,null,null,null,null,null,null,null,null,{"$f":"IF(S1098<>\"\",(IF(COUNTIFS('Base Maestra'!$A$42:$A$535,N1098,'Base Maestra'!$B$42:$B$535,O1098,'Base Maestra'!$C$42:$C$535,P1098)>0,\"Correcto\",\"Revisar Catálogo\")),\"\")","v":""},{"$f":"IF(S1098<>\"\", IF(COUNTIFS(\n     'Base Maestra'!$F$43:$F$54,H1098,\n     'Base Maestra'!$G$43:$G$54,I1098)>0, \"Correcto\", \"Revisar Catálogo\"), \"\")","v":""}]
[null,null,null,null,null,null,null,null,null,null,null,null,null,null,null,null,null,null,null,{"$f":"IF(S1099<>\"\",(IF(COUNTIFS('Base Maestra'!$A$42:$A$535,N1099,'Base Maestra'!$B$42:$B$535,O1099,'Base Maestra'!$C$42:$C$535,P1099)>0,\"Correcto\",\"Revisar Catálogo\")),\"\")","v":""},{"$f":"IF(S1099<>\"\", IF(COUNTIFS(\n     'Base Maestra'!$F$43:$F$54,H1099,\n     'Base Maestra'!$G$43:$G$54,I1099)>0, \"Correcto\", \"Revisar Catálogo\"), \"\")","v":""}]
[null,null,null,null,null,null,null,null,null,null,null,null,null,null,null,null,null,null,null,{"$f":"IF(S1100<>\"\",(IF(COUNTIFS('Base Maestra'!$A$42:$A$535,N1100,'Base Maestra'!$B$42:$B$535,O1100,'Base Maestra'!$C$42:$C$535,P1100)>0,\"Correcto\",\"Revisar Catálogo\")),\"\")","v":""},{"$f":"IF(S1100<>\"\", IF(COUNTIFS(\n     'Base Maestra'!$F$43:$F$54,H1100,\n     'Base Maestra'!$G$43:$G$54,I1100)>0, \"Correcto\", \"Revisar Catálogo\"), \"\")","v":""}]
[null,null,null,null,null,null,null,null,null,null,null,null,null,null,null,null,null,null,null,{"$f":"IF(S1101<>\"\",(IF(COUNTIFS('Base Maestra'!$A$42:$A$535,N1101,'Base Maestra'!$B$42:$B$535,O1101,'Base Maestra'!$C$42:$C$535,P1101)>0,\"Correcto\",\"Revisar Catálogo\")),\"\")","v":""},{"$f":"IF(S1101<>\"\", IF(COUNTIFS(\n     'Base Maestra'!$F$43:$F$54,H1101,\n     'Base Maestra'!$G$43:$G$54,I1101)>0, \"Correcto\", \"Revisar Catálogo\"), \"\")","v":""}]
[null,null,null,null,null,null,null,null,null,null,null,null,null,null,null,null,null,null,null,{"$f":"IF(S1102<>\"\",(IF(COUNTIFS('Base Maestra'!$A$42:$A$535,N1102,'Base Maestra'!$B$42:$B$535,O1102,'Base Maestra'!$C$42:$C$535,P1102)>0,\"Correcto\",\"Revisar Catálogo\")),\"\")","v":""},{"$f":"IF(S1102<>\"\", IF(COUNTIFS(\n     'Base Maestra'!$F$43:$F$54,H1102,\n     'Base Maestra'!$G$43:$G$54,I1102)>0, \"Correcto\", \"Revisar Catálogo\"), \"\")","v":""}]
[null,null,null,null,null,null,null,null,null,null,null,null,null,null,null,null,null,null,null,{"$f":"IF(S1103<>\"\",(IF(COUNTIFS('Base Maestra'!$A$42:$A$535,N1103,'Base Maestra'!$B$42:$B$535,O1103,'Base Maestra'!$C$42:$C$535,P1103)>0,\"Correcto\",\"Revisar Catálogo\")),\"\")","v":""},{"$f":"IF(S1103<>\"\", IF(COUNTIFS(\n     'Base Maestra'!$F$43:$F$54,H1103,\n     'Base Maestra'!$G$43:$G$54,I1103)>0, \"Correcto\", \"Revisar Catálogo\"), \"\")","v":""}]
[null,null,null,null,null,null,null,null,null,null,null,null,null,null,null,null,null,null,null,{"$f":"IF(S1104<>\"\",(IF(COUNTIFS('Base Maestra'!$A$42:$A$535,N1104,'Base Maestra'!$B$42:$B$535,O1104,'Base Maestra'!$C$42:$C$535,P1104)>0,\"Correcto\",\"Revisar Catálogo\")),\"\")","v":""},{"$f":"IF(S1104<>\"\", IF(COUNTIFS(\n     'Base Maestra'!$F$43:$F$54,H1104,\n     'Base Maestra'!$G$43:$G$54,I1104)>0, \"Correcto\", \"Revisar Catálogo\"), \"\")","v":""}]
[null,null,null,null,null,null,null,null,null,null,null,null,null,null,null,null,null,null,null,{"$f":"IF(S1105<>\"\",(IF(COUNTIFS('Base Maestra'!$A$42:$A$535,N1105,'Base Maestra'!$B$42:$B$535,O1105,'Base Maestra'!$C$42:$C$535,P1105)>0,\"Correcto\",\"Revisar Catálogo\")),\"\")","v":""},{"$f":"IF(S1105<>\"\", IF(COUNTIFS(\n     'Base Maestra'!$F$43:$F$54,H1105,\n     'Base Maestra'!$G$43:$G$54,I1105)>0, \"Correcto\", \"Revisar Catálogo\"), \"\")","v":""}]
[null,null,null,null,null,null,null,null,null,null,null,null,null,null,null,null,null,null,null,{"$f":"IF(S1106<>\"\",(IF(COUNTIFS('Base Maestra'!$A$42:$A$535,N1106,'Base Maestra'!$B$42:$B$535,O1106,'Base Maestra'!$C$42:$C$535,P1106)>0,\"Correcto\",\"Revisar Catálogo\")),\"\")","v":""},{"$f":"IF(S1106<>\"\", IF(COUNTIFS(\n     'Base Maestra'!$F$43:$F$54,H1106,\n     'Base Maestra'!$G$43:$G$54,I1106)>0, \"Correcto\", \"Revisar Catálogo\"), \"\")","v":""}]
[null,null,null,null,null,null,null,null,null,null,null,null,null,null,null,null,null,null,null,{"$f":"IF(S1107<>\"\",(IF(COUNTIFS('Base Maestra'!$A$42:$A$535,N1107,'Base Maestra'!$B$42:$B$535,O1107,'Base Maestra'!$C$42:$C$535,P1107)>0,\"Correcto\",\"Revisar Catálogo\")),\"\")","v":""},{"$f":"IF(S1107<>\"\", IF(COUNTIFS(\n     'Base Maestra'!$F$43:$F$54,H1107,\n     'Base Maestra'!$G$43:$G$54,I1107)>0, \"Correcto\", \"Revisar Catálogo\"), \"\")","v":""}]
[null,null,null,null,null,null,null,null,null,null,null,null,null,null,null,null,null,null,null,{"$f":"IF(S1108<>\"\",(IF(COUNTIFS('Base Maestra'!$A$42:$A$535,N1108,'Base Maestra'!$B$42:$B$535,O1108,'Base Maestra'!$C$42:$C$535,P1108)>0,\"Correcto\",\"Revisar Catálogo\")),\"\")","v":""},{"$f":"IF(S1108<>\"\", IF(COUNTIFS(\n     'Base Maestra'!$F$43:$F$54,H1108,\n     'Base Maestra'!$G$43:$G$54,I1108)>0, \"Correcto\", \"Revisar Catálogo\"), \"\")","v":""}]
[null,null,null,null,null,null,null,null,null,null,null,null,null,null,null,null,null,null,null,{"$f":"IF(S1109<>\"\",(IF(COUNTIFS('Base Maestra'!$A$42:$A$535,N1109,'Base Maestra'!$B$42:$B$535,O1109,'Base Maestra'!$C$42:$C$535,P1109)>0,\"Correcto\",\"Revisar Catálogo\")),\"\")","v":""},{"$f":"IF(S1109<>\"\", IF(COUNTIFS(\n     'Base Maestra'!$F$43:$F$54,H1109,\n     'Base Maestra'!$G$43:$G$54,I1109)>0, \"Correcto\", \"Revisar Catálogo\"), \"\")","v":""}]
[null,null,null,null,null,null,null,null,null,null,null,null,null,null,null,null,null,null,null,{"$f":"IF(S1110<>\"\",(IF(COUNTIFS('Base Maestra'!$A$42:$A$535,N1110,'Base Maestra'!$B$42:$B$535,O1110,'Base Maestra'!$C$42:$C$535,P1110)>0,\"Correcto\",\"Revisar Catálogo\")),\"\")","v":""},{"$f":"IF(S1110<>\"\", IF(COUNTIFS(\n     'Base Maestra'!$F$43:$F$54,H1110,\n     'Base Maestra'!$G$43:$G$54,I1110)>0, \"Correcto\", \"Revisar Catálogo\"), \"\")","v":""}]
[null,null,null,null,null,null,null,null,null,null,null,null,null,null,null,null,null,null,null,{"$f":"IF(S1111<>\"\",(IF(COUNTIFS('Base Maestra'!$A$42:$A$535,N1111,'Base Maestra'!$B$42:$B$535,O1111,'Base Maestra'!$C$42:$C$535,P1111)>0,\"Correcto\",\"Revisar Catálogo\")),\"\")","v":""},{"$f":"IF(S1111<>\"\", IF(COUNTIFS(\n     'Base Maestra'!$F$43:$F$54,H1111,\n     'Base Maestra'!$G$43:$G$54,I1111)>0, \"Correcto\", \"Revisar Catálogo\"), \"\")","v":""}]
[null,null,null,null,null,null,null,null,null,null,null,null,null,null,null,null,null,null,null,{"$f":"IF(S1112<>\"\",(IF(COUNTIFS('Base Maestra'!$A$42:$A$535,N1112,'Base Maestra'!$B$42:$B$535,O1112,'Base Maestra'!$C$42:$C$535,P1112)>0,\"Correcto\",\"Revisar Catálogo\")),\"\")","v":""},{"$f":"IF(S1112<>\"\", IF(COUNTIFS(\n     'Base Maestra'!$F$43:$F$54,H1112,\n     'Base Maestra'!$G$43:$G$54,I1112)>0, \"Correcto\", \"Revisar Catálogo\"), \"\")","v":""}]

{"sheet":"Notas 2025","index":4,"n_rows":33,"n_cols":8,"rows_kept":33,"cut":false,"hidden":false,"merged":[[26,4,26,5],[26,6,26,7],[29,4,29,5],[23,1,23,7],[30,4,30,5],[27,6,27,7],[28,6,28,7],[29,6,29,7],[30,6,30,7],[27,4,27,5],[28,4,28,5]]}
[]
[null,null,null,"Subsecretaria de Políticas de Salud y Bienestar Poblacional"]
[null,null,null,"Dirección General de Información en Salud"]
[null,null,null,"Subsistema de Cuentas en Salud a Nivel Federal y Estatal (SICUENTAS)"]
[null,null,null,"Universidades Estatales, Ejercicio 2025"]
[]
[]
[null,{"$f":"'Resumen de Calidad'!C10","v":""},null,null,null,null,"Fecha de Recepción:"]
[]
[null,"Cve_H","Actividad Institucional","Autorizado","Modificado","Ejercido","Autorizado 2026","Notas"]
[null,"IED101","Hospital universitario",null,null,{"$f":"SUMIFS('XX.ACRONIMO-2025'!$S:$S,'XX.ACRONIMO-2025'!$H:$H,'Notas 2025'!B11)","v":0}]
[null,"IED102","Clínica de consulta externa o consultorio universitario",null,null,{"$f":"SUMIFS('XX.ACRONIMO-2025'!$S:$S,'XX.ACRONIMO-2025'!$H:$H,'Notas 2025'!B12)","v":0}]
[null,"IED103","Clínicas odontológicas",null,null,{"$f":"SUMIFS('XX.ACRONIMO-2025'!$S:$S,'XX.ACRONIMO-2025'!$H:$H,'Notas 2025'!B13)","v":0}]
[null,"IED104","Clínicas psicológicas",null,null,{"$f":"SUMIFS('XX.ACRONIMO-2025'!$S:$S,'XX.ACRONIMO-2025'!$H:$H,'Notas 2025'!B14)","v":0}]
[null,"IED105","Otro tipo de clínica",null,null,{"$f":"SUMIFS('XX.ACRONIMO-2025'!$S:$S,'XX.ACRONIMO-2025'!$H:$H,'Notas 2025'!B15)","v":0}]
[null,"IED106","Programas prevención y promoción de la salud",null,null,{"$f":"SUMIFS('XX.ACRONIMO-2025'!$S:$S,'XX.ACRONIMO-2025'!$H:$H,'Notas 2025'!B16)","v":0}]
[null,"IED107","Programa de vacunación",null,null,{"$f":"SUMIFS('XX.ACRONIMO-2025'!$S:$S,'XX.ACRONIMO-2025'!$H:$H,'Notas 2025'!B17)","v":0}]
[null,"IED108","Programa de salud sexual",null,null,{"$f":"SUMIFS('XX.ACRONIMO-2025'!$S:$S,'XX.ACRONIMO-2025'!$H:$H,'Notas 2025'!B18)","v":0}]
[null,"IED109","Infraestructura en salud",null,null,{"$f":"SUMIFS('XX.ACRONIMO-2025'!$S:$S,'XX.ACRONIMO-2025'!$H:$H,'Notas 2025'!B19)","v":0}]
[null,"IED110","Investigación en salud",null,null,{"$f":"SUMIFS('XX.ACRONIMO-2025'!$S:$S,'XX.ACRONIMO-2025'!$H:$H,'Notas 2025'!B20)","v":0}]
[null,"IED111","Vinculación institucional en salud",null,null,{"$f":"SUMIFS('XX.ACRONIMO-2025'!$S:$S,'XX.ACRONIMO-2025'!$H:$H,'Notas 2025'!B21)","v":0}]
[null,"IED112","Administración, rectoría y evaluación de los resultados en salud",null,null,{"$f":"SUMIFS('XX.ACRONIMO-2025'!$S:$S,'XX.ACRONIMO-2025'!$H:$H,'Notas 2025'!B22)","v":0}]
[]
[null,"Especificaciones: En caso de no reportar o codificar alguna clave de Actividad en Salud, explique la razón. Asimismo, indique cualquier detalle relevante que deba considerarse para el análisis y la adecuada interpretación de la información que si tenga gasto ejercido. Si no se dispone del valor Autorizado, Modificado o Autorizado del siguiente año de alguna fuente, registre ceros. En caso de no contar con observaciones o comentarios específicos, indicar expresamente: \"Sin comentarios adicionales.\""]
[]
[]
[null,null,"Criterio","Evaluación","Observación",null,"Respuesta de la unidad"]
[null,1,"Montos valorados en Miles de pesos","þý"]
[null,2,"Codificación Espacio-Temporal"]
[null,3,"Codificación del clasificador COG"]
[null,4,"Clasificación por Actividad en salud"]
[]
[null,"Notas:"]

{"sheet":"1.Codificación Espacio Temporal","index":5,"n_rows":48,"n_cols":10,"rows_kept":48,"cut":false,"hidden":false,"merged":[[36,1,36,6],[11,8,12,9]]}
[]
[null,"1. Catálogo Espacio-Temporal de las universidades estatales y sus fuentes de financiamiento"]
[]
[null,"Cve_Entidad Federativa","Descripción Entidad Federativa","Cve_Proveedor","Cve_Ins","CLUE/CLAVE","Nombre de unidad",null,"Cve_FF","Descripción"]
[null,1,"Aguascalientes","EI&D",109,"UAA","Universidad Autónoma de Aguascalientes ",null,"A26","Ramo 11, Educación"]
[null,2,"Baja California","EI&D",110,"UABC","Universidad Autónoma de Baja California ",null,"A27","Ramo 38, Humanidades, Ciencias, Tecnologías e Innovación"]
[null,3,"Baja California Sur","EI&D",111,"UABCS","Universidad Autónoma de Baja California Sur ",null,"A17","Cuotas de Recuperación"]
[null,4,"Campeche","EI&D",112,"UACAM","Universidad Autónoma de Campeche ",null,"A21","Recursos Propios"]
[null,5,"Coahuila","EI&D",113,"UAdeC","Universidad Autónoma de Coahuila ",null,"A22","Recursos de Terceros"]
[null,6,"Colima","EI&D",114,"UdeC","Universidad de Colima ",null,"A34","Otra*"]
[null,7,"Chiapas","EI&D",115,"UNACH","Universidad Autónoma de Chiapas "]
[null,8,"Chihuahua","EI&D",116,"UACH","Universidad Autónoma de Chihuahua ",null,"Nota: Cualquier otra fuente local o federal que haya financiado actividades orientadas a la salud en el periodo del ejercicio que se solicita, especificar cuál."]
[null,10,"Durango","EI&D",117,"UJED","Universidad Juárez del Estado de Durango "]
[null,11,"Guanajuato","EI&D",118,"UG","Universidad de Guanajuato"]
[null,12,"Guerrero","EI&D",119,"UAGro","Universidad Autónoma de Guerrero "]
[null,13,"Hidalgo","EI&D",120,"UAEH","Universidad Autónoma del Estado de Hidalgo "]
[null,14,"Jalisco","EI&D",121,"UdeG","Universidad de Guadalajara "]
[null,15,"México","EI&D",122,"UAEMéx","Universidad Autónoma del Estado de México "]
[null,16,"Michoacán","EI&D",123,"UMSNH","Universidad Michoacana de San Nicolás de Hidalgo "]
[null,17,"Morelos","EI&D",124,"UAEM","Universidad Autónoma del Estado de Morelos "]
[null,18,"Nayarit","EI&D",125,"UAN","Universidad Autónoma de Nayarit "]
[null,19,"Nuevo León","EI&D",126,"UANL","Universidad Autónoma de Nuevo León "]
[null,20,"Oaxaca","EI&D",127,"UABJO","Universidad Autónoma Benito Juárez de Oaxaca "]
[null,21,"Puebla","EI&D",128,"BUAP","Benemérita Universidad Autónoma de Puebla "]
[null,22,"Querétaro","EI&D",129,"UAQ","Universidad Autónoma de Querétaro "]
[null,23,"Quintana Roo","EI&D",130,"UQROO","Universidad Autónoma del Estado de Quintana Roo"]
[null,24,"San Luis Potosí","EI&D",131,"UASLP","Universidad Autónoma de San Luis Potosí "]
[null,25,"Sinaloa","EI&D",132,"UAS","Universidad Autónoma de Sinaloa "]
[null,26,"Sonora","EI&D",133,"UNISON","Universidad de Sonora "]
[null,27,"Tabasco","EI&D",134,"UJAT","Universidad Juárez Autónoma de Tabasco "]
[null,28,"Tamaulipas","EI&D",135,"UAT","Universidad Autónoma de Tamaulipas "]
[null,29,"Tlaxcala","EI&D",136,"UATx","Universidad Autónoma de Tlaxcala "]
[null,30,"Veracruz","EI&D",137,"UV","Universidad Veracruzana "]
[null,31,"Yucatán","EI&D",138,"UADY","Universidad Autónoma de Yucatán "]
[null,32,"Zacatecas","EI&D",139,"UAZ","Universidad Autónoma de Zacatecas \"Francisco García Salinas\" "]
[]
[null,"* Estos proveedores realizan el reporte de sus diferentes escuelas, centros de investigación, clínicas universitarias o unidades administrativas, la codificación debe responder a la ubicación geográfica de cada una de estas unidades, si se hacen transferencias de recursos a otras entidades federativas, también debe codificarse el número de entidad receptora del recurso por lo que esta columna debería contener más de una clave de entida, según el siguiente catalogo:"]
[]
[]
[null,"Diccionario de campos:"]
[]
[null,null,"AÑO","Año del ejercicio fiscal que se reporta"]
[null,null,"Cve_Entidad Federativa","Número de Entidad Federativa donde se ejerció el recurso"]
[null,null,"Cve_Proveedor","Institución que reporta la información de gasto"]
[null,null,"Cve_Ins","Clave de la Institución que reporta la información"]
[null,null,"Cve_FF_VM ","Clave de la Fuente de Financiamiento"]
[null,null,"CLUES/CLAVE","Acronimo de la unidad responsable de la ejecución del recurso"]
[null,null,"Nombre de unidad","Nombre de la unidad responsable de la ejecución del recurso"]

{"sheet":"2.Catálogo CAES IE&D","index":6,"n_rows":18,"n_cols":4,"rows_kept":18,"cut":false,"hidden":false,"merged":[[3,1,3,3]]}
[]
[null,"3. Catálogo del Clasificador de Actividad Específica en Salud (CAES) para Universidades Estatales"]
[]
[null,"El Gasto en Salud Universitario corresponde al total de recursos ejercidos por la universidad en acciones, servicios e infraestructura relacionados con la atención médica, prevención, promoción de la salud y gestión sanitaria. Incluye el financiamiento de clínicas, consultorios, programas dirigidos a la comunidad universitaria, adquisición de insumos, contratación de personal de salud, así como cualquier otra actividad vinculada al ámbito de la salud. Este gasto deberá desglosarse por partida presupuestaria, indicar la fuente de financiamiento correspondiente (recursos propios, subsidios federales o estatales, convenios, donaciones, entre otros), y agruparse conforme al siguiente Clasificador de Actividad Específica en Salud - CAES, de tal forma que la suma de todos los conceptos registrados será el gasto total anual en salud ejercido en la universidad reportante."]
[]
[null,"Cve_H","Actividad Institucional","Descripción"]
[null,"IED101","Hospital universitario","Gasto anual destinado al hospital universitario, desagregado por partida presupuestaria. Incluir fuentes de financiamiento y partida de gasto (servicios médicos, insumos, personal, mantenimiento, equipamiento, etc.)."]
[null,"IED102","Clínica de consulta externa o consultorio universitario","Gasto anual ejercido en los servicios médicos de primer contacto que brinda la universidad (consulta general, salud mental, primeros auxilios, etc.), detallado por partida presupuestaria, desglosado por partida presupuestaria."]
[null,"IED103","Clínicas odontológicas","Gasto anual ejercido en la operación y mantenimiento de clínicas odontológicas universitarias. Incluir servicios prestados, materiales dentales, equipo, personal y otros conceptos relacionados, desglosados por partida presupuestaria."]
[null,"IED104","Clínicas psicológicas","Gasto anual destinado a la prestación de servicios de atención psicológica en clínicas universitarias. Incluir sueldos, materiales, equipo, programas de intervención y otros conceptos, detallado por partida presupuestaria."]
[null,"IED105","Otro tipo de clínica","Gasto asignado a clínicas universitarias distintas a las odontológicas o psicológicas (por ejemplo, nutrición, fisioterapia, optometría, etc.). Presentar el gasto desglosado por partida presupuestaria."]
[null,"IED106","Programas prevención y promoción de la salud","Recursos invertidos en campañas y acciones preventivas (vacunación, nutrición, salud mental, etc.). Presentar los importes por partida presupuestaria."]
[null,"IED107","Programa de vacunación","Recursos destinados a la adquisición, manejo y aplicación de vacunas en campañas dirigidas a la comunidad universitaria, incluyendo materiales, personal, difusión y registro, desglosados por partida presupuestaria."]
[null,"IED108","Programa de salud sexual","Gasto ejercido en acciones, campañas y servicios de salud sexual y reproductiva dirigidos a la comunidad universitaria (anticoncepción, ITS, orientación, etc.), especificado por partida presupuestaria."]
[null,"IED109","Infraestructura en salud","Gasto corriente (Capítulos 1000-4000) en construcción, rehabilitación o equipamiento de instalaciones de salud (hospitales, laboratorios, clínicas), con detalle de partidas presupuestarias, unidades ejecutoras y años de ejercicio."]
[null,"IED110","Investigación en salud","Gasto destinado a proyectos de investigación en salud (interno) desglosado por partida presupuestaria: recursos humanos, materiales, servicios de laboratorio, publicaciones, etc."]
[null,"IED111","Vinculación institucional en salud","Aportaciones económicas que la universidad realiza en convenios con instituciones del sector salud (cofinanciamiento, pagos por uso de instalaciones, apoyo logístico), especificadas por partida presupuestaria."]
[null,"IED112","Administración, rectoría y evaluación de los resultados en salud","Gasto dedicado a seguimiento, evaluación o auditoría de los programas y servicios de salud universitarios (consultorías, sistemas de información, elaboración de informes), detallado por partida presupuestaria."]

{"sheet":"3.Catálogo COG","index":7,"n_rows":631,"n_cols":6,"rows_kept":631,"cut":false,"hidden":false,"merged":[]}
[]
[null,"3. Catálogo del Clasificador por Objeto de Gasto"]
[]
[null,"Cve_Capítulo ","Cve_Concepto ","Cve_Partida genérica ó partida específica","Descripción","Indicador "]
[null,1,null,null,"Gasto corriente"]
[null,1000,null,null,"Servicios Personales"]
[null,1000,1100,null,"Remuneraciones al personal de carácter permanente"]
[null,1000,1100,1110,"Dietas","VR"]
[null,1000,1100,1120,"Haberes","VR"]
[null,1000,1100,1130,"Sueldos base al personal permanente","VR"]
[null,1000,1100,1140,"Remuneraciones por adscripción laboral en el extranjero","VR"]
[null,1000,1200,null,"Remuneraciones al personal de carácter transitorio"]
[null,1000,1200,1210,"Honorarios asimilables a salarios","VR"]
[null,1000,1200,1220,"Sueldos base al personal eventual"]
[null,1000,1200,12201,"Remuneraciones al personal eventual ","VR"]
[null,1000,1200,12202,"Compensaciones a sustitutos de profesores","VR"]
[null,1000,1200,1230,"Retribuciones por servicios de carácter social"]
[null,1000,1200,12301,"Retribuciones por servicios en período de formación profesional","VR"]
[null,1000,1200,1240,"Retribución a los representantes de los trabajadores y de los patrones en la Junta de Conciliación y Arbitraje","VR"]
[null,1000,1300,null,"Remuneraciones adicionales y especiales"]
[null,1000,1300,1310,"Primas por años de servicios efectivos prestados"]
[null,1000,1300,13101,"Prima quinquenal por años de servicios efectivos prestados","VR"]
[null,1000,1300,13102,"Acreditación por años de servicio en la docencia y al personal administrativo de las instituciones de educación superior","VR"]
[null,1000,1300,13103,"Prima de perseverancia por años de servicio activo en el Ejército, Fuerza Aérea y Armada Mexicanos","VR"]
[null,1000,1300,13104,"Antigüedad","VR"]
[null,1000,1300,1320,"Primas de vacaciones, dominical y gratificación de fin de año"]
[null,1000,1300,13201,"Primas de vacaciones y dominical","VR"]
[null,1000,1300,13202,"Gratificación de fin de año","VR"]
[null,1000,1300,1330,"Horas extraordinarias","VR"]
[null,1000,1300,1340,"Compensaciones"]
[null,1000,1300,13401,"Acreditación por titulación en la docencia","VR"]
[null,1000,1300,13402,"Acreditación al personal docente por años de estudio de licenciatura","VR"]
[null,1000,1300,13403,"Compensaciones por servicios especiales","VR"]
[null,1000,1300,13404,"Compensaciones por servicios eventuales","VR"]
[null,1000,1300,13405,"Compensaciones de retiro","VR"]
[null,1000,1300,13406,"Compensaciones de servicios","VR"]
[null,1000,1300,13407,"Compensaciones adicionales por servicios especiales","VR"]
[null,1000,1300,13408,"Asignaciones docentes, pedagógicas genéricas y específicas","VR"]
[null,1000,1300,13409,"Compensación por adquisición de material didáctico","VR"]
[null,1000,1300,13410,"Compensación por actualización y formación académica","VR"]
[null,1000,1300,13411,"Compensaciones a médicos residentes","VR"]
[null,1000,1300,13412,"Gastos contingentes para el personal radicado en el extranjero","VR"]
[null,1000,1300,13413,"Asignaciones para la conclusión de servicios en la Administración Pública Federal","VR"]
[null,1000,1300,13414,"Asignaciones conforme al régimen laboral","VR"]
[null,1000,1300,1350,"Sobrehaberes","VR"]
[null,1000,1300,1360,"Asignaciones de técnico, de mando, por comisión, de vuelo y de técnico especial"]
[null,1000,1300,13601,"Asignaciones de técnico","VR"]
[null,1000,1300,13602,"Asignaciones de mando","VR"]
[null,1000,1300,13603,"Asignaciones por comisión","VR"]
[null,1000,1300,13604,"Asignaciones de vuelo","VR"]
[null,1000,1300,13605,"Asignaciones de técnico especial","VR"]
[null,1000,1300,1370,"Honorarios especiales","VR"]
[null,1000,1300,1380,"Participaciones por vigilancia en el cumplimiento de las leyes y custodia de valores","VR"]
[null,1000,1400,null,"Seguridad Social"]
[null,1000,1400,1410,"Aportaciones de seguridad social"]
[null,1000,1400,14101,"Aportaciones al ISSSTE","VR"]
[null,1000,1400,14102,"Aportaciones al ISSFAM","VR"]
[null,1000,1400,14103,"Aportaciones al IMSS","VR"]
[null,1000,1400,14104,"Aportaciones de seguridad social contractuales","VR"]
[null,1000,1400,14105,"Aportaciones al seguro de cesantía en edad avanzada y vejez","VR"]
[null,1000,1400,1420,"Aportaciones a fondos de vivienda"]
[null,1000,1400,14201,"Aportaciones al FOVISSSTE","VR"]
[null,1000,1400,14202,"Aportaciones al INFONAVIT","VR"]
[null,1000,1400,1430,"Aportaciones al sistema para el retiro"]
[null,1000,1400,14301,"Aportaciones al sistema de ahorro para el retiro","VR"]
[null,1000,1400,14302,"Depósitos para el ahorro solidario","VR"]
[null,1000,1400,1440,"Aportaciones para seguros"]
[null,1000,1400,14401,"Cuotas para el seguro de vida del personal civil","VR"]
[null,1000,1400,14402,"Cuotas para el seguro de vida del personal militar","VR"]
[null,1000,1400,14403,"Cuotas para el seguro de gastos médicos del personal civil","VR"]
[null,1000,1400,14404,"Cuotas para el seguro de separación individualizado","VR"]
[null,1000,1400,14405,"Cuotas para el seguro colectivo de retiro","VR"]
[null,1000,1400,14406,"Seguro de responsabilidad civil, asistencia legal y otros seguros","VR"]
[null,1000,1500,null,"Otras prestaciones sociales y económicas"]
[null,1000,1500,1510,"Cuotas para el fondo de ahorro y fondo de trabajo"]
[null,1000,1500,15101,"Cuotas para el fondo de ahorro del personal civil","VR"]
[null,1000,1500,15102,"Cuotas para el fondo de ahorro de generales, almirantes, jefes y oficiales","VR"]
[null,1000,1500,15103,"Cuotas para el fondo de trabajo del personal del Ejército, Fuerza Aérea y Armada Mexicanos","VR"]
[null,1000,1500,1520,"Indemnizaciones"]
[null,1000,1500,15201,"Indemnizaciones por accidentes en el trabajo","VR"]
[null,1000,1500,15202," Pago de liquidaciones","VR"]
[null,1000,1500,1530,"Prestaciones y haberes de retiro","VR"]
[null,1000,1500,1540,"Prestaciones contractuales"]
[null,1000,1500,15401,"Prestaciones establecidas por condiciones generales de trabajo o contratos colectivos de trabajo","VR"]
[null,1000,1500,15402,"Compensación garantizada","VR"]
[null,1000,1500,15403,"Asignaciones adicionales al sueldo","VR"]
[null,1000,1500,1550,"Apoyos a la capacitación de los servidores públicos","VR"]
[null,1000,1500,1590,"Otras prestaciones sociales y económicas"]
[null,1000,1500,15901,"Otras prestaciones","VR"]
[null,1000,1500,15902,"Pago extraordinario por riesgo","VR"]
[null,1000,1600,null,"Previsiones"]
[null,1000,1600,1610,"Previsiones de carácter laboral, económica y de seguridad social"]
[null,1000,1600,16101,"Incrementos a las percepciones","VR"]
[null,1000,1600,16102,"Creación de plazas","VR"]
[null,1000,1600,16103,"Otras medidas de carácter laboral y económico","VR"]
[null,1000,1600,16104,"Previsiones para aportaciones al ISSSTE","VR"]
[null,1000,1600,16105,"Previsiones para aportaciones al FOVISSSTE","VR"]
[null,1000,1600,16106,"Previsiones para aportaciones al Sistema de Ahorro para el Retiro","VR"]
[null,1000,1600,16107,"Previsiones para aportaciones al seguro de cesantía en edad avanzada y vejez","VR"]
[null,1000,1600,16108,"Previsiones para los depósitos al ahorro solidario","VR"]
[null,1000,1600,16109,"Previsiones por adecuaciones a las estructuras ocupacionales","VR"]
[null,1000,1700,null,"Pago de estímulos a servidores públicos"]
[null,1000,1700,1710,"Estímulos"]
[null,1000,1700,17101,"Estímulos por productividad y eficiencia","VR"]
[null,1000,1700,17102,"Estímulos al personal operativo","VR"]
[null,1000,1700,1720,"Recompensas","VR"]
[null,2000,null,null,"Materiales y Suministros"]
[null,2000,2100,null,"Materiales de administración, emisión de documentos y articulos oficiales"]
[null,2000,2100,2110,"Materiales, útiles y equipos menores de oficina","VR"]
[null,2000,2100,2120,"Materiales y útiles de impresión y reproducción","VR"]
[null,2000,2100,2130,"Material estadístico y geográfico","VR"]
[null,2000,2100,2140,"Materiales, útiles y equipos menores de tecnologías de la información y comunicaciones","VR"]
[null,2000,2100,2150,"Material impreso e información digital"]
[null,2000,2100,21501,"Material de apoyo informativo","VR"]
[null,2000,2100,21502,"Material para información en actividades de investigación científica y tecnológica","VR"]
[null,2000,2100,2160,"Material de limpieza","VR"]
[null,2000,2100,2170,"Materiales y útiles de enseñanza","VR"]
[null,2000,2100,2180,"Materiales para el registro e identificación de bienes y personas","VR"]
[null,2000,2200,null,"Alimentos y Utensilios"]
[null,2000,2200,2210,"Productos alimenticios para personas"]
[null,2000,2200,22101,"Productos alimenticios para el Ejército, Fuerza Aérea y Armada Mexicanos, y para los efectivos que participen en programas de seguridad pública","VR"]
[null,2000,2200,22102,"Productos alimenticios para personas derivado de la prestación de servicios públicos en unidades de salud, educativas, de readaptación social y otras","VR"]
[null,2000,2200,22103,"Productos alimenticios para el personal que realiza labores en campo o de supervisión","VR"]
[null,2000,2200,22104,"Productos alimenticios para el personal en las instalaciones de las dependencias y entidades","VR"]
[null,2000,2200,22105,"Productos alimenticios para la población en caso de desastres naturales","VR"]
[null,2000,2200,22106,"Productos alimenticios para el personal derivado de actividades extraordinarias","VR"]
[null,2000,2200,2220,"Productos alimenticios para animales","VR"]
[null,2000,2200,2230,"Utensilios para el servicio de alimentación","VR"]
[null,2000,2300,null,"Materias primas y de producción y comercialización"]
[null,2000,2300,2310,"Productos alimenticios, agropecuarios y forestales adquiridos como materia prima","VR"]
[null,2000,2300,2320,"Insumos textiles adquiridos como materia prima","VR"]
[null,2000,2300,2330,"Productos de papel, cartón e impresos adquiridos como materia prima","VR"]
[null,2000,2300,2340,"Combustibles, lubricantes, aditivos, carbón y sus derivados adquiridos como materia prima","VR"]
[null,2000,2300,2350,"Productos químicos, farmacéuticos y de laboratorio adquiridos como materia prima","VR"]
[null,2000,2300,2360,"Productos metálicos y a base de minerales no metálicos adquiridos como materia prima","VR"]
[null,2000,2300,2370,"Productos de cuero, piel, plástico y hule adquiridos como materia prima","VR"]
[null,2000,2300,2380,"Mercancías adquiridas para su comercialización","VR"]
[null,2000,2300,2390,"Otros productos adquiridos como materia prima"]
[null,2000,2300,23901,"Otros productos adquiridos como materia prima","VR"]
[null,2000,2300,23902,"Petróleo, gas y sus derivados adquiridos como materia prima","VR"]
[null,2000,2400,null,"Materiales y artículos de construcción y de reparación"]
[null,2000,2400,2410,"Productos minerales no metálicos","VR"]
[null,2000,2400,2420,"Cemento y productos de concreto","VR"]
[null,2000,2400,2430,"Cal, yeso y productos de yeso","VR"]
[null,2000,2400,2440,"Madera y productos de madera","VR"]
[null,2000,2400,2450,"Vidrio y productos de vidrio","VR"]
[null,2000,2400,2460,"Material eléctrico y electrónico","VR"]
[null,2000,2400,2470,"Artículos metálicos para la construcción","VR"]
[null,2000,2400,2480,"Materiales complementarios","VR"]
[null,2000,2400,2490,"Otros materiales y artículos de construcción y reparación","VR"]
[null,2000,2500,null,"Productos químicos, farmacéuticos y de laboratorio"]
[null,2000,2500,2510,"Productos químicos básicos","VR"]
[null,2000,2500,2520,"Fertilizantes, pesticidas y otros agroquímicos","VR"]
[null,2000,2500,2530,"Medicinas y productos farmacéuticos","VR"]
[null,2000,2500,2540,"Materiales, accesorios y suministros médicos","VR"]
[null,2000,2500,2550,"Materiales, accesorios y suministros de laboratorio","VR"]
[null,2000,2500,2560,"Fibras sintéticas, hules, plásticos y derivados","VR"]
[null,2000,2500,2590,"Otros productos químicos","VR"]
[null,2000,2600,null,"Combustibles, lubricantes y aditivos"]
[null,2000,2600,2610,"Combustibles, lubricantes y aditivos"]
[null,2000,2600,26101,"Combustibles, lubricantes y aditivos para vehículos terrestres, aéreos, marítimos, lacustres y fluviales destinados a la ejecución de programas de seguridad pública y nacional","VR"]
[null,2000,2600,26102,"Combustibles, lubricantes y aditivos para vehículos terrestres, aéreos, marítimos, lacustres y fluviales destinados a servicios públicos y la operación de programas públicos","VR"]
[null,2000,2600,26103,"Combustibles, lubricantes y aditivos para vehículos terrestres, aéreos, marítimos, lacustres y fluviales destinados a servicios administrativos","VR"]
[null,2000,2600,26104,"Combustibles, lubricantes y aditivos para vehículos terrestres, aéreos, marítimos, lacustres y fluviales asignados a servidores públicos","VR"]
[null,2000,2600,26105,"Combustibles, lubricantes y aditivos para maquinaria, equipo de producción y servicios administrativos","VR"]
[null,2000,2600,26106,"PIDIREGAS cargos variables","VR"]
[null,2000,2600,26107,"Combustibles nacionales para plantas productivas","VR"]
[null,2000,2600,26108,"Combustibles de importación para plantas productivas","VR"]
[null,2000,2600,2620,"Carbón y sus derivados","VR"]
[null,2000,2700,null,"Vestuario, blancos, prendas de protección y artículos deportivos"]
[null,2000,2700,2710,"Vestuario y uniformes","VR"]
[null,2000,2700,2720,"Prendas de seguridad y protección personal","VR"]
[null,2000,2700,2730,"Artículos deportivos","VR"]
[null,2000,2700,2740,"Productos textiles","VR"]
[null,2000,2700,2750,"Blancos y otros productos textiles, excepto prendas de vestir","VR"]
[null,2000,2800,null,"Materiales y suministros para seguridad"]
[null,2000,2800,2810,"Sustancias y materiales explosivos","VR"]
[null,2000,2800,2820,"Materiales de seguridad pública","VR"]
[null,2000,2800,2830,"Prendas de protección para seguridad pública y nacional","VR"]
[null,2000,2900,null,"Herramientas, refacciones y accesorios menores"]
[null,2000,2900,2910,"Herramientas menores","VR"]
[null,2000,2900,2920,"Refacciones y accesorios menores de edificios","VR"]
[null,2000,2900,2930,"Refacciones y accesorios menores de mobiliario y equipo de administración, educacional y recreativo","VR"]
[null,2000,2900,2940,"Refacciones y accesorios menores de equipo de cómputo y tecnologías de la información","VR"]
[null,2000,2900,2950,"Refacciones y accesorios menores de equipo e instrumental médico y de laboratorio","VR"]
[null,2000,2900,2960,"Refacciones y accesorios menores de equipo de transporte","VR"]
[null,2000,2900,2970,"Refacciones y accesorios menores de equipo de defensa y seguridad","VR"]
[null,2000,2900,2980,"Refacciones y accesorios menores de maquinaria y otros equipos","VR"]
[null,2000,2900,2990,"Refacciones y accesorios menores otros bienes muebles","VR"]
[null,3000,null,null,"Servicios Generales"]
[null,3000,3100,null,"Servicios básicos"]
[null,3000,3100,3110,"Energía eléctrica","VR"]
[null,3000,3100,3120,"Gas","VR"]
[null,3000,3100,3130,"Agua","VR"]
[null,3000,3100,3140,"Telefonía tradicional","VR"]
[null,3000,3100,3150,"Telefonía celular","VR"]
[null,3000,3100,3160,"Servicios de telecomunicaciones y satélites"]
[null,3000,3100,31601,"Servicio de radiolocalización","VR"]
[null,3000,3100,31602,"Servicios de telecomunicaciones","VR"]
[null,3000,3100,31603,"Servicios de internet","VR"]
[null,3000,3100,3170,"Servicios de acceso de Internet, redes y procesamiento de información","VR"]
[null,3000,3100,3180,"Servicios postales y telegráficos"]
[null,3000,3100,31801,"Servicio postal","VR"]
[null,3000,3100,31802,"Servicio telegráfico","VR"]
[null,3000,3100,3190,"Servicios integrales y otros servicios"]
[null,3000,3100,31901,"Servicios integrales de telecomunicación","VR"]
[null,3000,3100,31902,"Contratación de otros servicios","VR"]
[null,3000,3100,31903,"Servicios generales para planteles educativos","VR"]
[null,3000,3100,31904,"Servicios integrales de infraestructura de cómputo","VR"]
[null,3000,3200,null,"Servicios de arrendamiento"]
[null,3000,3200,3210,"Arrendamiento de terrenos","VR"]
[null,3000,3200,3220,"Arrendamiento de edificios","VR"]
[null,3000,3200,3230,"Arrendamiento de mobiliario y equipo de administración, educacional y recreativo"]
[null,3000,3200,32301,"Arrendamiento de equipo y bienes informáticos","VR"]
[null,3000,3200,32302,"Arrendamiento de mobiliario","VR"]
[null,3000,3200,32303,"Arrendamiento de equipo de telecomunicaciones","VR"]
[null,3000,3200,3240,"Arrendamiento de equipo e instrumental médico y de laboratorio","VR"]
[null,3000,3200,3250,"Arrendamiento de equipo de transporte"]
[null,3000,3200,32501,"Arrendamiento de vehículos terrestres, aéreos, marítimos, lacustres y fluviales para la ejecución de programas de seguridad pública y nacional","VR"]
[null,3000,3200,32502,"Arrendamiento de vehículos terrestres, aéreos, marítimos, lacustres y fluviales para servicios públicos y la operación de programas públicos","VR"]
[null,3000,3200,32503,"Arrendamiento de vehículos terrestres, aéreos, marítimos, lacustres y fluviales para servicios administrativos","VR"]
[null,3000,3200,32504,"Arrendamiento de vehículos terrestres, aéreos, marítimos, lacustres y fluviales para desastres naturales","VR"]
[null,3000,3200,32505,"Arrendamiento de vehículos terrestres, aéreos, marítimos, lacustres y fluviales para servidores públicos","VR"]
[null,3000,3200,3260,"Arrendamiento de maquinaria, otros equipos y herramientas","VR"]
[null,3000,3200,3270,"Arrendamiento de activos intangibles","VR"]
[null,3000,3200,3280,"Arrendamiento financiero","VR"]
[null,3000,3200,3290,"Otros arrendamientos"]
[null,3000,3200,32901,"Arrendamiento de sustancias y productos químicos","VR"]
[null,3000,3200,32902,"PIDIREGAS cargos fijos","VR"]
[null,3000,3200,32903,"Otros Arrendamientos","VR"]
[null,3000,3300,null,"Servicios profesionales, científicos, técnicos y otros servicios"]
[null,3000,3300,3310,"Servicios legales, de contabilidad, auditoría y relacionados"]
[null,3000,3300,33101,"Asesorías asociadas a convenios, tratados o acuerdos","VR"]
[null,3000,3300,33102,"Asesorías por controversias en el marco de los tratados internacionales","VR"]
[null,3000,3300,33103,"Consultorías para programas o proyectos financiados por organismos internacionales","VR"]
[null,3000,3300,33104,"Otras asesorías para la operación de programas","VR"]
[null,3000,3300,33105,"Servicios relacionados con procedimientos jurisdiccionales","VR"]
[null,3000,3300,3320,"Servicios de diseño, arquitectura, ingeniería y actividades relacionadas","VR"]
[null,3000,3300,3330,"Servicios de consultoría administrativa, procesos, técnica y en tecnologías de la información"]
[null,3000,3300,33301,"Servicios de desarrollo de aplicaciones informáticas","VR"]
[null,3000,3300,33302,"Servicios estadísticos y geográficos","VR"]
[null,3000,3300,33303,"Servicios relacionados con certificación de procesos","VR"]
[null,3000,3300,33304,"Servicios de mantenimiento de aplicaciones informáticas","VR"]
[null,3000,3300,3340,"Servicios de capacitación","VR"]
[null,3000,3300,3350,"Servicios de investigación científica y desarrollo","VR"]
[null,3000,3300,3360,"Servicios de apoyo administrativo, traducción, fotocopiado e impresión"]
[null,3000,3300,33601,"Servicios relacionados con traducciones","VR"]
[null,3000,3300,33602,"Otros servicios comerciales","VR"]
[null,3000,3300,33603,"Impresiones de documentos oficiales para la prestación de servicios públicos, identificación, formatos administrativos y fiscales, formas valoradas, certificados y títulos","VR"]
[null,3000,3300,33604,"Impresión y elaboración de material informativo derivado de la operación y administración de las dependencias y entidades","VR"]
[null,3000,3300,33605,"Información en medios masivos derivada de la operación y administración de las dependencias y entidades","VR"]
[null,3000,3300,33606,"Servicios de digitalización","VR"]
[null,3000,3300,3370,"Servicios de protección y seguridad"]
[null,3000,3300,33701,"Gastos de seguridad pública y nacional","VR"]
[null,3000,3300,33702,"Gastos en actividades de seguridad y logística del Estado Mayor Presidencial","VR"]
[null,3000,3300,3380,"Servicios de vigilancia","VR"]
[null,3000,3300,3390,"Servicios profesionales, científicos y técnicos integrales"]
[null,3000,3300,33901,"Subcontratación de servicios con terceros","VR"]
[null,3000,3300,33902,"Proyectos para prestación de servicios","VR"]
[null,3000,3300,33903,"Servicios integrales","VR"]
[null,3000,3300,33904,"Asignaciones derivadas de proyectos de asociación público privada","VR"]
[null,3000,3300,33905,"Servicios integrales en materia de seguridad pública y nacional","VR"]
[null,3000,3300,33906,"Asignaciones para cubrir el pago de obligaciones derivadas de títulos de concesión o de asignación.","VR"]
[null,3000,3400,null,"Servicios financieros, bancarios y comerciales"]
[null,3000,3400,3410,"Servicios financieros y bancarios","VR"]
[null,3000,3400,3420,"Servicios de cobranza, investigación crediticia y similar","VR"]
[null,3000,3400,3430,"Servicios de recaudación, traslado y custodia de valores","VR"]
[null,3000,3400,3440,"Seguros de responsabilidad patrimonial y fianzas","VR"]
[null,3000,3400,3450,"Seguro de bienes patrimoniales","VR"]
[null,3000,3400,3460,"Almacenaje, envase y embalaje","VR"]
[null,3000,3400,3470,"Fletes y maniobras","VR"]
[null,3000,3400,3480,"Comisiones por ventas","VR"]
[null,3000,3400,3490,"Servicios financieros, bancarios y comerciales integrales","VR"]
[null,3000,3500,null,"Servicios de instalación, reparación, mantenimiento y conservación"]
[null,3000,3500,3510,"Conservación y mantenimineto menor de inmuebles"]
[null,3000,3500,35101,"Mantenimiento y conservación de inmuebles para la prestación de servicios administrativos","VR"]
[null,3000,3500,35102,"Mantenimiento y conservación de inmuebles para la prestación de servicios públicos","VR"]
[null,3000,3500,3520,"Instalación, reparación y mantenimiento de mobiliario y equipo de administración, educacional y recreativo","VR"]
[null,3000,3500,3530,"Instalación, reparación y mantenimiento de equipo de cómputo y tecnología de la información","VR"]
[null,3000,3500,3540,"Instalación, reparación y mantenimiento de equipo e instrumental médico y de laboratorio","VR"]
[null,3000,3500,3550,"Reparación y mantenimiento de equipo de transporte","VR"]
[null,3000,3500,3560,"Reparación y mantenimiento de equipo de defensa y seguridad","VR"]
[null,3000,3500,3570,"Instalación, reparación y mantenimiento de maquinaria, otros equipos y herramienta"]
[null,3000,3500,35701,"Mantenimiento y conservación de maquinaria y equipo","VR"]
[null,3000,3500,35702,"Mantenimiento y conservación de plantas e instalaciones productivas","VR"]
[null,3000,3500,3580,"Servicios de limpieza y manejo de desechos","VR"]
[null,3000,3500,3590,"Servicios de jardinería y fumigación","VR"]
[null,3000,3600,null,"Servicios de comunicación social y publicidad"]
[null,3000,3600,3610,"Difusión por radio, televisión y otros medios de mensajes sobre programas y actividades gubernamentales","VR"]
[null,3000,3600,3620,"Difusión por radio, televisión y otros medios de mensajes comerciales para promover la venta de bienes o servicios","VR"]
[null,3000,3600,3630,"Servicios de creatividad, preproducción y producción de publicidad, excepto Internet","VR"]
[null,3000,3600,3640,"Servicios de revelado de fotografías","VR"]
[null,3000,3600,3650,"Servicios de la industria fílmica, del sonido y del video","VR"]
[null,3000,3600,3660,"Servicio de creación y difusión de contenido exclusivamente a través de Internet","VR"]
[null,3000,3600,3690,"Otros servicios de información","VR"]
[null,3000,3700,null,"Servicios de traslado y viáticos"]
[null,3000,3700,3710,"Pasajes aéreos"]
[null,3000,3700,37101,"Pasajes aéreos nacionales para labores en campo y de supervisión","VR"]
[null,3000,3700,37102,"Pasajes aéreos nacionales asociados a los programas de seguridad pública y nacional","VR"]
[null,3000,3700,37103,"Pasajes aéreos nacionales asociados a desastres naturales","VR"]
[null,3000,3700,37104,"Pasajes aéreos nacionales para servidores públicos de mando en el desempeño de comisiones y funciones oficiales","VR"]
[null,3000,3700,37105,"Pasajes aéreos internacionales asociados a los programas de seguridad pública y nacional","VR"]
[null,3000,3700,37106,"Pasajes aéreos internacionales para servidores públicos en el desempeño de comisiones y funciones oficiales","VR"]
[null,3000,3700,3720,"Pasajes terrestres"]
[null,3000,3700,37201,"Pasajes terrestres nacionales para labores en campo y de supervisión","VR"]
[null,3000,3700,37202,"Pasajes terrestres nacionales asociados a los programas de seguridad pública y nacional","VR"]
[null,3000,3700,37203,"Pasajes terrestres nacionales asociados a desastres naturales","VR"]
[null,3000,3700,37204,"Pasajes terrestres nacionales para servidores públicos de mando en el desempeño de comisiones y funciones oficiales","VR"]
[null,3000,3700,37205,"Pasajes terrestres internacionales asociados a los programas de seguridad pública y nacional","VR"]
[null,3000,3700,37206,"Pasajes terrestres internacionales para servidores públicos en el desempeño de comisiones y funciones oficiales","VR"]
[null,3000,3700,37207,"Pasajes terrestres nacionales por medio electrónico","VR"]
[null,3000,3700,3730,"Pasajes marítimos, lacustres y fluviales"]
[null,3000,3700,37301,"Pasajes terrestres nacionales para labores en campo y de supervisión","VR"]
[null,3000,3700,37302,"Pasajes terrestres nacionales asociados a los programas de seguridad pública y nacional","VR"]
[null,3000,3700,37303,"Pasajes terrestres nacionales asociados a desastres naturales","VR"]
[null,3000,3700,37304,"Pasajes terrestres nacionales para servidores públicos de mando en el desempeño de comisiones y funciones oficiales","VR"]
[null,3000,3700,3740,"Autotransporte","VR"]
[null,3000,3700,3750,"Viáticos en el país"]
[null,3000,3700,37501,"Viáticos nacionales para labores en campo y de supervisión","VR"]
[null,3000,3700,37502,"Viáticos nacionales asociados a los programas de seguridad pública y nacional","VR"]
[null,3000,3700,37503,"Viáticos nacionales asociados a desastres naturales","VR"]
[null,3000,3700,37504,"Viáticos nacionales para servidores públicos en el desempeño de funciones oficiales","VR"]
[null,3000,3700,3760,"Viáticos en el extranjero"]
[null,3000,3700,37601,"Viáticos en el extranjero asociados a los programas de seguridad pública y nacional","VR"]
[null,3000,3700,37602,"Viáticos en el extranjero para servidores públicos en el desempeño de comisiones y funciones oficiales","VR"]
[null,3000,3700,3770,"Gastos de instalación y traslado de menaje","VR"]
[null,3000,3700,3780,"Servicios integrales de traslado y viáticos"]
[null,3000,3700,37801,"Servicios integrales nacionales para servidores públicos en el desempeño de comisiones y funciones oficiales","VR"]
[null,3000,3700,37802,"Servicios integrales en el extranjero para servidores públicos en el desempeño de comisiones y funciones oficiales","VR"]
[null,3000,3700,3790,"Otros servicios de traslado y hospedaje","VR"]
[null,3000,3800,null,"Servicios Oficiales"]
[null,3000,3800,3810,"Gastos de ceremonial"]
[null,3000,3800,38101,"Gastos de ceremonial del titular del Ejecutivo Federal","VR"]
[null,3000,3800,38102,"Gastos de ceremonial de los titulares de las dependencias y entidades","VR"]
[null,3000,3800,38103,"Gastos inherentes a la investidura presidencial","VR"]
[null,3000,3800,3820,"Gastos de orden social y cultural","VR"]
[null,3000,3800,3830,"Congresos y convenciones","VR"]
[null,3000,3800,3840,"Exposiciones","VR"]
[null,3000,3800,3850,"Gastos de representación","VR"]
[null,3000,3900,null,"Otros Servicios Generales"]
[null,3000,3900,3910,"Servicios funerarios y de cementerios","VR"]
[null,3000,3900,3920,"Impuestos y derechos"]
[null,3000,3900,39201,"Impuestos y derechos de exportación","VR"]
[null,3000,3900,39202,"Otros impuestos y derechos","VR"]
[null,3000,3900,3930,"Impuestos y derechos de importación","VR"]
[null,3000,3900,3940,"Sentencias y resoluciones por autoridad competente"]
[null,3000,3900,39401,"Erogaciones por resoluciones por autoridad competente","VR"]
[null,3000,3900,39402,"Indemnizaciones por expropiación de predios","VR"]
[null,3000,3900,39403,"Otras asignaciones derivadas de resoluciones de ley","VR"]
[null,3000,3900,3950,"Penas, multas, accesorios y actualizaciones","VR"]
[null,3000,3900,3960,"Otros gastos por responsabilidades"]
[null,3000,3900,39601,"Pérdidas del erario federal","VR"]
[null,3000,3900,39602,"Otros gastos por responsabilidades","VR"]
[null,3000,3900,3970,"Utilidades","VR"]
[null,3000,3900,3980,"Impuesto sobre nóminas y otros que se deriven de una relación laboral","VR"]
[null,3000,3900,3990,"Otros servicios generales"]
[null,3000,3900,39901,"Gastos de las Comisiones Internacionales de Límites y Aguas","VR"]
[null,3000,3900,39902,"Gastos de las oficinas del Servicio Exterior Mexicano","VR"]
[null,3000,3900,39904,"Participaciones en Órganos de Gobierno","VR"]
[null,3000,3900,39905,"Actividades de Coordinación con el Presidente Electo","VR"]
[null,3000,3900,39906,"Servicios Corporativos prestados por las Entidades Paraestatales a sus organismos","VR"]
[null,3000,3900,39907,"Servicios prestados entre Organismos de una Entidad Paraestatal","VR"]
[null,3000,3900,39908,"Erogaciones por cuenta de terceros","VR"]
[null,3000,3900,39909,"Erogaciones recuperables","VR"]
[null,3000,3900,39910,"Apertura de Fondo Rotatorio","VR"]
[null,4000,null,null,"Transferencias, Asignaciones, Subsidios y Otras Ayudas"]
[null,4000,4100,null,"Transferencias internas y asignaciones al sector público"]
[null,4000,4100,4110,"Asignaciones presupuestarias al Poder Ejecutivo","VR"]
[null,4000,4100,4120,"Asignaciones presupuestarias al Poder Legislativo","VR"]
[null,4000,4100,4130,"Asignaciones presupuestarias al Poder Judicial","VR"]
[null,4000,4100,4140,"Asignaciones presupuestarias a Órganos Autónomos","VR"]
[null,4000,4100,4150,"Transferencias internas otorgadas a entidades paraestatales no empresariales y no financieras","VR"]
[null,4000,4100,4160,"Transferencias internas otorgadas a entidades paraestatales empresariales y no financieras","VR"]
[null,4000,4100,4170,"Transferencias internas otorgadas a fideicomisos públicos empresariales y no financieros","VR"]
[null,4000,4100,4180,"Transferencias internas otorgadas a instituciones paraestatales públicas financieras","VR"]
[null,4000,4100,4190,"Transferencias internas otorgadas a fideicomisos públicos financieros","VR"]
[null,4000,4200,null,"Transferencias al resto del sector público"]
[null,4000,4200,4210,"Transferencias otorgadas a entidades paraestatales no empresariales y no financieras","VR"]
[null,4000,4200,4220,"Transferencias otorgadas para entidades paraestatales empresariales y no financieras","VR"]
[null,4000,4200,4230,"Transferencias otorgadas para instituciones paraestatales públicas financieras","VR"]
[null,4000,4200,4240,"Transferencias otorgadas a entidades federativas y municipios","VR"]
[null,4000,4200,4250,"Transferencias a fideicomisos de entidades federativas y municipios","VR"]
[null,4000,4300,null,"Subsidios y Subvenciones"]
[null,4000,4300,4310,"Subsidios a la producción","VR"]
[null,4000,4300,4320,"Subsidios a la distribución","VR"]
[null,4000,4300,4330,"Subsidios a la inversión","VR"]
[null,4000,4300,4340,"Subsidios a la prestación de servicios públicos","VR"]
[null,4000,4300,4350,"Subsidios para cubrir diferenciales de tasas de interés","VR"]
[null,4000,4300,4360,"Subsidios a la vivienda","VR"]
[null,4000,4300,4370,"Subvenciones al consumo","VR"]
[null,4000,4300,4380,"Subsidios a las Entidades Federativas y Municipios","VR"]
[null,4000,4300,4390,"Otros Subsidios"]
[null,4000,4300,43901,"Subsidios para capacitación y becas","VR"]
[null,4000,4300,43902,"Subsidios a fideicomisos privados y estatales","VR"]
[null,4000,4400,null,"Ayudas Sociales"]
[null,4000,4400,4410,"Ayudas sociales a personas"]
[null,4000,4400,44101,"Gastos relacionados con actividades culturales, deportivas y de ayuda extraordinaria","VR"]
[null,4000,4400,44102,"Gastos por servicios de traslado de personas","VR"]
[null,4000,4400,44103,"Premios, recompensas, pensiones de gracia y pensión recreativa estudiantil","VR"]
[null,4000,4400,44104,"Premios, estímulos, recompensas, becas y seguros a deportistas","VR"]
[null,4000,4400,44105,"Apoyo a voluntarios que participan en diversos programas federales","VR"]
[null,4000,4400,44106,"Compensaciones por servicios de carácter social","VR"]
[null,4000,4400,4420,"Becas y otras ayudas para programas de capacitación","VR"]
[null,4000,4400,4430,"Ayudas sociales a instituciones de enseñanza","VR"]
[null,4000,4400,4440,"Ayudas sociales a actividades científicas o académicas"]
[null,4000,4400,44401,"Apoyos a la investigación científica y tecnológica de instituciones académicas y sector público","VR"]
[null,4000,4400,44402,"Apoyos a la investigación científica y tecnológica en instituciones sin fines de lucro","VR"]
[null,4000,4400,4450,"Ayudas sociales a instituciones sin fines de lucro","VR"]
[null,4000,4400,4460,"Ayudas sociales a cooperativas","VR"]
[null,4000,4400,4470,"Ayudas sociales a entidades de interés público","VR"]
[null,4000,4400,4480,"Ayudas por desastres naturales y otros siniestros","VR"]
[null,4000,4500,null,"Pensiones y Jubilaciones"]
[null,4000,4500,4510,"Pensiones","VR"]
[null,4000,4500,4520,"Jubilaciones"]
[null,4000,4500,45201,"Pago de pensiones y jubilaciones","VR"]
[null,4000,4500,45202,"Pago de pensiones y jubilaciones contractuales","VR"]
[null,4000,4500,45203,"Transferencias para el pago de pensiones y jubilaciones","VR"]
[null,4000,4500,4590,"Otras pensiones y jubilaciones"]
[null,4000,4500,45901,"Pago de sumas aseguradas","VR"]
[null,4000,4500,45902,"Prestaciones económicas distintas de pensiones y jubilaciones","VR"]
[null,4000,4600,null,"Transferencias a Fideicomisos, Mandatos y Otros Análogos"]
[null,4000,4600,4610,"Transferencias a fideicomisos del Poder Ejecutivo"]
[null,4000,4600,46101,"Aportaciones a fideicomisos públicos","VR"]
[null,4000,4600,46102,"Aportaciones a mandatos públicos","VR"]
[null,4000,4600,4620,"Transferencias a fideicomisos del Poder Legislativo","VR"]
[null,4000,4600,4630,"Transferencias a fideicomisos del Poder Judicial","VR"]
[null,4000,4600,4640,"Transferencias a fideicomisos públicos de entidades paraestatales no empresariales y no financieras","VR"]
[null,4000,4600,4650,"Transferencias a fideicomisos públicos de entidades paraestatales empresariales y no financieras","VR"]
[null,4000,4600,4660,"Transferencias a fideicomisos de instituciones públicas financieras","VR"]
[null,4000,4600,4690,"Otras transferencias a fideicomisos","VR"]
[null,4000,4700,null,"Transferencias a la Seguridad Social"]
[null,4000,4700,4710,"Transferencias por obligación de ley"]
[null,4000,4700,47101,"Trasferencias para cuotas y aportaciones de seguridad social para el IMSS, ISSSTE e ISSFAM por obligación del Estado","VR"]
[null,4000,4700,47102,"Transferencias para cuotas y aportaciones a los seguros de retiro, cesantía en edad avanzada y vejez","VR"]
[null,4000,4800,null,"Donativos"]
[null,4000,4800,4810,"Donativos a instituciones sin fines de lucro","VR"]
[null,4000,4800,4820,"Donativos a entidades federativas","VR"]
[null,4000,4800,4830,"Donativos a fideicomisos privados","VR"]
[null,4000,4800,4840,"Donativos a fideicomisos estatales","VR"]
[null,4000,4800,4850,"Donativos internacionales","VR"]
[null,4000,4900,null,"Transferencias al Exterior"]
[null,4000,4900,4910,"Transferencias para gobiernos extranjeros","VR"]
[null,4000,4900,4920,"Transferencias para organismos internacionales"]
[null,4000,4900,49201,"Cuotas y aportaciones a organismos internacionales","VR"]
[null,4000,4900,49202,"Otras aportaciones internacionales","VR"]
[null,4000,4900,4930,"Transferencias para el sector privado externo","VR"]
[null,7000,null,null,"Inversiones Financieras y Otras Provisiones"]
[null,7000,7100,null,"Inversiones para el Fomento de Actividades Productivas"]
[null,7000,7100,7110,"Créditos otorgados por entidades federativas y municipios al sector social y privado para el fomento de actividades productivas","VR"]
[null,7000,7100,7120,"Créditos otorgados por las entidades federativas a municipios para el fomento de actividades productivas","VR"]
[null,7000,7200,null,"Acciones y Participaciones de Capital"]
[null,7000,7200,7210,"Acciones y participaciones de capital en entidades paraestatales no empresariales y no financieras con fines de política económica","VR"]
[null,7000,7200,7220,"Acciones y participaciones de capital en entidades paraestatales empresariales y no financieras con fines de política económica","VR"]
[null,7000,7200,7230,"Acciones y participaciones de capital en instituciones paraestatales públicas financieras con fines de política económica","VR"]
[null,7000,7200,7240,"Acciones y participaciones de capital en el sector privado con fines de política económica","VR"]
[null,7000,7200,7250,"Acciones y participaciones de capital en organismos internacionales con fines de política económica","VR"]
[null,7000,7200,7260,"Acciones y participaciones de capital en el sector externo con fines de política económica","VR"]
[null,7000,7200,7270,"Acciones y participaciones de capital en el sector público con fines de gestión de liquidez","VR"]
[null,7000,7200,7280,"Acciones y participaciones de capital en el sector privado con fines de gestión de liquidez","VR"]
[null,7000,7200,7290,"Acciones y participaciones de capital en el sector externo con fines de gestión de liquidez","VR"]
[null,7000,7300,null,"Compra de Títulos y Valores"]
[null,7000,7300,7310,"Bonos","VR"]
[null,7000,7300,7320,"Valores representativos de deuda adquiridos con fines de política económica","VR"]
[null,7000,7300,7330,"Valores representativos de deuda adquiridos con fines de gestión de liquidez","VR"]
[null,7000,7300,7340,"Obligaciones negociables adquiridas con fines de política económica","VR"]
[null,7000,7300,7350,"Obligaciones negociables adquiridas con fines de gestión de liquidez","VR"]
[null,7000,7300,7390,"Otros valores"]
[null,7000,7300,73901,"Fideicomisos para adquisición de títulos de crédito","VR"]
[null,7000,7300,73902,"Adquisición de acciones","VR"]
[null,7000,7300,73903,"Adquisición de otros valores","VR"]
[null,7000,7400,null,"Concesión de Préstamos"]
[null,7000,7400,7410,"Concesión de préstamos a entidades paraestatales no empresariales y no financieras con fines de política económica","VR"]
[null,7000,7400,7420,"Concesión de préstamos a entidades paraestatales empresariales y no financieras con fines de política económica","VR"]
[null,7000,7400,7430,"Concesión de préstamos a instituciones paraestatales públicas financieras con fines de política económica","VR"]
[null,7000,7400,7440,"Concesión de préstamos a entidades federativas y municipios con fines de política económica","VR"]
[null,7000,7400,7450,"Concesión de préstamos al sector privado con fines de política económica"]
[null,7000,7400,74501,"Créditos directos para actividades productivas otorgados al sector privado con fines de política económica","VR"]
[null,7000,7400,74502,"Fideicomisos para financiamiento de obras","VR"]
[null,7000,7400,74503,"Fideicomisos para financiamientos agropecuarios","VR"]
[null,7000,7400,74504,"Fideicomisos para financiamientos industriales","VR"]
[null,7000,7400,74505,"Fideicomisos para financiamientos al comercio y otros servicios","VR"]
[null,7000,7400,74506,"Fideicomisos para financiamientos de vivienda","VR"]
[null,7000,7400,7460,"Concesión de préstamos al sector externo con fines de política económica","VR"]
[null,7000,7400,7470,"Concesión de préstamos al sector público con fines de gestión de liquidez","VR"]
[null,7000,7400,7480,"Concesión de préstamos al sector privado con fines de gestión de liquidez","VR"]
[null,7000,7400,7490,"Concesión de préstamos al sector externo con fines de gestión de liquidez","VR"]
[null,7000,7500,null,"Inversiones en Fideicomisos, Mandatos y Otros Análogos"]
[null,7000,7500,7510,"Inversiones en fideicomisos del Poder Ejecutivo","VR"]
[null,7000,7500,7520,"Inversiones en fideicomisos del Poder Legislativo","VR"]
[null,7000,7500,7530,"Inversiones en fideicomisos del Poder Judicial","VR"]
[null,7000,7500,7540,"Inversiones en fideicomisos públicos no empresariales y no financieros","VR"]
[null,7000,7500,7550,"Inversiones en fideicomisos públicos empresariales y no financieros","VR"]
[null,7000,7500,7560,"Inversiones en fideicomisos públicos financieros"]
[null,7000,7500,75601,"Inversiones en fideicomisos públicos considerados entidades paraestatales","VR"]
[null,7000,7500,75602,"Inversiones en mandatos y otros análogos","VR"]
[null,7000,7500,7570,"Inversiones en fideicomisos de entidades federativas","VR"]
[null,7000,7500,7580,"Inversiones en fideicomisos de municipios","VR"]
[null,7000,7500,7590,"Otras inversiones en fideicomisos","VR"]
[null,7000,7600,null,"Otras Inversiones Financieras"]
[null,7000,7600,7610,"Depósitos a largo plazo en moneda nacional","VR"]
[null,7000,7600,7620,"Depósitos a largo plazo en moneda extranjera","VR"]
[null,7000,7900,null,"Provisiones para Contingencias y Otras Erogaciones Especiales"]
[null,7000,7900,7910,"Contingencias por fenómenos naturales","VR"]
[null,7000,7900,7920,"Contingencias socioeconómicas","VR"]
[null,7000,7900,7990,"Otras erogaciones especiales"]
[null,7000,7900,79901,"Erogaciones contingentes","VR"]
[null,7000,7900,79902,"Provisiones para Erogaciones Especiales","VR"]
[null,2,null,null,"Gasto de inversión"]
[null,5000,null,null,"Bienes Muebles, Inmuebles e Intangibles"]
[null,5000,5100,null,"Mobiliario y Equipo de Administración"]
[null,5000,5100,5110,"Muebles de oficina y estantería","VR"]
[null,5000,5100,5120,"Muebles, excepto de oficina y estantería","VR"]
[null,5000,5100,5130,"Bienes artísticos, culturales y científicos","VR"]
[null,5000,5100,5140,"Objetos de valor","VR"]
[null,5000,5100,5150,"Equipo de cómputo y de tecnologías de la información","VR"]
[null,5000,5100,5190,"Otros mobiliarios y equipos de administración"]
[null,5000,5100,51901,"Equipo de administración","VR"]
[null,5000,5100,51902,"Adjudicaciones, expropiaciones e indemnizaciones de bienes muebles","VR"]
[null,5000,5200,null,"Mobiliario y Equipo Educacional y Recreativo"]
[null,5000,5200,5210,"Equipos y aparatos audiovisuales","VR"]
[null,5000,5200,5220,"Aparatos deportivos","VR"]
[null,5000,5200,5230,"Cámaras fotográficas y de video","VR"]
[null,5000,5200,5290,"Otro mobiliario y equipo educacional y recreativo","VR"]
[null,5000,5300,null,"Equipo e Instrumental Médico y de Laboratorio"]
[null,5000,5300,5310,"Equipo médico y de laboratorio","VR"]
[null,5000,5300,5320,"Instrumental médico y de laboratorio","VR"]
[null,5000,5400,null,"Vehículos y Equipo de Transporte"]
[null,5000,5400,5410,"Vehículos y Equipo Terrestre"]
[null,5000,5400,54101,"Vehículos y equipo terrestres, para la ejecución de programas de seguridad pública y nacional","VR"]
[null,5000,5400,54102,"Vehículos y equipo terrestres, destinados exclusivamente para desastres naturales","VR"]
[null,5000,5400,54103,"Vehículos y equipo terrestres, destinados a servicios públicos y la operación de programas públicos","VR"]
[null,5000,5400,54104,"Vehículos y equipo terrestres, destinados a servicios administrativos","VR"]
[null,5000,5400,54105,"Vehículos y equipo terrestres, destinados a servidores públicos","VR"]
[null,5000,5400,5420,"Carrocerías y remolques","VR"]
[null,5000,5400,5430,"Equipo aeroespacial"]
[null,5000,5400,54301,"Vehículos y equipo aéreo, para la ejecución de programas de seguridad pública y nacional","VR"]
[null,5000,5400,54302,"Vehículos y equipo aéreo, destinados exclusivamente para desastres naturales","VR"]
[null,5000,5400,54303,"Vehículos y equipo aéreo, destinados a servicios públicos y la operación de programas públicos","VR"]
[null,5000,5400,5440,"Equipo ferroviario","VR"]
[null,5000,5400,5450,"Embarcaciones"]
[null,5000,5400,54501,"Vehículos y equipo marítimo, para la ejecución de programas de seguridad pública y nacional","VR"]
[null,5000,5400,54502,"Vehículos y equipo marítimo, destinados a servicios públicos y la operación de programas públicos","VR"]
[null,5000,5400,54503,"Construcción de embarcaciones","VR"]
[null,5000,5400,5490,"Otros equipos de transporte","VR"]
[null,5000,5500,null,"Equipo de Defensa y Seguridad"]
[null,5000,5500,5510,"Equipo de defensa y seguridad"]
[null,5000,5500,55101,"Maquinaria y equipo de defensa y seguridad pública","VR"]
[null,5000,5500,55102,"Equipo de seguridad pública y nacional","VR"]
[null,5000,5600,null,"Maquinaria, Otros Equipos y Herramientas"]
[null,5000,5600,5610,"Maquinaria y equipo agropecuario","VR"]
[null,5000,5600,5620,"Maquinaria y equipo industrial","VR"]
[null,5000,5600,5630,"Maquinaria y equipo de construcción","VR"]
[null,5000,5600,5640,"Sistemas de aire acondicionado, calefacción y de refrigeración industrial y comercial","VR"]
[null,5000,5600,5650,"Equipo de comunicación y telecomunicación","VR"]
[null,5000,5600,5660,"Equipos de generación eléctrica, aparatos y accesorios eléctricos","VR"]
[null,5000,5600,5670,"Herramientas y máquinas-herramienta","VR"]
[null,5000,5600,5690,"Otros equipos"]
[null,5000,5600,56901,"Bienes muebles por arrendamiento financiero","VR"]
[null,5000,5600,56902,"Otros bienes muebles","VR"]
[null,5000,5700,null,"Activos Biológicos"]
[null,5000,5700,5710,"Bovinos","VR"]
[null,5000,5700,5720,"Porcinos","VR"]
[null,5000,5700,5730,"Aves","VR"]
[null,5000,5700,5740,"Ovinos y caprinos","VR"]
[null,5000,5700,5750,"Peces y acuicultura","VR"]
[null,5000,5700,5760,"Equinos","VR"]
[null,5000,5700,5770,"Especies menores y de zoológico","VR"]
[null,5000,5700,5780,"Árboles y plantas","VR"]
[null,5000,5700,5790,"Otros activos biológicos","VR"]
[null,5000,5800,null,"Bienes Inmuebles"]
[null,5000,5800,5810,"Terrenos","VR"]
[null,5000,5800,5820,"Viviendas","VR"]
[null,5000,5800,5830,"Edificios no residenciales","VR"]
[null,5000,5800,5890,"Otros bienes inmuebles"]
[null,5000,5800,58901,"Adjudicaciones, expropiaciones e indemnizaciones de inmuebles","VR"]
[null,5000,5800,58902,"Bienes inmuebles en la modalidad de proyectos de infraestructura productiva de largo plazo","VR"]
[null,5000,5800,58903,"Bienes inmuebles por arrendamiento financiero","VR"]
[null,5000,5800,58904,"Otros bienes inmuebles","VR"]
[null,5000,5900,null,"Activos Intangibles"]
[null,5000,5900,5910,"Software","VR"]
[null,5000,5900,5920,"Patentes","VR"]
[null,5000,5900,5930,"Marcas","VR"]
[null,5000,5900,5940,"Derechos","VR"]
[null,5000,5900,5950,"Concesiones","VR"]
[null,5000,5900,5960,"Franquicias","VR"]
[null,5000,5900,5970,"Licencias informáticas e intelectuales","VR"]
[null,5000,5900,5980,"Licencias industriales, comerciales y otras","VR"]
[null,5000,5900,5990,"Otros activos intangibles","VR"]
[null,6000,null,null,"Inversión Pública"]
[null,6000,6100,null,"Obra Pública en Bienes de Dominio Público"]
[null,6000,6100,6110,"Edificación habitacional","VR"]
[null,6000,6100,6120,"Edificación no habitacional","VR"]
[null,6000,6100,6130,"Construcción de obras para el abastecimiento de agua, petróleo, gas, electricidad y telecomunicaciones","VR"]
[null,6000,6100,6140,"División de terrenos y construcción de obras de urbanización","VR"]
[null,6000,6100,6150,"Construcción de vías de comunicación","VR"]
[null,6000,6100,6160,"Otras construcciones de ingeniería civil u obra pesada","VR"]
[null,6000,6100,6170,"Instalaciones y equipamiento en construcciones","VR"]
[null,6000,6100,6190,"Trabajos de acabados en edificaciones y otros trabajos especializados","VR"]
[null,6000,6200,null,"Obra Pública en Bienes Propios"]
[null,6000,6200,6210,"Edificación habitacional"]
[null,6000,6200,62101,"Obras de construcción para edificios habitacionales","VR"]
[null,6000,6200,62102,"Mantenimiento y rehabilitación de edificaciones habitacionales","VR"]
[null,6000,6200,6220,"Edificación no habitacional"]
[null,6000,6200,62201,"Obras de construcción para edificios no habitacionales","VR"]
[null,6000,6200,62202,"Mantenimiento y rehabilitación de edificaciones no habitacionales","VR"]
[null,6000,6200,6230,"Construcción de obras para el abastecimiento de agua, petróleo, gas, electricidad y telecomunicaciones"]
[null,6000,6200,62301,"Construcción de obras para el abastecimiento de agua, petróleo, gas, electricidad y telecomunicaciones","VR"]
[null,6000,6200,62302,"Mantenimiento y rehabilitación de obras para el abastecimiento de agua, petróleo, gas, electricidad y telecomunicaciones","VR"]
[null,6000,6200,6240,"División de terrenos y construcción de obras de urbanización"]
[null,6000,6200,62401,"Obras de preedificación en terrenos de construcción","VR"]
[null,6000,6200,62402,"Construcción de obras de urbanización","VR"]
[null,6000,6200,62403,"Mantenimiento y rehabilitación de obras de urbanización","VR"]
[null,6000,6200,6250,"Construcción de vías de comunicación"]
[null,6000,6200,62501,"Construcción de vías de comunicación","VR"]
[null,6000,6200,62502,"Mantenimiento y rehabilitación de las vías de comunicación","VR"]
[null,6000,6200,6260,"Otras construcciones de ingeniería civil u obra pesada"]
[null,6000,6200,62601,"Otras construcciones de ingeniería civil u obra pesada","VR"]
[null,6000,6200,62602,"Mantenimiento y rehabilitación de otras obras de ingeniería civil u obras pesadas","VR"]
[null,6000,6200,6270,"Instalaciones y equipamiento en construcciones","VR"]
[null,6000,6200,6290,"Trabajos de acabados en edificaciones y otros trabajos especializados"]
[null,6000,6200,62901,"Ensamble y edificación de construcciones prefabricadas","VR"]
[null,6000,6200,62902,"Obras de terminación y acabado de edificios","VR"]
[null,6000,6200,62903,"Servicios de supervisión de obras","VR"]
[null,6000,6200,62904,"Servicios para la liberación de derechos de vía","VR"]
[null,6000,6200,62905,"Otros servicios relacionados con obras públicas","VR"]
[null,6000,6300,null,"Proyectos Productivos y Acciones de Fomento"]
[null,6000,6300,6310,"Estudios, formulación y evaluación de proyectos productivos no incluidos en conceptos anteriores de este capítulo","VR"]
[null,6000,6300,6320,"Ejecución de proyectos productivos no incluidos en conceptos anteriores de este capítulo","VR"]
[null,9000,null,null,"Deuda pública"]
[null,9000,9900,null,"Adeudos De Ejercicios Fiscales Anteriores (ADEFAS)"]
[null,9000,9900,9910,"ADEFAS","VR"]